Workbook

Sheet Documentation
B2: Life Insurance Practice Committee (LIPC)
B3: Technical Paper: IBNR
B4: Accompanying spreadsheet
B5: Oct 2026
B7: About this Spreadsheet
B9: Document Information and Version Control
B10: Document name: IBNR Technical Paper Examples Spreadsheet
B11: Version: | C11: 5
B12: Issue date: | C12: Oct 2026
B13: Authors: (alphabetical order) | C13: Byth, S; Goh, Y; Hudson, L; Jorgensen, F; Katon, A; Robertson-Hodder, C; Tsang, E; Yellowlees, C
B16: Copyright notice
B17: (c) Institute of Actuaries of Australia (ABN 69 000 423 656)
B18: Express written permission of the copyright owner is required to reproduce the whole, or any part of thereof, in any manner.
B21: Purpose and Limitations
B22: This spreadsheet was developed by the authors of the IBNR Technical Paper issued by the LIPC.
B23: The purpose of this spreadsheet is to assist readers of the Technical Paper in more readily understanding
B24: the methods described by providing worked examples.
B25: The data used is fictitious and should not be relied on beyond the examples for which it has been supplied.
B28: Document Map
B29: Tab | C29: Brief description
B30: Assumptions | C30: This tab describes the methodology and assumptions used
B31: Claims Data | C31: Sample claims data used in the worked examples.
B32: Premium and Membership Data | C32: Sample premium and membership data used in the worked examples.
B33: Chain Ladder - Count | C33: Example of the Chain Ladder Method based on claim counts. Two variations are provided:
D34: i) Based on all the periods.
D35: ii) Based on the last 16 notification quarters.
B36: Chain Ladder - Amount | C36: Example of the Chain Ladder Method based on claim amounts. Two variations are provided:
D37: i) Based on all the periods.
D38: ii) Based on the last 16 notification quarters.
B39: B-F Method | C39: Example of the Bornhuetter-Ferguson method.
B40: Additive | C40: Example of the Additive Method. Two variations are provided:
D41: i) Based on incremental count, all periods.
D42: ii) Based on incremental count, last 16 notification quarters.
B43: Summary | C43: A summary of results of the different methods to enable a comparison of the results.
B44: Chart | C44: A chart comparing the results across the different methods.

Sheet Assumptions
B2: Methodology and Assumptions
B3: This tab describes the methodology and assumptions used
B5: Assumptions applicable to all methods
B7: Discount rate | D7: In practice, it is usual to discount expected future claims back to the point of premium receipt (in relation to those claims).
D8: The impact can be quite significant, especially for TPD as the average claim reporting delay may be as long as three years (or even longer).
D9: However, for simplicity, no discounting has been applied in these examples.
B11: Pending and Declined Claims | D11: A uniform acceptance rate of 90% (that is, a declined rate of 10%) has been applied to all pending TPD claims.
C12: Oct 2026 | D12: In practice, the decline rate assumption may vary by reporting delay. However, any decision to use more granular assumptions
D13: must be balanced by the reduced credibility associated with that assumption.
D14: Declined claims have been excluded from the analysis.
B16: Premium and Claims Benefit Scales | D16: The examples assume that there has been no premium rate or benefit scale changes over time or that any past changes in premium rate or benefit scale
D17: have been converted to the latest basis.
B19: Allowance for long delay claims | D19: As a simplifying assumption, no allowance has been made for claims after 8 years in this spreadsheet. In practice, allowance may be needed for claims notified later than this.
B21: Chain Ladder method (count based)
B22: Average claim size | D22: This has been set as the overall average claim size of reported claims. In practice, it is possible to assume a different
D23: average claim size based on reporting delay. The use of a single average claim size is a simplifying assumption for illustration purposes.
D24: In practice, average claim sizes may vary materially by development delay, particularly for DI and group TPD (see Section 5.4 of the accompanying Technical Paper).
B26: Bornhuetter-Ferguson Method
B27: Assumed Loss Ratio | D27: This has been set as 80% for every incurred year. In practice, it is possible to set a different expected loss ratio for each year.
B29: TPD premium as % of total premium | D29: In this example, total premiums received are available, but the TPD portion of these premiums is not. This is not dissimilar to some situations encountered
D30: in real life. For the purposes of this example, TPD premiums have been assumed to be 50% of total premiums received.
B32: Array of Outstanding Proportions | D32: As noted in the example, the array of Outstanding Proportions for each Event Quarter in the B-F Method has been set from the
D33: Chain Ladder Method based on the last 16 notification quarters. In practice, this array of outstanding proportions would be set from a more developed dataset.

Sheet Data -->

Sheet Claims Data
B2: Claims Data
B4: Benefit | D4: Death | E4: Terminal Illness | F4: TPD
B5: Total sum insured | D5: {=SUMPRODUCT((B10:B9996="DTH")*H10:H9996*L10:L9996)} -> 164113000 | E5: {=SUMPRODUCT((B10:B9996="ILL")*H10:H9996*L10:L9996)} -> 9800000 | F5: {=SUMPRODUCT((B10:B9996="TPD")*H10:H9996*L10:L9996)} -> 106940800
B6: Total claims included | D6: {=SUMPRODUCT((B10:B9996="DTH")*L10:L9996)} -> 2644 | E6: {=SUMPRODUCT((B10:B9996="ILL")*L10:L9996)} -> 224 | F6: {=SUMPRODUCT((B10:B9996="TPD")*L10:L9996)} -> 2258.6
B7: Average claim size | D7: =D5/D6 -> 62069.97 | E7: =E5/E6 -> 43750 | F7: =F5/F6 -> 47348.269
B9: Claim Type | C9: Claim Status | D9: Age Last Birthday | E9: Occ Class | F9: Date Notified | G9: Date of Event | H9: SI | I9: Incurred Quarter | J9: Development Yr | K9: Development Qtr | L9: Weight
B10: DTH | C10: Admitted | D10: 40 | E10: STD | F10: 42440 | G10: 42399 | H10: 74000 | I10: =YEAR(G10)&"Q"&ROUNDUP(MONTH(G10)/3,0) -> 2016Q1 | J10: =YEAR(F10)-YEAR(G10) -> 0 | K10: =(YEAR(F10)*4+ROUNDDOWN((MONTH(F10)-1)/3,0)) -(YEAR(G10)*4+ROUNDDOWN((MONTH(G10)-1)/3,0)) -> 0 | L10: =IF(C10="Declined",0,IF(C10="Admitted",1,IF(B10="TPD",0.8,1))) -> 1
B11: DTH | C11: Admitted | D11: 20 | E11: STD | F11: 42476 | G11: 42402 | H11: 100000 | I11: =YEAR(G11)&"Q"&ROUNDUP(MONTH(G11)/3,0) -> 2016Q1 | J11: =YEAR(F11)-YEAR(G11) -> 0 | K11: =(YEAR(F11)*4+ROUNDDOWN((MONTH(F11)-1)/3,0)) -(YEAR(G11)*4+ROUNDDOWN((MONTH(G11)-1)/3,0)) -> 1 | L11: =IF(C11="Declined",0,IF(C11="Admitted",1,IF(B11="TPD",0.8,1))) -> 1
B12: DTH | C12: Admitted | D12: 41 | E12: STD | F12: 42476 | G12: 42413 | H12: 68000 | I12: =YEAR(G12)&"Q"&ROUNDUP(MONTH(G12)/3,0) -> 2016Q1 | J12: =YEAR(F12)-YEAR(G12) -> 0 | K12: =(YEAR(F12)*4+ROUNDDOWN((MONTH(F12)-1)/3,0)) -(YEAR(G12)*4+ROUNDDOWN((MONTH(G12)-1)/3,0)) -> 1 | L12: =IF(C12="Declined",0,IF(C12="Admitted",1,IF(B12="TPD",0.8,1))) -> 1
B13: DTH | C13: Admitted | D13: 58 | E13: STD | F13: 42476 | G13: 42446 | H13: 12000 | I13: =YEAR(G13)&"Q"&ROUNDUP(MONTH(G13)/3,0) -> 2016Q1 | J13: =YEAR(F13)-YEAR(G13) -> 0 | K13: =(YEAR(F13)*4+ROUNDDOWN((MONTH(F13)-1)/3,0)) -(YEAR(G13)*4+ROUNDDOWN((MONTH(G13)-1)/3,0)) -> 1 | L13: =IF(C13="Declined",0,IF(C13="Admitted",1,IF(B13="TPD",0.8,1))) -> 1
B14: DTH | C14: Admitted | D14: 46 | E14: STD | F14: 42477 | G14: 42410 | H14: 43000 | I14: =YEAR(G14)&"Q"&ROUNDUP(MONTH(G14)/3,0) -> 2016Q1 | J14: =YEAR(F14)-YEAR(G14) -> 0 | K14: =(YEAR(F14)*4+ROUNDDOWN((MONTH(F14)-1)/3,0)) -(YEAR(G14)*4+ROUNDDOWN((MONTH(G14)-1)/3,0)) -> 1 | L14: =IF(C14="Declined",0,IF(C14="Admitted",1,IF(B14="TPD",0.8,1))) -> 1
B15: DTH | C15: Admitted | D15: 33 | E15: STD | F15: 42478 | G15: 42442 | H15: 94000 | I15: =YEAR(G15)&"Q"&ROUNDUP(MONTH(G15)/3,0) -> 2016Q1 | J15: =YEAR(F15)-YEAR(G15) -> 0 | K15: =(YEAR(F15)*4+ROUNDDOWN((MONTH(F15)-1)/3,0)) -(YEAR(G15)*4+ROUNDDOWN((MONTH(G15)-1)/3,0)) -> 1 | L15: =IF(C15="Declined",0,IF(C15="Admitted",1,IF(B15="TPD",0.8,1))) -> 1
B16: DTH | C16: Admitted | D16: 19 | E16: STD | F16: 42484 | G16: 42375 | H16: 100000 | I16: =YEAR(G16)&"Q"&ROUNDUP(MONTH(G16)/3,0) -> 2016Q1 | J16: =YEAR(F16)-YEAR(G16) -> 0 | K16: =(YEAR(F16)*4+ROUNDDOWN((MONTH(F16)-1)/3,0)) -(YEAR(G16)*4+ROUNDDOWN((MONTH(G16)-1)/3,0)) -> 1 | L16: =IF(C16="Declined",0,IF(C16="Admitted",1,IF(B16="TPD",0.8,1))) -> 1
B17: DTH | C17: Admitted | D17: 55 | E17: STD | F17: 42484 | G17: 42435 | H17: 20000 | I17: =YEAR(G17)&"Q"&ROUNDUP(MONTH(G17)/3,0) -> 2016Q1 | J17: =YEAR(F17)-YEAR(G17) -> 0 | K17: =(YEAR(F17)*4+ROUNDDOWN((MONTH(F17)-1)/3,0)) -(YEAR(G17)*4+ROUNDDOWN((MONTH(G17)-1)/3,0)) -> 1 | L17: =IF(C17="Declined",0,IF(C17="Admitted",1,IF(B17="TPD",0.8,1))) -> 1
B18: TPD | C18: Declined | D18: 40 | E18: STD | F18: 42490 | G18: 42455 | H18: 74000 | I18: =YEAR(G18)&"Q"&ROUNDUP(MONTH(G18)/3,0) -> 2016Q1 | J18: =YEAR(F18)-YEAR(G18) -> 0 | K18: =(YEAR(F18)*4+ROUNDDOWN((MONTH(F18)-1)/3,0)) -(YEAR(G18)*4+ROUNDDOWN((MONTH(G18)-1)/3,0)) -> 1 | L18: =IF(C18="Declined",0,IF(C18="Admitted",1,IF(B18="TPD",0.8,1))) -> 0
B19: DTH | C19: Admitted | D19: 45 | E19: STD | F19: 42492 | G19: 42423 | H19: 47000 | I19: =YEAR(G19)&"Q"&ROUNDUP(MONTH(G19)/3,0) -> 2016Q1 | J19: =YEAR(F19)-YEAR(G19) -> 0 | K19: =(YEAR(F19)*4+ROUNDDOWN((MONTH(F19)-1)/3,0)) -(YEAR(G19)*4+ROUNDDOWN((MONTH(G19)-1)/3,0)) -> 1 | L19: =IF(C19="Declined",0,IF(C19="Admitted",1,IF(B19="TPD",0.8,1))) -> 1
B20: DTH | C20: Admitted | D20: 53 | E20: STD | F20: 42492 | G20: 42452 | H20: 25000 | I20: =YEAR(G20)&"Q"&ROUNDUP(MONTH(G20)/3,0) -> 2016Q1 | J20: =YEAR(F20)-YEAR(G20) -> 0 | K20: =(YEAR(F20)*4+ROUNDDOWN((MONTH(F20)-1)/3,0)) -(YEAR(G20)*4+ROUNDDOWN((MONTH(G20)-1)/3,0)) -> 1 | L20: =IF(C20="Declined",0,IF(C20="Admitted",1,IF(B20="TPD",0.8,1))) -> 1
B21: DTH | C21: Admitted | D21: 28 | E21: STD | F21: 42493 | G21: 42443 | H21: 100000 | I21: =YEAR(G21)&"Q"&ROUNDUP(MONTH(G21)/3,0) -> 2016Q1 | J21: =YEAR(F21)-YEAR(G21) -> 0 | K21: =(YEAR(F21)*4+ROUNDDOWN((MONTH(F21)-1)/3,0)) -(YEAR(G21)*4+ROUNDDOWN((MONTH(G21)-1)/3,0)) -> 1 | L21: =IF(C21="Declined",0,IF(C21="Admitted",1,IF(B21="TPD",0.8,1))) -> 1
... B5340: TPD | C5340: Pending | D5340: 61 | E5340: STD | F5340: 45655 | G5340: 45565 | H5340: 20000 | I5340: =YEAR(G5340)&"Q"&ROUNDUP(MONTH(G5340)/3,0) -> 2024Q3 | J5340: =YEAR(F5340)-YEAR(G5340) -> 0 | K5340: =(YEAR(F5340)*4+ROUNDDOWN((MONTH(F5340)-1)/3,0)) -(YEAR(G5340)*4+ROUNDDOWN((MONTH(G5340)-1)/3,0)) -> 1 | L5340: =IF(C5340="Declined",0,IF(C5340="Admitted",1,IF(B5340="TPD",0.8,1))) -> 0.8

Sheet Premium and Membership Data
B2: Premium and Membership Data
B4: Date | C4: Premiums received (year ending) | D4: No. of Members (as at)
B5: 42369 | C5: N/A * | D5: 211700
B6: =EOMONTH(B5,3) -> 42460 | C6: 6606500 | D6: 296500
B7: =EOMONTH(B6,3) -> 42551 | C7: 6606500 | D7: 296500
B8: =EOMONTH(B7,3) -> 42643 | C8: 6606500 | D8: 296500
B9: =EOMONTH(B8,3) -> 42735 | C9: 6606500 | D9: 296500
B10: =EOMONTH(B9,3) -> 42825 | C10: 8652750 | D10: 369100
B11: =EOMONTH(B10,3) -> 42916 | C11: 8652750 | D11: 369100
B12: =EOMONTH(B11,3) -> 43008 | C12: 8652750 | D12: 369100
B13: =EOMONTH(B12,3) -> 43100 | C13: 8652750 | D13: 369100
B14: =EOMONTH(B13,3) -> 43190 | C14: 10011250 | D14: 401000
B15: =EOMONTH(B14,3) -> 43281 | C15: 10011250 | D15: 401000
B16: =EOMONTH(B15,3) -> 43373 | C16: 10011250 | D16: 401000
B17: =EOMONTH(B16,3) -> 43465 | C17: 10011250 | D17: 401000
... B41: =EOMONTH(B40,3) -> 45657 | C41: 14835500 | D41: 567900
B43: Premiums are used in the Bornhuetter-Fergusson Method and the Additive Method based on Loss Ratio.
B44: No. of members is used in the Additive Method (count based).
B45: * Not used for the calculations in these examples.

Sheet Methods -->

Sheet Chain Ladder - Count
O1: hvsw
C2: TPD Triangles
C4: Chain Ladder Method - Tables Based on Claim Counts
C6: Table 1. Incremental - Number of Claims
E7: Development Quarter
C8: Year | D8: Quarter | E8: 0 | F8: =E8+1 -> 1 | G8: =F8+1 -> 2 | H8: =G8+1 -> 3 | I8: =H8+1 -> 4 | J8: =I8+1 -> 5 | K8: =J8+1 -> 6 | L8: =K8+1 -> 7 | M8: =L8+1 -> 8 | ... AN8: =AM8+1 -> 35
B9: Incurred Quarter | C9: =_xlfn.NUMBERVALUE(LEFT(D9,4)) -> 2016 | D9: 2016Q1 | E9: {=SUMPRODUCT(('Claims Data'!$I$10:$I$9996=$D9)*('Claims Data'!$K$10:$K$9996=E$8)*('Claims Data'!$B$10:$B$9996="TPD")*'Claims Data'!$L$10:$L$9996)} -> 0 | F9: {=SUMPRODUCT(('Claims Data'!$I$10:$I$9996=$D9)*('Claims Data'!$K$10:$K$9996=F$8)*('Claims Data'!$B$10:$B$9996="TPD")*'Claims Data'!$L$10:$L$9996)} -> 1 | G9: {=SUMPRODUCT(('Claims Data'!$I$10:$I$9996=$D9)*('Claims Data'!$K$10:$K$9996=G$8)*('Claims Data'!$B$10:$B$9996="TPD")*'Claims Data'!$L$10:$L$9996)} -> 2 | H9: {=SUMPRODUCT(('Claims Data'!$I$10:$I$9996=$D9)*('Claims Data'!$K$10:$K$9996=H$8)*('Claims Data'!$B$10:$B$9996="TPD")*'Claims Data'!$L$10:$L$9996)} -> 5 | I9: {=SUMPRODUCT(('Claims Data'!$I$10:$I$9996=$D9)*('Claims Data'!$K$10:$K$9996=I$8)*('Claims Data'!$B$10:$B$9996="TPD")*'Claims Data'!$L$10:$L$9996)} -> 5 | J9: {=SUMPRODUCT(('Claims Data'!$I$10:$I$9996=$D9)*('Claims Data'!$K$10:$K$9996=J$8)*('Claims Data'!$B$10:$B$9996="TPD")*'Claims Data'!$L$10:$L$9996)} -> 2 | K9: {=SUMPRODUCT(('Claims Data'!$I$10:$I$9996=$D9)*('Claims Data'!$K$10:$K$9996=K$8)*('Claims Data'!$B$10:$B$9996="TPD")*'Claims Data'!$L$10:$L$9996)} -> 3 | L9: {=SUMPRODUCT(('Claims Data'!$I$10:$I$9996=$D9)*('Claims Data'!$K$10:$K$9996=L$8)*('Claims Data'!$B$10:$B$9996="TPD")*'Claims Data'!$L$10:$L$9996)} -> 6 | ... AN9: {=SUMPRODUCT(('Claims Data'!$I$10:$I$9996=$D9)*('Claims Data'!$K$10:$K$9996=AN$8)*('Claims Data'!$B$10:$B$9996="TPD")*'Claims Data'!$L$10:$L$9996)} -> 0
C10: =_xlfn.NUMBERVALUE(LEFT(D10,4)) -> 2016 | D10: 2016Q2 | E10: {=SUMPRODUCT(('Claims Data'!$I$10:$I$9996=$D10)*('Claims Data'!$K$10:$K$9996=E$8)*('Claims Data'!$B$10:$B$9996="TPD")*'Claims Data'!$L$10:$L$9996)} -> 0 | F10: {=SUMPRODUCT(('Claims Data'!$I$10:$I$9996=$D10)*('Claims Data'!$K$10:$K$9996=F$8)*('Claims Data'!$B$10:$B$9996="TPD")*'Claims Data'!$L$10:$L$9996)} -> 0 | G10: {=SUMPRODUCT(('Claims Data'!$I$10:$I$9996=$D10)*('Claims Data'!$K$10:$K$9996=G$8)*('Claims Data'!$B$10:$B$9996="TPD")*'Claims Data'!$L$10:$L$9996)} -> 1 | H10: {=SUMPRODUCT(('Claims Data'!$I$10:$I$9996=$D10)*('Claims Data'!$K$10:$K$9996=H$8)*('Claims Data'!$B$10:$B$9996="TPD")*'Claims Data'!$L$10:$L$9996)} -> 0 | I10: {=SUMPRODUCT(('Claims Data'!$I$10:$I$9996=$D10)*('Claims Data'!$K$10:$K$9996=I$8)*('Claims Data'!$B$10:$B$9996="TPD")*'Claims Data'!$L$10:$L$9996)} -> 3 | J10: {=SUMPRODUCT(('Claims Data'!$I$10:$I$9996=$D10)*('Claims Data'!$K$10:$K$9996=J$8)*('Claims Data'!$B$10:$B$9996="TPD")*'Claims Data'!$L$10:$L$9996)} -> 2 | K10: {=SUMPRODUCT(('Claims Data'!$I$10:$I$9996=$D10)*('Claims Data'!$K$10:$K$9996=K$8)*('Claims Data'!$B$10:$B$9996="TPD")*'Claims Data'!$L$10:$L$9996)} -> 1 | L10: {=SUMPRODUCT(('Claims Data'!$I$10:$I$9996=$D10)*('Claims Data'!$K$10:$K$9996=L$8)*('Claims Data'!$B$10:$B$9996="TPD")*'Claims Data'!$L$10:$L$9996)} -> 4 | ... AM10: {=SUMPRODUCT(('Claims Data'!$I$10:$I$9996=$D10)*('Claims Data'!$K$10:$K$9996=AM$8)*('Claims Data'!$B$10:$B$9996="TPD")*'Claims Data'!$L$10:$L$9996)} -> 1.6
C11: =_xlfn.NUMBERVALUE(LEFT(D11,4)) -> 2016 | D11: 2016Q3 | E11: {=SUMPRODUCT(('Claims Data'!$I$10:$I$9996=$D11)*('Claims Data'!$K$10:$K$9996=E$8)*('Claims Data'!$B$10:$B$9996="TPD")*'Claims Data'!$L$10:$L$9996)} -> 0 | F11: {=SUMPRODUCT(('Claims Data'!$I$10:$I$9996=$D11)*('Claims Data'!$K$10:$K$9996=F$8)*('Claims Data'!$B$10:$B$9996="TPD")*'Claims Data'!$L$10:$L$9996)} -> 4 | G11: {=SUMPRODUCT(('Claims Data'!$I$10:$I$9996=$D11)*('Claims Data'!$K$10:$K$9996=G$8)*('Claims Data'!$B$10:$B$9996="TPD")*'Claims Data'!$L$10:$L$9996)} -> 1 | H11: {=SUMPRODUCT(('Claims Data'!$I$10:$I$9996=$D11)*('Claims Data'!$K$10:$K$9996=H$8)*('Claims Data'!$B$10:$B$9996="TPD")*'Claims Data'!$L$10:$L$9996)} -> 8 | I11: {=SUMPRODUCT(('Claims Data'!$I$10:$I$9996=$D11)*('Claims Data'!$K$10:$K$9996=I$8)*('Claims Data'!$B$10:$B$9996="TPD")*'Claims Data'!$L$10:$L$9996)} -> 8 | J11: {=SUMPRODUCT(('Claims Data'!$I$10:$I$9996=$D11)*('Claims Data'!$K$10:$K$9996=J$8)*('Claims Data'!$B$10:$B$9996="TPD")*'Claims Data'!$L$10:$L$9996)} -> 3 | K11: {=SUMPRODUCT(('Claims Data'!$I$10:$I$9996=$D11)*('Claims Data'!$K$10:$K$9996=K$8)*('Claims Data'!$B$10:$B$9996="TPD")*'Claims Data'!$L$10:$L$9996)} -> 4 | L11: {=SUMPRODUCT(('Claims Data'!$I$10:$I$9996=$D11)*('Claims Data'!$K$10:$K$9996=L$8)*('Claims Data'!$B$10:$B$9996="TPD")*'Claims Data'!$L$10:$L$9996)} -> 2 | ... AL11: {=SUMPRODUCT(('Claims Data'!$I$10:$I$9996=$D11)*('Claims Data'!$K$10:$K$9996=AL$8)*('Claims Data'!$B$10:$B$9996="TPD")*'Claims Data'!$L$10:$L$9996)} -> 0
C12: =_xlfn.NUMBERVALUE(LEFT(D12,4)) -> 2016 | D12: 2016Q4 | E12: {=SUMPRODUCT(('Claims Data'!$I$10:$I$9996=$D12)*('Claims Data'!$K$10:$K$9996=E$8)*('Claims Data'!$B$10:$B$9996="TPD")*'Claims Data'!$L$10:$L$9996)} -> 0 | F12: {=SUMPRODUCT(('Claims Data'!$I$10:$I$9996=$D12)*('Claims Data'!$K$10:$K$9996=F$8)*('Claims Data'!$B$10:$B$9996="TPD")*'Claims Data'!$L$10:$L$9996)} -> 4 | G12: {=SUMPRODUCT(('Claims Data'!$I$10:$I$9996=$D12)*('Claims Data'!$K$10:$K$9996=G$8)*('Claims Data'!$B$10:$B$9996="TPD")*'Claims Data'!$L$10:$L$9996)} -> 1 | H12: {=SUMPRODUCT(('Claims Data'!$I$10:$I$9996=$D12)*('Claims Data'!$K$10:$K$9996=H$8)*('Claims Data'!$B$10:$B$9996="TPD")*'Claims Data'!$L$10:$L$9996)} -> 5 | I12: {=SUMPRODUCT(('Claims Data'!$I$10:$I$9996=$D12)*('Claims Data'!$K$10:$K$9996=I$8)*('Claims Data'!$B$10:$B$9996="TPD")*'Claims Data'!$L$10:$L$9996)} -> 8 | J12: {=SUMPRODUCT(('Claims Data'!$I$10:$I$9996=$D12)*('Claims Data'!$K$10:$K$9996=J$8)*('Claims Data'!$B$10:$B$9996="TPD")*'Claims Data'!$L$10:$L$9996)} -> 4 | K12: {=SUMPRODUCT(('Claims Data'!$I$10:$I$9996=$D12)*('Claims Data'!$K$10:$K$9996=K$8)*('Claims Data'!$B$10:$B$9996="TPD")*'Claims Data'!$L$10:$L$9996)} -> 1 | L12: {=SUMPRODUCT(('Claims Data'!$I$10:$I$9996=$D12)*('Claims Data'!$K$10:$K$9996=L$8)*('Claims Data'!$B$10:$B$9996="TPD")*'Claims Data'!$L$10:$L$9996)} -> 2 | ... AK12: {=SUMPRODUCT(('Claims Data'!$I$10:$I$9996=$D12)*('Claims Data'!$K$10:$K$9996=AK$8)*('Claims Data'!$B$10:$B$9996="TPD")*'Claims Data'!$L$10:$L$9996)} -> 0.8
C13: =_xlfn.NUMBERVALUE(LEFT(D13,4)) -> 2017 | D13: 2017Q1 | E13: {=SUMPRODUCT(('Claims Data'!$I$10:$I$9996=$D13)*('Claims Data'!$K$10:$K$9996=E$8)*('Claims Data'!$B$10:$B$9996="TPD")*'Claims Data'!$L$10:$L$9996)} -> 0 | F13: {=SUMPRODUCT(('Claims Data'!$I$10:$I$9996=$D13)*('Claims Data'!$K$10:$K$9996=F$8)*('Claims Data'!$B$10:$B$9996="TPD")*'Claims Data'!$L$10:$L$9996)} -> 3 | G13: {=SUMPRODUCT(('Claims Data'!$I$10:$I$9996=$D13)*('Claims Data'!$K$10:$K$9996=G$8)*('Claims Data'!$B$10:$B$9996="TPD")*'Claims Data'!$L$10:$L$9996)} -> 3 | H13: {=SUMPRODUCT(('Claims Data'!$I$10:$I$9996=$D13)*('Claims Data'!$K$10:$K$9996=H$8)*('Claims Data'!$B$10:$B$9996="TPD")*'Claims Data'!$L$10:$L$9996)} -> 7 | I13: {=SUMPRODUCT(('Claims Data'!$I$10:$I$9996=$D13)*('Claims Data'!$K$10:$K$9996=I$8)*('Claims Data'!$B$10:$B$9996="TPD")*'Claims Data'!$L$10:$L$9996)} -> 3 | J13: {=SUMPRODUCT(('Claims Data'!$I$10:$I$9996=$D13)*('Claims Data'!$K$10:$K$9996=J$8)*('Claims Data'!$B$10:$B$9996="TPD")*'Claims Data'!$L$10:$L$9996)} -> 5 | K13: {=SUMPRODUCT(('Claims Data'!$I$10:$I$9996=$D13)*('Claims Data'!$K$10:$K$9996=K$8)*('Claims Data'!$B$10:$B$9996="TPD")*'Claims Data'!$L$10:$L$9996)} -> 4 | L13: {=SUMPRODUCT(('Claims Data'!$I$10:$I$9996=$D13)*('Claims Data'!$K$10:$K$9996=L$8)*('Claims Data'!$B$10:$B$9996="TPD")*'Claims Data'!$L$10:$L$9996)} -> 2 | ... AJ13: {=SUMPRODUCT(('Claims Data'!$I$10:$I$9996=$D13)*('Claims Data'!$K$10:$K$9996=AJ$8)*('Claims Data'!$B$10:$B$9996="TPD")*'Claims Data'!$L$10:$L$9996)} -> 1.6
C14: =_xlfn.NUMBERVALUE(LEFT(D14,4)) -> 2017 | D14: 2017Q2 | E14: {=SUMPRODUCT(('Claims Data'!$I$10:$I$9996=$D14)*('Claims Data'!$K$10:$K$9996=E$8)*('Claims Data'!$B$10:$B$9996="TPD")*'Claims Data'!$L$10:$L$9996)} -> 2 | F14: {=SUMPRODUCT(('Claims Data'!$I$10:$I$9996=$D14)*('Claims Data'!$K$10:$K$9996=F$8)*('Claims Data'!$B$10:$B$9996="TPD")*'Claims Data'!$L$10:$L$9996)} -> 1 | G14: {=SUMPRODUCT(('Claims Data'!$I$10:$I$9996=$D14)*('Claims Data'!$K$10:$K$9996=G$8)*('Claims Data'!$B$10:$B$9996="TPD")*'Claims Data'!$L$10:$L$9996)} -> 5 | H14: {=SUMPRODUCT(('Claims Data'!$I$10:$I$9996=$D14)*('Claims Data'!$K$10:$K$9996=H$8)*('Claims Data'!$B$10:$B$9996="TPD")*'Claims Data'!$L$10:$L$9996)} -> 11 | I14: {=SUMPRODUCT(('Claims Data'!$I$10:$I$9996=$D14)*('Claims Data'!$K$10:$K$9996=I$8)*('Claims Data'!$B$10:$B$9996="TPD")*'Claims Data'!$L$10:$L$9996)} -> 2 | J14: {=SUMPRODUCT(('Claims Data'!$I$10:$I$9996=$D14)*('Claims Data'!$K$10:$K$9996=J$8)*('Claims Data'!$B$10:$B$9996="TPD")*'Claims Data'!$L$10:$L$9996)} -> 5 | K14: {=SUMPRODUCT(('Claims Data'!$I$10:$I$9996=$D14)*('Claims Data'!$K$10:$K$9996=K$8)*('Claims Data'!$B$10:$B$9996="TPD")*'Claims Data'!$L$10:$L$9996)} -> 5 | L14: {=SUMPRODUCT(('Claims Data'!$I$10:$I$9996=$D14)*('Claims Data'!$K$10:$K$9996=L$8)*('Claims Data'!$B$10:$B$9996="TPD")*'Claims Data'!$L$10:$L$9996)} -> 1 | ... AI14: {=SUMPRODUCT(('Claims Data'!$I$10:$I$9996=$D14)*('Claims Data'!$K$10:$K$9996=AI$8)*('Claims Data'!$B$10:$B$9996="TPD")*'Claims Data'!$L$10:$L$9996)} -> 1
C15: =_xlfn.NUMBERVALUE(LEFT(D15,4)) -> 2017 | D15: 2017Q3 | E15: {=SUMPRODUCT(('Claims Data'!$I$10:$I$9996=$D15)*('Claims Data'!$K$10:$K$9996=E$8)*('Claims Data'!$B$10:$B$9996="TPD")*'Claims Data'!$L$10:$L$9996)} -> 0 | F15: {=SUMPRODUCT(('Claims Data'!$I$10:$I$9996=$D15)*('Claims Data'!$K$10:$K$9996=F$8)*('Claims Data'!$B$10:$B$9996="TPD")*'Claims Data'!$L$10:$L$9996)} -> 3 | G15: {=SUMPRODUCT(('Claims Data'!$I$10:$I$9996=$D15)*('Claims Data'!$K$10:$K$9996=G$8)*('Claims Data'!$B$10:$B$9996="TPD")*'Claims Data'!$L$10:$L$9996)} -> 5 | H15: {=SUMPRODUCT(('Claims Data'!$I$10:$I$9996=$D15)*('Claims Data'!$K$10:$K$9996=H$8)*('Claims Data'!$B$10:$B$9996="TPD")*'Claims Data'!$L$10:$L$9996)} -> 6 | I15: {=SUMPRODUCT(('Claims Data'!$I$10:$I$9996=$D15)*('Claims Data'!$K$10:$K$9996=I$8)*('Claims Data'!$B$10:$B$9996="TPD")*'Claims Data'!$L$10:$L$9996)} -> 4 | J15: {=SUMPRODUCT(('Claims Data'!$I$10:$I$9996=$D15)*('Claims Data'!$K$10:$K$9996=J$8)*('Claims Data'!$B$10:$B$9996="TPD")*'Claims Data'!$L$10:$L$9996)} -> 1 | K15: {=SUMPRODUCT(('Claims Data'!$I$10:$I$9996=$D15)*('Claims Data'!$K$10:$K$9996=K$8)*('Claims Data'!$B$10:$B$9996="TPD")*'Claims Data'!$L$10:$L$9996)} -> 2 | L15: {=SUMPRODUCT(('Claims Data'!$I$10:$I$9996=$D15)*('Claims Data'!$K$10:$K$9996=L$8)*('Claims Data'!$B$10:$B$9996="TPD")*'Claims Data'!$L$10:$L$9996)} -> 1 | ... AH15: {=SUMPRODUCT(('Claims Data'!$I$10:$I$9996=$D15)*('Claims Data'!$K$10:$K$9996=AH$8)*('Claims Data'!$B$10:$B$9996="TPD")*'Claims Data'!$L$10:$L$9996)} -> 0.8
C16: =_xlfn.NUMBERVALUE(LEFT(D16,4)) -> 2017 | D16: 2017Q4 | E16: {=SUMPRODUCT(('Claims Data'!$I$10:$I$9996=$D16)*('Claims Data'!$K$10:$K$9996=E$8)*('Claims Data'!$B$10:$B$9996="TPD")*'Claims Data'!$L$10:$L$9996)} -> 1 | F16: {=SUMPRODUCT(('Claims Data'!$I$10:$I$9996=$D16)*('Claims Data'!$K$10:$K$9996=F$8)*('Claims Data'!$B$10:$B$9996="TPD")*'Claims Data'!$L$10:$L$9996)} -> 4 | G16: {=SUMPRODUCT(('Claims Data'!$I$10:$I$9996=$D16)*('Claims Data'!$K$10:$K$9996=G$8)*('Claims Data'!$B$10:$B$9996="TPD")*'Claims Data'!$L$10:$L$9996)} -> 1 | H16: {=SUMPRODUCT(('Claims Data'!$I$10:$I$9996=$D16)*('Claims Data'!$K$10:$K$9996=H$8)*('Claims Data'!$B$10:$B$9996="TPD")*'Claims Data'!$L$10:$L$9996)} -> 10 | I16: {=SUMPRODUCT(('Claims Data'!$I$10:$I$9996=$D16)*('Claims Data'!$K$10:$K$9996=I$8)*('Claims Data'!$B$10:$B$9996="TPD")*'Claims Data'!$L$10:$L$9996)} -> 4 | J16: {=SUMPRODUCT(('Claims Data'!$I$10:$I$9996=$D16)*('Claims Data'!$K$10:$K$9996=J$8)*('Claims Data'!$B$10:$B$9996="TPD")*'Claims Data'!$L$10:$L$9996)} -> 3 | K16: {=SUMPRODUCT(('Claims Data'!$I$10:$I$9996=$D16)*('Claims Data'!$K$10:$K$9996=K$8)*('Claims Data'!$B$10:$B$9996="TPD")*'Claims Data'!$L$10:$L$9996)} -> 0 | L16: {=SUMPRODUCT(('Claims Data'!$I$10:$I$9996=$D16)*('Claims Data'!$K$10:$K$9996=L$8)*('Claims Data'!$B$10:$B$9996="TPD")*'Claims Data'!$L$10:$L$9996)} -> 4 | ... AG16: {=SUMPRODUCT(('Claims Data'!$I$10:$I$9996=$D16)*('Claims Data'!$K$10:$K$9996=AG$8)*('Claims Data'!$B$10:$B$9996="TPD")*'Claims Data'!$L$10:$L$9996)} -> 0
C17: =_xlfn.NUMBERVALUE(LEFT(D17,4)) -> 2018 | D17: 2018Q1 | E17: {=SUMPRODUCT(('Claims Data'!$I$10:$I$9996=$D17)*('Claims Data'!$K$10:$K$9996=E$8)*('Claims Data'!$B$10:$B$9996="TPD")*'Claims Data'!$L$10:$L$9996)} -> 0 | F17: {=SUMPRODUCT(('Claims Data'!$I$10:$I$9996=$D17)*('Claims Data'!$K$10:$K$9996=F$8)*('Claims Data'!$B$10:$B$9996="TPD")*'Claims Data'!$L$10:$L$9996)} -> 4 | G17: {=SUMPRODUCT(('Claims Data'!$I$10:$I$9996=$D17)*('Claims Data'!$K$10:$K$9996=G$8)*('Claims Data'!$B$10:$B$9996="TPD")*'Claims Data'!$L$10:$L$9996)} -> 4 | H17: {=SUMPRODUCT(('Claims Data'!$I$10:$I$9996=$D17)*('Claims Data'!$K$10:$K$9996=H$8)*('Claims Data'!$B$10:$B$9996="TPD")*'Claims Data'!$L$10:$L$9996)} -> 6 | I17: {=SUMPRODUCT(('Claims Data'!$I$10:$I$9996=$D17)*('Claims Data'!$K$10:$K$9996=I$8)*('Claims Data'!$B$10:$B$9996="TPD")*'Claims Data'!$L$10:$L$9996)} -> 4 | J17: {=SUMPRODUCT(('Claims Data'!$I$10:$I$9996=$D17)*('Claims Data'!$K$10:$K$9996=J$8)*('Claims Data'!$B$10:$B$9996="TPD")*'Claims Data'!$L$10:$L$9996)} -> 3 | K17: {=SUMPRODUCT(('Claims Data'!$I$10:$I$9996=$D17)*('Claims Data'!$K$10:$K$9996=K$8)*('Claims Data'!$B$10:$B$9996="TPD")*'Claims Data'!$L$10:$L$9996)} -> 3 | L17: {=SUMPRODUCT(('Claims Data'!$I$10:$I$9996=$D17)*('Claims Data'!$K$10:$K$9996=L$8)*('Claims Data'!$B$10:$B$9996="TPD")*'Claims Data'!$L$10:$L$9996)} -> 1 | ... AF17: {=SUMPRODUCT(('Claims Data'!$I$10:$I$9996=$D17)*('Claims Data'!$K$10:$K$9996=AF$8)*('Claims Data'!$B$10:$B$9996="TPD")*'Claims Data'!$L$10:$L$9996)} -> 1
C18: =_xlfn.NUMBERVALUE(LEFT(D18,4)) -> 2018 | D18: 2018Q2 | E18: {=SUMPRODUCT(('Claims Data'!$I$10:$I$9996=$D18)*('Claims Data'!$K$10:$K$9996=E$8)*('Claims Data'!$B$10:$B$9996="TPD")*'Claims Data'!$L$10:$L$9996)} -> 0 | F18: {=SUMPRODUCT(('Claims Data'!$I$10:$I$9996=$D18)*('Claims Data'!$K$10:$K$9996=F$8)*('Claims Data'!$B$10:$B$9996="TPD")*'Claims Data'!$L$10:$L$9996)} -> 0 | G18: {=SUMPRODUCT(('Claims Data'!$I$10:$I$9996=$D18)*('Claims Data'!$K$10:$K$9996=G$8)*('Claims Data'!$B$10:$B$9996="TPD")*'Claims Data'!$L$10:$L$9996)} -> 3 | H18: {=SUMPRODUCT(('Claims Data'!$I$10:$I$9996=$D18)*('Claims Data'!$K$10:$K$9996=H$8)*('Claims Data'!$B$10:$B$9996="TPD")*'Claims Data'!$L$10:$L$9996)} -> 11 | I18: {=SUMPRODUCT(('Claims Data'!$I$10:$I$9996=$D18)*('Claims Data'!$K$10:$K$9996=I$8)*('Claims Data'!$B$10:$B$9996="TPD")*'Claims Data'!$L$10:$L$9996)} -> 2 | J18: {=SUMPRODUCT(('Claims Data'!$I$10:$I$9996=$D18)*('Claims Data'!$K$10:$K$9996=J$8)*('Claims Data'!$B$10:$B$9996="TPD")*'Claims Data'!$L$10:$L$9996)} -> 3 | K18: {=SUMPRODUCT(('Claims Data'!$I$10:$I$9996=$D18)*('Claims Data'!$K$10:$K$9996=K$8)*('Claims Data'!$B$10:$B$9996="TPD")*'Claims Data'!$L$10:$L$9996)} -> 6 | L18: {=SUMPRODUCT(('Claims Data'!$I$10:$I$9996=$D18)*('Claims Data'!$K$10:$K$9996=L$8)*('Claims Data'!$B$10:$B$9996="TPD")*'Claims Data'!$L$10:$L$9996)} -> 5 | ... AE18: {=SUMPRODUCT(('Claims Data'!$I$10:$I$9996=$D18)*('Claims Data'!$K$10:$K$9996=AE$8)*('Claims Data'!$B$10:$B$9996="TPD")*'Claims Data'!$L$10:$L$9996)} -> 1.8
C19: =_xlfn.NUMBERVALUE(LEFT(D19,4)) -> 2018 | D19: 2018Q3 | E19: {=SUMPRODUCT(('Claims Data'!$I$10:$I$9996=$D19)*('Claims Data'!$K$10:$K$9996=E$8)*('Claims Data'!$B$10:$B$9996="TPD")*'Claims Data'!$L$10:$L$9996)} -> 0 | F19: {=SUMPRODUCT(('Claims Data'!$I$10:$I$9996=$D19)*('Claims Data'!$K$10:$K$9996=F$8)*('Claims Data'!$B$10:$B$9996="TPD")*'Claims Data'!$L$10:$L$9996)} -> 2 | G19: {=SUMPRODUCT(('Claims Data'!$I$10:$I$9996=$D19)*('Claims Data'!$K$10:$K$9996=G$8)*('Claims Data'!$B$10:$B$9996="TPD")*'Claims Data'!$L$10:$L$9996)} -> 3 | H19: {=SUMPRODUCT(('Claims Data'!$I$10:$I$9996=$D19)*('Claims Data'!$K$10:$K$9996=H$8)*('Claims Data'!$B$10:$B$9996="TPD")*'Claims Data'!$L$10:$L$9996)} -> 7 | I19: {=SUMPRODUCT(('Claims Data'!$I$10:$I$9996=$D19)*('Claims Data'!$K$10:$K$9996=I$8)*('Claims Data'!$B$10:$B$9996="TPD")*'Claims Data'!$L$10:$L$9996)} -> 6 | J19: {=SUMPRODUCT(('Claims Data'!$I$10:$I$9996=$D19)*('Claims Data'!$K$10:$K$9996=J$8)*('Claims Data'!$B$10:$B$9996="TPD")*'Claims Data'!$L$10:$L$9996)} -> 4 | K19: {=SUMPRODUCT(('Claims Data'!$I$10:$I$9996=$D19)*('Claims Data'!$K$10:$K$9996=K$8)*('Claims Data'!$B$10:$B$9996="TPD")*'Claims Data'!$L$10:$L$9996)} -> 3 | L19: {=SUMPRODUCT(('Claims Data'!$I$10:$I$9996=$D19)*('Claims Data'!$K$10:$K$9996=L$8)*('Claims Data'!$B$10:$B$9996="TPD")*'Claims Data'!$L$10:$L$9996)} -> 4 | ... AD19: {=SUMPRODUCT(('Claims Data'!$I$10:$I$9996=$D19)*('Claims Data'!$K$10:$K$9996=AD$8)*('Claims Data'!$B$10:$B$9996="TPD")*'Claims Data'!$L$10:$L$9996)} -> 1
C20: =_xlfn.NUMBERVALUE(LEFT(D20,4)) -> 2018 | D20: 2018Q4 | E20: {=SUMPRODUCT(('Claims Data'!$I$10:$I$9996=$D20)*('Claims Data'!$K$10:$K$9996=E$8)*('Claims Data'!$B$10:$B$9996="TPD")*'Claims Data'!$L$10:$L$9996)} -> 0 | F20: {=SUMPRODUCT(('Claims Data'!$I$10:$I$9996=$D20)*('Claims Data'!$K$10:$K$9996=F$8)*('Claims Data'!$B$10:$B$9996="TPD")*'Claims Data'!$L$10:$L$9996)} -> 2 | G20: {=SUMPRODUCT(('Claims Data'!$I$10:$I$9996=$D20)*('Claims Data'!$K$10:$K$9996=G$8)*('Claims Data'!$B$10:$B$9996="TPD")*'Claims Data'!$L$10:$L$9996)} -> 7 | H20: {=SUMPRODUCT(('Claims Data'!$I$10:$I$9996=$D20)*('Claims Data'!$K$10:$K$9996=H$8)*('Claims Data'!$B$10:$B$9996="TPD")*'Claims Data'!$L$10:$L$9996)} -> 6 | I20: {=SUMPRODUCT(('Claims Data'!$I$10:$I$9996=$D20)*('Claims Data'!$K$10:$K$9996=I$8)*('Claims Data'!$B$10:$B$9996="TPD")*'Claims Data'!$L$10:$L$9996)} -> 4 | J20: {=SUMPRODUCT(('Claims Data'!$I$10:$I$9996=$D20)*('Claims Data'!$K$10:$K$9996=J$8)*('Claims Data'!$B$10:$B$9996="TPD")*'Claims Data'!$L$10:$L$9996)} -> 5 | K20: {=SUMPRODUCT(('Claims Data'!$I$10:$I$9996=$D20)*('Claims Data'!$K$10:$K$9996=K$8)*('Claims Data'!$B$10:$B$9996="TPD")*'Claims Data'!$L$10:$L$9996)} -> 0 | L20: {=SUMPRODUCT(('Claims Data'!$I$10:$I$9996=$D20)*('Claims Data'!$K$10:$K$9996=L$8)*('Claims Data'!$B$10:$B$9996="TPD")*'Claims Data'!$L$10:$L$9996)} -> 4 | ... AC20: {=SUMPRODUCT(('Claims Data'!$I$10:$I$9996=$D20)*('Claims Data'!$K$10:$K$9996=AC$8)*('Claims Data'!$B$10:$B$9996="TPD")*'Claims Data'!$L$10:$L$9996)} -> 1
C21: =_xlfn.NUMBERVALUE(LEFT(D21,4)) -> 2019 | D21: 2019Q1 | E21: {=SUMPRODUCT(('Claims Data'!$I$10:$I$9996=$D21)*('Claims Data'!$K$10:$K$9996=E$8)*('Claims Data'!$B$10:$B$9996="TPD")*'Claims Data'!$L$10:$L$9996)} -> 0 | F21: {=SUMPRODUCT(('Claims Data'!$I$10:$I$9996=$D21)*('Claims Data'!$K$10:$K$9996=F$8)*('Claims Data'!$B$10:$B$9996="TPD")*'Claims Data'!$L$10:$L$9996)} -> 8 | G21: {=SUMPRODUCT(('Claims Data'!$I$10:$I$9996=$D21)*('Claims Data'!$K$10:$K$9996=G$8)*('Claims Data'!$B$10:$B$9996="TPD")*'Claims Data'!$L$10:$L$9996)} -> 4 | H21: {=SUMPRODUCT(('Claims Data'!$I$10:$I$9996=$D21)*('Claims Data'!$K$10:$K$9996=H$8)*('Claims Data'!$B$10:$B$9996="TPD")*'Claims Data'!$L$10:$L$9996)} -> 16 | I21: {=SUMPRODUCT(('Claims Data'!$I$10:$I$9996=$D21)*('Claims Data'!$K$10:$K$9996=I$8)*('Claims Data'!$B$10:$B$9996="TPD")*'Claims Data'!$L$10:$L$9996)} -> 7 | J21: {=SUMPRODUCT(('Claims Data'!$I$10:$I$9996=$D21)*('Claims Data'!$K$10:$K$9996=J$8)*('Claims Data'!$B$10:$B$9996="TPD")*'Claims Data'!$L$10:$L$9996)} -> 6 | K21: {=SUMPRODUCT(('Claims Data'!$I$10:$I$9996=$D21)*('Claims Data'!$K$10:$K$9996=K$8)*('Claims Data'!$B$10:$B$9996="TPD")*'Claims Data'!$L$10:$L$9996)} -> 3 | L21: {=SUMPRODUCT(('Claims Data'!$I$10:$I$9996=$D21)*('Claims Data'!$K$10:$K$9996=L$8)*('Claims Data'!$B$10:$B$9996="TPD")*'Claims Data'!$L$10:$L$9996)} -> 5 | ... AB21: {=SUMPRODUCT(('Claims Data'!$I$10:$I$9996=$D21)*('Claims Data'!$K$10:$K$9996=AB$8)*('Claims Data'!$B$10:$B$9996="TPD")*'Claims Data'!$L$10:$L$9996)} -> 0.8
C22: =_xlfn.NUMBERVALUE(LEFT(D22,4)) -> 2019 | D22: 2019Q2 | E22: {=SUMPRODUCT(('Claims Data'!$I$10:$I$9996=$D22)*('Claims Data'!$K$10:$K$9996=E$8)*('Claims Data'!$B$10:$B$9996="TPD")*'Claims Data'!$L$10:$L$9996)} -> 2 | F22: {=SUMPRODUCT(('Claims Data'!$I$10:$I$9996=$D22)*('Claims Data'!$K$10:$K$9996=F$8)*('Claims Data'!$B$10:$B$9996="TPD")*'Claims Data'!$L$10:$L$9996)} -> 9 | G22: {=SUMPRODUCT(('Claims Data'!$I$10:$I$9996=$D22)*('Claims Data'!$K$10:$K$9996=G$8)*('Claims Data'!$B$10:$B$9996="TPD")*'Claims Data'!$L$10:$L$9996)} -> 3 | H22: {=SUMPRODUCT(('Claims Data'!$I$10:$I$9996=$D22)*('Claims Data'!$K$10:$K$9996=H$8)*('Claims Data'!$B$10:$B$9996="TPD")*'Claims Data'!$L$10:$L$9996)} -> 12 | I22: {=SUMPRODUCT(('Claims Data'!$I$10:$I$9996=$D22)*('Claims Data'!$K$10:$K$9996=I$8)*('Claims Data'!$B$10:$B$9996="TPD")*'Claims Data'!$L$10:$L$9996)} -> 3 | J22: {=SUMPRODUCT(('Claims Data'!$I$10:$I$9996=$D22)*('Claims Data'!$K$10:$K$9996=J$8)*('Claims Data'!$B$10:$B$9996="TPD")*'Claims Data'!$L$10:$L$9996)} -> 6 | K22: {=SUMPRODUCT(('Claims Data'!$I$10:$I$9996=$D22)*('Claims Data'!$K$10:$K$9996=K$8)*('Claims Data'!$B$10:$B$9996="TPD")*'Claims Data'!$L$10:$L$9996)} -> 9 | L22: {=SUMPRODUCT(('Claims Data'!$I$10:$I$9996=$D22)*('Claims Data'!$K$10:$K$9996=L$8)*('Claims Data'!$B$10:$B$9996="TPD")*'Claims Data'!$L$10:$L$9996)} -> 6 | ... AA22: {=SUMPRODUCT(('Claims Data'!$I$10:$I$9996=$D22)*('Claims Data'!$K$10:$K$9996=AA$8)*('Claims Data'!$B$10:$B$9996="TPD")*'Claims Data'!$L$10:$L$9996)} -> 3.6
C23: =_xlfn.NUMBERVALUE(LEFT(D23,4)) -> 2019 | D23: 2019Q3 | E23: {=SUMPRODUCT(('Claims Data'!$I$10:$I$9996=$D23)*('Claims Data'!$K$10:$K$9996=E$8)*('Claims Data'!$B$10:$B$9996="TPD")*'Claims Data'!$L$10:$L$9996)} -> 1 | F23: {=SUMPRODUCT(('Claims Data'!$I$10:$I$9996=$D23)*('Claims Data'!$K$10:$K$9996=F$8)*('Claims Data'!$B$10:$B$9996="TPD")*'Claims Data'!$L$10:$L$9996)} -> 3 | G23: {=SUMPRODUCT(('Claims Data'!$I$10:$I$9996=$D23)*('Claims Data'!$K$10:$K$9996=G$8)*('Claims Data'!$B$10:$B$9996="TPD")*'Claims Data'!$L$10:$L$9996)} -> 7 | H23: {=SUMPRODUCT(('Claims Data'!$I$10:$I$9996=$D23)*('Claims Data'!$K$10:$K$9996=H$8)*('Claims Data'!$B$10:$B$9996="TPD")*'Claims Data'!$L$10:$L$9996)} -> 10 | I23: {=SUMPRODUCT(('Claims Data'!$I$10:$I$9996=$D23)*('Claims Data'!$K$10:$K$9996=I$8)*('Claims Data'!$B$10:$B$9996="TPD")*'Claims Data'!$L$10:$L$9996)} -> 9 | J23: {=SUMPRODUCT(('Claims Data'!$I$10:$I$9996=$D23)*('Claims Data'!$K$10:$K$9996=J$8)*('Claims Data'!$B$10:$B$9996="TPD")*'Claims Data'!$L$10:$L$9996)} -> 3 | K23: {=SUMPRODUCT(('Claims Data'!$I$10:$I$9996=$D23)*('Claims Data'!$K$10:$K$9996=K$8)*('Claims Data'!$B$10:$B$9996="TPD")*'Claims Data'!$L$10:$L$9996)} -> 6 | L23: {=SUMPRODUCT(('Claims Data'!$I$10:$I$9996=$D23)*('Claims Data'!$K$10:$K$9996=L$8)*('Claims Data'!$B$10:$B$9996="TPD")*'Claims Data'!$L$10:$L$9996)} -> 4 | ... Z23: {=SUMPRODUCT(('Claims Data'!$I$10:$I$9996=$D23)*('Claims Data'!$K$10:$K$9996=Z$8)*('Claims Data'!$B$10:$B$9996="TPD")*'Claims Data'!$L$10:$L$9996)} -> 6.4
C24: =_xlfn.NUMBERVALUE(LEFT(D24,4)) -> 2019 | D24: 2019Q4 | E24: {=SUMPRODUCT(('Claims Data'!$I$10:$I$9996=$D24)*('Claims Data'!$K$10:$K$9996=E$8)*('Claims Data'!$B$10:$B$9996="TPD")*'Claims Data'!$L$10:$L$9996)} -> 1 | F24: {=SUMPRODUCT(('Claims Data'!$I$10:$I$9996=$D24)*('Claims Data'!$K$10:$K$9996=F$8)*('Claims Data'!$B$10:$B$9996="TPD")*'Claims Data'!$L$10:$L$9996)} -> 7 | G24: {=SUMPRODUCT(('Claims Data'!$I$10:$I$9996=$D24)*('Claims Data'!$K$10:$K$9996=G$8)*('Claims Data'!$B$10:$B$9996="TPD")*'Claims Data'!$L$10:$L$9996)} -> 8 | H24: {=SUMPRODUCT(('Claims Data'!$I$10:$I$9996=$D24)*('Claims Data'!$K$10:$K$9996=H$8)*('Claims Data'!$B$10:$B$9996="TPD")*'Claims Data'!$L$10:$L$9996)} -> 11 | I24: {=SUMPRODUCT(('Claims Data'!$I$10:$I$9996=$D24)*('Claims Data'!$K$10:$K$9996=I$8)*('Claims Data'!$B$10:$B$9996="TPD")*'Claims Data'!$L$10:$L$9996)} -> 11 | J24: {=SUMPRODUCT(('Claims Data'!$I$10:$I$9996=$D24)*('Claims Data'!$K$10:$K$9996=J$8)*('Claims Data'!$B$10:$B$9996="TPD")*'Claims Data'!$L$10:$L$9996)} -> 6 | K24: {=SUMPRODUCT(('Claims Data'!$I$10:$I$9996=$D24)*('Claims Data'!$K$10:$K$9996=K$8)*('Claims Data'!$B$10:$B$9996="TPD")*'Claims Data'!$L$10:$L$9996)} -> 3 | L24: {=SUMPRODUCT(('Claims Data'!$I$10:$I$9996=$D24)*('Claims Data'!$K$10:$K$9996=L$8)*('Claims Data'!$B$10:$B$9996="TPD")*'Claims Data'!$L$10:$L$9996)} -> 2 | ... Y24: {=SUMPRODUCT(('Claims Data'!$I$10:$I$9996=$D24)*('Claims Data'!$K$10:$K$9996=Y$8)*('Claims Data'!$B$10:$B$9996="TPD")*'Claims Data'!$L$10:$L$9996)} -> 3.4
C25: =_xlfn.NUMBERVALUE(LEFT(D25,4)) -> 2020 | D25: 2020Q1 | E25: {=SUMPRODUCT(('Claims Data'!$I$10:$I$9996=$D25)*('Claims Data'!$K$10:$K$9996=E$8)*('Claims Data'!$B$10:$B$9996="TPD")*'Claims Data'!$L$10:$L$9996)} -> 4 | F25: {=SUMPRODUCT(('Claims Data'!$I$10:$I$9996=$D25)*('Claims Data'!$K$10:$K$9996=F$8)*('Claims Data'!$B$10:$B$9996="TPD")*'Claims Data'!$L$10:$L$9996)} -> 8 | G25: {=SUMPRODUCT(('Claims Data'!$I$10:$I$9996=$D25)*('Claims Data'!$K$10:$K$9996=G$8)*('Claims Data'!$B$10:$B$9996="TPD")*'Claims Data'!$L$10:$L$9996)} -> 8 | H25: {=SUMPRODUCT(('Claims Data'!$I$10:$I$9996=$D25)*('Claims Data'!$K$10:$K$9996=H$8)*('Claims Data'!$B$10:$B$9996="TPD")*'Claims Data'!$L$10:$L$9996)} -> 11 | I25: {=SUMPRODUCT(('Claims Data'!$I$10:$I$9996=$D25)*('Claims Data'!$K$10:$K$9996=I$8)*('Claims Data'!$B$10:$B$9996="TPD")*'Claims Data'!$L$10:$L$9996)} -> 9 | J25: {=SUMPRODUCT(('Claims Data'!$I$10:$I$9996=$D25)*('Claims Data'!$K$10:$K$9996=J$8)*('Claims Data'!$B$10:$B$9996="TPD")*'Claims Data'!$L$10:$L$9996)} -> 5 | K25: {=SUMPRODUCT(('Claims Data'!$I$10:$I$9996=$D25)*('Claims Data'!$K$10:$K$9996=K$8)*('Claims Data'!$B$10:$B$9996="TPD")*'Claims Data'!$L$10:$L$9996)} -> 5 | L25: {=SUMPRODUCT(('Claims Data'!$I$10:$I$9996=$D25)*('Claims Data'!$K$10:$K$9996=L$8)*('Claims Data'!$B$10:$B$9996="TPD")*'Claims Data'!$L$10:$L$9996)} -> 8 | ... X25: {=SUMPRODUCT(('Claims Data'!$I$10:$I$9996=$D25)*('Claims Data'!$K$10:$K$9996=X$8)*('Claims Data'!$B$10:$B$9996="TPD")*'Claims Data'!$L$10:$L$9996)} -> 0.8
C26: =_xlfn.NUMBERVALUE(LEFT(D26,4)) -> 2020 | D26: 2020Q2 | E26: {=SUMPRODUCT(('Claims Data'!$I$10:$I$9996=$D26)*('Claims Data'!$K$10:$K$9996=E$8)*('Claims Data'!$B$10:$B$9996="TPD")*'Claims Data'!$L$10:$L$9996)} -> 3 | F26: {=SUMPRODUCT(('Claims Data'!$I$10:$I$9996=$D26)*('Claims Data'!$K$10:$K$9996=F$8)*('Claims Data'!$B$10:$B$9996="TPD")*'Claims Data'!$L$10:$L$9996)} -> 5 | G26: {=SUMPRODUCT(('Claims Data'!$I$10:$I$9996=$D26)*('Claims Data'!$K$10:$K$9996=G$8)*('Claims Data'!$B$10:$B$9996="TPD")*'Claims Data'!$L$10:$L$9996)} -> 7 | H26: {=SUMPRODUCT(('Claims Data'!$I$10:$I$9996=$D26)*('Claims Data'!$K$10:$K$9996=H$8)*('Claims Data'!$B$10:$B$9996="TPD")*'Claims Data'!$L$10:$L$9996)} -> 8 | I26: {=SUMPRODUCT(('Claims Data'!$I$10:$I$9996=$D26)*('Claims Data'!$K$10:$K$9996=I$8)*('Claims Data'!$B$10:$B$9996="TPD")*'Claims Data'!$L$10:$L$9996)} -> 9 | J26: {=SUMPRODUCT(('Claims Data'!$I$10:$I$9996=$D26)*('Claims Data'!$K$10:$K$9996=J$8)*('Claims Data'!$B$10:$B$9996="TPD")*'Claims Data'!$L$10:$L$9996)} -> 6 | K26: {=SUMPRODUCT(('Claims Data'!$I$10:$I$9996=$D26)*('Claims Data'!$K$10:$K$9996=K$8)*('Claims Data'!$B$10:$B$9996="TPD")*'Claims Data'!$L$10:$L$9996)} -> 3 | L26: {=SUMPRODUCT(('Claims Data'!$I$10:$I$9996=$D26)*('Claims Data'!$K$10:$K$9996=L$8)*('Claims Data'!$B$10:$B$9996="TPD")*'Claims Data'!$L$10:$L$9996)} -> 1 | ... W26: {=SUMPRODUCT(('Claims Data'!$I$10:$I$9996=$D26)*('Claims Data'!$K$10:$K$9996=W$8)*('Claims Data'!$B$10:$B$9996="TPD")*'Claims Data'!$L$10:$L$9996)} -> 0
C27: =_xlfn.NUMBERVALUE(LEFT(D27,4)) -> 2020 | D27: 2020Q3 | E27: {=SUMPRODUCT(('Claims Data'!$I$10:$I$9996=$D27)*('Claims Data'!$K$10:$K$9996=E$8)*('Claims Data'!$B$10:$B$9996="TPD")*'Claims Data'!$L$10:$L$9996)} -> 7 | F27: {=SUMPRODUCT(('Claims Data'!$I$10:$I$9996=$D27)*('Claims Data'!$K$10:$K$9996=F$8)*('Claims Data'!$B$10:$B$9996="TPD")*'Claims Data'!$L$10:$L$9996)} -> 4 | G27: {=SUMPRODUCT(('Claims Data'!$I$10:$I$9996=$D27)*('Claims Data'!$K$10:$K$9996=G$8)*('Claims Data'!$B$10:$B$9996="TPD")*'Claims Data'!$L$10:$L$9996)} -> 19 | H27: {=SUMPRODUCT(('Claims Data'!$I$10:$I$9996=$D27)*('Claims Data'!$K$10:$K$9996=H$8)*('Claims Data'!$B$10:$B$9996="TPD")*'Claims Data'!$L$10:$L$9996)} -> 12 | I27: {=SUMPRODUCT(('Claims Data'!$I$10:$I$9996=$D27)*('Claims Data'!$K$10:$K$9996=I$8)*('Claims Data'!$B$10:$B$9996="TPD")*'Claims Data'!$L$10:$L$9996)} -> 8 | J27: {=SUMPRODUCT(('Claims Data'!$I$10:$I$9996=$D27)*('Claims Data'!$K$10:$K$9996=J$8)*('Claims Data'!$B$10:$B$9996="TPD")*'Claims Data'!$L$10:$L$9996)} -> 4 | K27: {=SUMPRODUCT(('Claims Data'!$I$10:$I$9996=$D27)*('Claims Data'!$K$10:$K$9996=K$8)*('Claims Data'!$B$10:$B$9996="TPD")*'Claims Data'!$L$10:$L$9996)} -> 2 | L27: {=SUMPRODUCT(('Claims Data'!$I$10:$I$9996=$D27)*('Claims Data'!$K$10:$K$9996=L$8)*('Claims Data'!$B$10:$B$9996="TPD")*'Claims Data'!$L$10:$L$9996)} -> 3 | ... V27: {=SUMPRODUCT(('Claims Data'!$I$10:$I$9996=$D27)*('Claims Data'!$K$10:$K$9996=V$8)*('Claims Data'!$B$10:$B$9996="TPD")*'Claims Data'!$L$10:$L$9996)} -> 4.2
C28: =_xlfn.NUMBERVALUE(LEFT(D28,4)) -> 2020 | D28: 2020Q4 | E28: {=SUMPRODUCT(('Claims Data'!$I$10:$I$9996=$D28)*('Claims Data'!$K$10:$K$9996=E$8)*('Claims Data'!$B$10:$B$9996="TPD")*'Claims Data'!$L$10:$L$9996)} -> 1 | F28: {=SUMPRODUCT(('Claims Data'!$I$10:$I$9996=$D28)*('Claims Data'!$K$10:$K$9996=F$8)*('Claims Data'!$B$10:$B$9996="TPD")*'Claims Data'!$L$10:$L$9996)} -> 4 | G28: {=SUMPRODUCT(('Claims Data'!$I$10:$I$9996=$D28)*('Claims Data'!$K$10:$K$9996=G$8)*('Claims Data'!$B$10:$B$9996="TPD")*'Claims Data'!$L$10:$L$9996)} -> 8 | H28: {=SUMPRODUCT(('Claims Data'!$I$10:$I$9996=$D28)*('Claims Data'!$K$10:$K$9996=H$8)*('Claims Data'!$B$10:$B$9996="TPD")*'Claims Data'!$L$10:$L$9996)} -> 20 | I28: {=SUMPRODUCT(('Claims Data'!$I$10:$I$9996=$D28)*('Claims Data'!$K$10:$K$9996=I$8)*('Claims Data'!$B$10:$B$9996="TPD")*'Claims Data'!$L$10:$L$9996)} -> 12 | J28: {=SUMPRODUCT(('Claims Data'!$I$10:$I$9996=$D28)*('Claims Data'!$K$10:$K$9996=J$8)*('Claims Data'!$B$10:$B$9996="TPD")*'Claims Data'!$L$10:$L$9996)} -> 3 | K28: {=SUMPRODUCT(('Claims Data'!$I$10:$I$9996=$D28)*('Claims Data'!$K$10:$K$9996=K$8)*('Claims Data'!$B$10:$B$9996="TPD")*'Claims Data'!$L$10:$L$9996)} -> 3 | L28: {=SUMPRODUCT(('Claims Data'!$I$10:$I$9996=$D28)*('Claims Data'!$K$10:$K$9996=L$8)*('Claims Data'!$B$10:$B$9996="TPD")*'Claims Data'!$L$10:$L$9996)} -> 3 | ... U28: {=SUMPRODUCT(('Claims Data'!$I$10:$I$9996=$D28)*('Claims Data'!$K$10:$K$9996=U$8)*('Claims Data'!$B$10:$B$9996="TPD")*'Claims Data'!$L$10:$L$9996)} -> 2.4
C29: =_xlfn.NUMBERVALUE(LEFT(D29,4)) -> 2021 | D29: 2021Q1 | E29: {=SUMPRODUCT(('Claims Data'!$I$10:$I$9996=$D29)*('Claims Data'!$K$10:$K$9996=E$8)*('Claims Data'!$B$10:$B$9996="TPD")*'Claims Data'!$L$10:$L$9996)} -> 0 | F29: {=SUMPRODUCT(('Claims Data'!$I$10:$I$9996=$D29)*('Claims Data'!$K$10:$K$9996=F$8)*('Claims Data'!$B$10:$B$9996="TPD")*'Claims Data'!$L$10:$L$9996)} -> 2 | G29: {=SUMPRODUCT(('Claims Data'!$I$10:$I$9996=$D29)*('Claims Data'!$K$10:$K$9996=G$8)*('Claims Data'!$B$10:$B$9996="TPD")*'Claims Data'!$L$10:$L$9996)} -> 11 | H29: {=SUMPRODUCT(('Claims Data'!$I$10:$I$9996=$D29)*('Claims Data'!$K$10:$K$9996=H$8)*('Claims Data'!$B$10:$B$9996="TPD")*'Claims Data'!$L$10:$L$9996)} -> 15 | I29: {=SUMPRODUCT(('Claims Data'!$I$10:$I$9996=$D29)*('Claims Data'!$K$10:$K$9996=I$8)*('Claims Data'!$B$10:$B$9996="TPD")*'Claims Data'!$L$10:$L$9996)} -> 5 | J29: {=SUMPRODUCT(('Claims Data'!$I$10:$I$9996=$D29)*('Claims Data'!$K$10:$K$9996=J$8)*('Claims Data'!$B$10:$B$9996="TPD")*'Claims Data'!$L$10:$L$9996)} -> 8 | K29: {=SUMPRODUCT(('Claims Data'!$I$10:$I$9996=$D29)*('Claims Data'!$K$10:$K$9996=K$8)*('Claims Data'!$B$10:$B$9996="TPD")*'Claims Data'!$L$10:$L$9996)} -> 0 | L29: {=SUMPRODUCT(('Claims Data'!$I$10:$I$9996=$D29)*('Claims Data'!$K$10:$K$9996=L$8)*('Claims Data'!$B$10:$B$9996="TPD")*'Claims Data'!$L$10:$L$9996)} -> 2 | ... T29: {=SUMPRODUCT(('Claims Data'!$I$10:$I$9996=$D29)*('Claims Data'!$K$10:$K$9996=T$8)*('Claims Data'!$B$10:$B$9996="TPD")*'Claims Data'!$L$10:$L$9996)} -> 2.8
C30: =_xlfn.NUMBERVALUE(LEFT(D30,4)) -> 2021 | D30: 2021Q2 | E30: {=SUMPRODUCT(('Claims Data'!$I$10:$I$9996=$D30)*('Claims Data'!$K$10:$K$9996=E$8)*('Claims Data'!$B$10:$B$9996="TPD")*'Claims Data'!$L$10:$L$9996)} -> 0 | F30: {=SUMPRODUCT(('Claims Data'!$I$10:$I$9996=$D30)*('Claims Data'!$K$10:$K$9996=F$8)*('Claims Data'!$B$10:$B$9996="TPD")*'Claims Data'!$L$10:$L$9996)} -> 1 | G30: {=SUMPRODUCT(('Claims Data'!$I$10:$I$9996=$D30)*('Claims Data'!$K$10:$K$9996=G$8)*('Claims Data'!$B$10:$B$9996="TPD")*'Claims Data'!$L$10:$L$9996)} -> 16 | H30: {=SUMPRODUCT(('Claims Data'!$I$10:$I$9996=$D30)*('Claims Data'!$K$10:$K$9996=H$8)*('Claims Data'!$B$10:$B$9996="TPD")*'Claims Data'!$L$10:$L$9996)} -> 4 | I30: {=SUMPRODUCT(('Claims Data'!$I$10:$I$9996=$D30)*('Claims Data'!$K$10:$K$9996=I$8)*('Claims Data'!$B$10:$B$9996="TPD")*'Claims Data'!$L$10:$L$9996)} -> 3 | J30: {=SUMPRODUCT(('Claims Data'!$I$10:$I$9996=$D30)*('Claims Data'!$K$10:$K$9996=J$8)*('Claims Data'!$B$10:$B$9996="TPD")*'Claims Data'!$L$10:$L$9996)} -> 12 | K30: {=SUMPRODUCT(('Claims Data'!$I$10:$I$9996=$D30)*('Claims Data'!$K$10:$K$9996=K$8)*('Claims Data'!$B$10:$B$9996="TPD")*'Claims Data'!$L$10:$L$9996)} -> 4 | L30: {=SUMPRODUCT(('Claims Data'!$I$10:$I$9996=$D30)*('Claims Data'!$K$10:$K$9996=L$8)*('Claims Data'!$B$10:$B$9996="TPD")*'Claims Data'!$L$10:$L$9996)} -> 4 | ... S30: {=SUMPRODUCT(('Claims Data'!$I$10:$I$9996=$D30)*('Claims Data'!$K$10:$K$9996=S$8)*('Claims Data'!$B$10:$B$9996="TPD")*'Claims Data'!$L$10:$L$9996)} -> 6.6
C31: =_xlfn.NUMBERVALUE(LEFT(D31,4)) -> 2021 | D31: 2021Q3 | E31: {=SUMPRODUCT(('Claims Data'!$I$10:$I$9996=$D31)*('Claims Data'!$K$10:$K$9996=E$8)*('Claims Data'!$B$10:$B$9996="TPD")*'Claims Data'!$L$10:$L$9996)} -> 2 | F31: {=SUMPRODUCT(('Claims Data'!$I$10:$I$9996=$D31)*('Claims Data'!$K$10:$K$9996=F$8)*('Claims Data'!$B$10:$B$9996="TPD")*'Claims Data'!$L$10:$L$9996)} -> 4 | G31: {=SUMPRODUCT(('Claims Data'!$I$10:$I$9996=$D31)*('Claims Data'!$K$10:$K$9996=G$8)*('Claims Data'!$B$10:$B$9996="TPD")*'Claims Data'!$L$10:$L$9996)} -> 6 | H31: {=SUMPRODUCT(('Claims Data'!$I$10:$I$9996=$D31)*('Claims Data'!$K$10:$K$9996=H$8)*('Claims Data'!$B$10:$B$9996="TPD")*'Claims Data'!$L$10:$L$9996)} -> 10 | I31: {=SUMPRODUCT(('Claims Data'!$I$10:$I$9996=$D31)*('Claims Data'!$K$10:$K$9996=I$8)*('Claims Data'!$B$10:$B$9996="TPD")*'Claims Data'!$L$10:$L$9996)} -> 13 | J31: {=SUMPRODUCT(('Claims Data'!$I$10:$I$9996=$D31)*('Claims Data'!$K$10:$K$9996=J$8)*('Claims Data'!$B$10:$B$9996="TPD")*'Claims Data'!$L$10:$L$9996)} -> 15 | K31: {=SUMPRODUCT(('Claims Data'!$I$10:$I$9996=$D31)*('Claims Data'!$K$10:$K$9996=K$8)*('Claims Data'!$B$10:$B$9996="TPD")*'Claims Data'!$L$10:$L$9996)} -> 10 | L31: {=SUMPRODUCT(('Claims Data'!$I$10:$I$9996=$D31)*('Claims Data'!$K$10:$K$9996=L$8)*('Claims Data'!$B$10:$B$9996="TPD")*'Claims Data'!$L$10:$L$9996)} -> 3 | ... R31: {=SUMPRODUCT(('Claims Data'!$I$10:$I$9996=$D31)*('Claims Data'!$K$10:$K$9996=R$8)*('Claims Data'!$B$10:$B$9996="TPD")*'Claims Data'!$L$10:$L$9996)} -> 4.2
C32: =_xlfn.NUMBERVALUE(LEFT(D32,4)) -> 2021 | D32: 2021Q4 | E32: {=SUMPRODUCT(('Claims Data'!$I$10:$I$9996=$D32)*('Claims Data'!$K$10:$K$9996=E$8)*('Claims Data'!$B$10:$B$9996="TPD")*'Claims Data'!$L$10:$L$9996)} -> 0 | F32: {=SUMPRODUCT(('Claims Data'!$I$10:$I$9996=$D32)*('Claims Data'!$K$10:$K$9996=F$8)*('Claims Data'!$B$10:$B$9996="TPD")*'Claims Data'!$L$10:$L$9996)} -> 2 | G32: {=SUMPRODUCT(('Claims Data'!$I$10:$I$9996=$D32)*('Claims Data'!$K$10:$K$9996=G$8)*('Claims Data'!$B$10:$B$9996="TPD")*'Claims Data'!$L$10:$L$9996)} -> 8 | H32: {=SUMPRODUCT(('Claims Data'!$I$10:$I$9996=$D32)*('Claims Data'!$K$10:$K$9996=H$8)*('Claims Data'!$B$10:$B$9996="TPD")*'Claims Data'!$L$10:$L$9996)} -> 13 | I32: {=SUMPRODUCT(('Claims Data'!$I$10:$I$9996=$D32)*('Claims Data'!$K$10:$K$9996=I$8)*('Claims Data'!$B$10:$B$9996="TPD")*'Claims Data'!$L$10:$L$9996)} -> 8 | J32: {=SUMPRODUCT(('Claims Data'!$I$10:$I$9996=$D32)*('Claims Data'!$K$10:$K$9996=J$8)*('Claims Data'!$B$10:$B$9996="TPD")*'Claims Data'!$L$10:$L$9996)} -> 11 | K32: {=SUMPRODUCT(('Claims Data'!$I$10:$I$9996=$D32)*('Claims Data'!$K$10:$K$9996=K$8)*('Claims Data'!$B$10:$B$9996="TPD")*'Claims Data'!$L$10:$L$9996)} -> 7 | L32: {=SUMPRODUCT(('Claims Data'!$I$10:$I$9996=$D32)*('Claims Data'!$K$10:$K$9996=L$8)*('Claims Data'!$B$10:$B$9996="TPD")*'Claims Data'!$L$10:$L$9996)} -> 7 | ... Q32: {=SUMPRODUCT(('Claims Data'!$I$10:$I$9996=$D32)*('Claims Data'!$K$10:$K$9996=Q$8)*('Claims Data'!$B$10:$B$9996="TPD")*'Claims Data'!$L$10:$L$9996)} -> 5
C33: =_xlfn.NUMBERVALUE(LEFT(D33,4)) -> 2022 | D33: 2022Q1 | E33: {=SUMPRODUCT(('Claims Data'!$I$10:$I$9996=$D33)*('Claims Data'!$K$10:$K$9996=E$8)*('Claims Data'!$B$10:$B$9996="TPD")*'Claims Data'!$L$10:$L$9996)} -> 1 | F33: {=SUMPRODUCT(('Claims Data'!$I$10:$I$9996=$D33)*('Claims Data'!$K$10:$K$9996=F$8)*('Claims Data'!$B$10:$B$9996="TPD")*'Claims Data'!$L$10:$L$9996)} -> 0 | G33: {=SUMPRODUCT(('Claims Data'!$I$10:$I$9996=$D33)*('Claims Data'!$K$10:$K$9996=G$8)*('Claims Data'!$B$10:$B$9996="TPD")*'Claims Data'!$L$10:$L$9996)} -> 4 | H33: {=SUMPRODUCT(('Claims Data'!$I$10:$I$9996=$D33)*('Claims Data'!$K$10:$K$9996=H$8)*('Claims Data'!$B$10:$B$9996="TPD")*'Claims Data'!$L$10:$L$9996)} -> 8 | I33: {=SUMPRODUCT(('Claims Data'!$I$10:$I$9996=$D33)*('Claims Data'!$K$10:$K$9996=I$8)*('Claims Data'!$B$10:$B$9996="TPD")*'Claims Data'!$L$10:$L$9996)} -> 11 | J33: {=SUMPRODUCT(('Claims Data'!$I$10:$I$9996=$D33)*('Claims Data'!$K$10:$K$9996=J$8)*('Claims Data'!$B$10:$B$9996="TPD")*'Claims Data'!$L$10:$L$9996)} -> 5 | K33: {=SUMPRODUCT(('Claims Data'!$I$10:$I$9996=$D33)*('Claims Data'!$K$10:$K$9996=K$8)*('Claims Data'!$B$10:$B$9996="TPD")*'Claims Data'!$L$10:$L$9996)} -> 8 | L33: {=SUMPRODUCT(('Claims Data'!$I$10:$I$9996=$D33)*('Claims Data'!$K$10:$K$9996=L$8)*('Claims Data'!$B$10:$B$9996="TPD")*'Claims Data'!$L$10:$L$9996)} -> 3.8 | ... P33: {=SUMPRODUCT(('Claims Data'!$I$10:$I$9996=$D33)*('Claims Data'!$K$10:$K$9996=P$8)*('Claims Data'!$B$10:$B$9996="TPD")*'Claims Data'!$L$10:$L$9996)} -> 2.6
C34: =_xlfn.NUMBERVALUE(LEFT(D34,4)) -> 2022 | D34: 2022Q2 | E34: {=SUMPRODUCT(('Claims Data'!$I$10:$I$9996=$D34)*('Claims Data'!$K$10:$K$9996=E$8)*('Claims Data'!$B$10:$B$9996="TPD")*'Claims Data'!$L$10:$L$9996)} -> 0 | F34: {=SUMPRODUCT(('Claims Data'!$I$10:$I$9996=$D34)*('Claims Data'!$K$10:$K$9996=F$8)*('Claims Data'!$B$10:$B$9996="TPD")*'Claims Data'!$L$10:$L$9996)} -> 3 | G34: {=SUMPRODUCT(('Claims Data'!$I$10:$I$9996=$D34)*('Claims Data'!$K$10:$K$9996=G$8)*('Claims Data'!$B$10:$B$9996="TPD")*'Claims Data'!$L$10:$L$9996)} -> 5 | H34: {=SUMPRODUCT(('Claims Data'!$I$10:$I$9996=$D34)*('Claims Data'!$K$10:$K$9996=H$8)*('Claims Data'!$B$10:$B$9996="TPD")*'Claims Data'!$L$10:$L$9996)} -> 10 | I34: {=SUMPRODUCT(('Claims Data'!$I$10:$I$9996=$D34)*('Claims Data'!$K$10:$K$9996=I$8)*('Claims Data'!$B$10:$B$9996="TPD")*'Claims Data'!$L$10:$L$9996)} -> 4.8 | J34: {=SUMPRODUCT(('Claims Data'!$I$10:$I$9996=$D34)*('Claims Data'!$K$10:$K$9996=J$8)*('Claims Data'!$B$10:$B$9996="TPD")*'Claims Data'!$L$10:$L$9996)} -> 6 | K34: {=SUMPRODUCT(('Claims Data'!$I$10:$I$9996=$D34)*('Claims Data'!$K$10:$K$9996=K$8)*('Claims Data'!$B$10:$B$9996="TPD")*'Claims Data'!$L$10:$L$9996)} -> 4.8 | L34: {=SUMPRODUCT(('Claims Data'!$I$10:$I$9996=$D34)*('Claims Data'!$K$10:$K$9996=L$8)*('Claims Data'!$B$10:$B$9996="TPD")*'Claims Data'!$L$10:$L$9996)} -> 17.2 | ... O34: {=SUMPRODUCT(('Claims Data'!$I$10:$I$9996=$D34)*('Claims Data'!$K$10:$K$9996=O$8)*('Claims Data'!$B$10:$B$9996="TPD")*'Claims Data'!$L$10:$L$9996)} -> 8
C35: =_xlfn.NUMBERVALUE(LEFT(D35,4)) -> 2022 | D35: 2022Q3 | E35: {=SUMPRODUCT(('Claims Data'!$I$10:$I$9996=$D35)*('Claims Data'!$K$10:$K$9996=E$8)*('Claims Data'!$B$10:$B$9996="TPD")*'Claims Data'!$L$10:$L$9996)} -> 0 | F35: {=SUMPRODUCT(('Claims Data'!$I$10:$I$9996=$D35)*('Claims Data'!$K$10:$K$9996=F$8)*('Claims Data'!$B$10:$B$9996="TPD")*'Claims Data'!$L$10:$L$9996)} -> 1 | G35: {=SUMPRODUCT(('Claims Data'!$I$10:$I$9996=$D35)*('Claims Data'!$K$10:$K$9996=G$8)*('Claims Data'!$B$10:$B$9996="TPD")*'Claims Data'!$L$10:$L$9996)} -> 11.8 | H35: {=SUMPRODUCT(('Claims Data'!$I$10:$I$9996=$D35)*('Claims Data'!$K$10:$K$9996=H$8)*('Claims Data'!$B$10:$B$9996="TPD")*'Claims Data'!$L$10:$L$9996)} -> 13 | I35: {=SUMPRODUCT(('Claims Data'!$I$10:$I$9996=$D35)*('Claims Data'!$K$10:$K$9996=I$8)*('Claims Data'!$B$10:$B$9996="TPD")*'Claims Data'!$L$10:$L$9996)} -> 7 | J35: {=SUMPRODUCT(('Claims Data'!$I$10:$I$9996=$D35)*('Claims Data'!$K$10:$K$9996=J$8)*('Claims Data'!$B$10:$B$9996="TPD")*'Claims Data'!$L$10:$L$9996)} -> 6 | K35: {=SUMPRODUCT(('Claims Data'!$I$10:$I$9996=$D35)*('Claims Data'!$K$10:$K$9996=K$8)*('Claims Data'!$B$10:$B$9996="TPD")*'Claims Data'!$L$10:$L$9996)} -> 9.8 | L35: {=SUMPRODUCT(('Claims Data'!$I$10:$I$9996=$D35)*('Claims Data'!$K$10:$K$9996=L$8)*('Claims Data'!$B$10:$B$9996="TPD")*'Claims Data'!$L$10:$L$9996)} -> 3.8 | ... N35: {=SUMPRODUCT(('Claims Data'!$I$10:$I$9996=$D35)*('Claims Data'!$K$10:$K$9996=N$8)*('Claims Data'!$B$10:$B$9996="TPD")*'Claims Data'!$L$10:$L$9996)} -> 11.4
C36: =_xlfn.NUMBERVALUE(LEFT(D36,4)) -> 2022 | D36: 2022Q4 | E36: {=SUMPRODUCT(('Claims Data'!$I$10:$I$9996=$D36)*('Claims Data'!$K$10:$K$9996=E$8)*('Claims Data'!$B$10:$B$9996="TPD")*'Claims Data'!$L$10:$L$9996)} -> 3 | F36: {=SUMPRODUCT(('Claims Data'!$I$10:$I$9996=$D36)*('Claims Data'!$K$10:$K$9996=F$8)*('Claims Data'!$B$10:$B$9996="TPD")*'Claims Data'!$L$10:$L$9996)} -> 5 | G36: {=SUMPRODUCT(('Claims Data'!$I$10:$I$9996=$D36)*('Claims Data'!$K$10:$K$9996=G$8)*('Claims Data'!$B$10:$B$9996="TPD")*'Claims Data'!$L$10:$L$9996)} -> 5 | H36: {=SUMPRODUCT(('Claims Data'!$I$10:$I$9996=$D36)*('Claims Data'!$K$10:$K$9996=H$8)*('Claims Data'!$B$10:$B$9996="TPD")*'Claims Data'!$L$10:$L$9996)} -> 12.8 | I36: {=SUMPRODUCT(('Claims Data'!$I$10:$I$9996=$D36)*('Claims Data'!$K$10:$K$9996=I$8)*('Claims Data'!$B$10:$B$9996="TPD")*'Claims Data'!$L$10:$L$9996)} -> 11.8 | J36: {=SUMPRODUCT(('Claims Data'!$I$10:$I$9996=$D36)*('Claims Data'!$K$10:$K$9996=J$8)*('Claims Data'!$B$10:$B$9996="TPD")*'Claims Data'!$L$10:$L$9996)} -> 7 | K36: {=SUMPRODUCT(('Claims Data'!$I$10:$I$9996=$D36)*('Claims Data'!$K$10:$K$9996=K$8)*('Claims Data'!$B$10:$B$9996="TPD")*'Claims Data'!$L$10:$L$9996)} -> 7.8 | L36: {=SUMPRODUCT(('Claims Data'!$I$10:$I$9996=$D36)*('Claims Data'!$K$10:$K$9996=L$8)*('Claims Data'!$B$10:$B$9996="TPD")*'Claims Data'!$L$10:$L$9996)} -> 9.6 | M36: {=SUMPRODUCT(('Claims Data'!$I$10:$I$9996=$D36)*('Claims Data'!$K$10:$K$9996=M$8)*('Claims Data'!$B$10:$B$9996="TPD")*'Claims Data'!$L$10:$L$9996)} -> 12.6
C37: =_xlfn.NUMBERVALUE(LEFT(D37,4)) -> 2023 | D37: 2023Q1 | E37: {=SUMPRODUCT(('Claims Data'!$I$10:$I$9996=$D37)*('Claims Data'!$K$10:$K$9996=E$8)*('Claims Data'!$B$10:$B$9996="TPD")*'Claims Data'!$L$10:$L$9996)} -> 0 | F37: {=SUMPRODUCT(('Claims Data'!$I$10:$I$9996=$D37)*('Claims Data'!$K$10:$K$9996=F$8)*('Claims Data'!$B$10:$B$9996="TPD")*'Claims Data'!$L$10:$L$9996)} -> 1 | G37: {=SUMPRODUCT(('Claims Data'!$I$10:$I$9996=$D37)*('Claims Data'!$K$10:$K$9996=G$8)*('Claims Data'!$B$10:$B$9996="TPD")*'Claims Data'!$L$10:$L$9996)} -> 4 | H37: {=SUMPRODUCT(('Claims Data'!$I$10:$I$9996=$D37)*('Claims Data'!$K$10:$K$9996=H$8)*('Claims Data'!$B$10:$B$9996="TPD")*'Claims Data'!$L$10:$L$9996)} -> 9.8 | I37: {=SUMPRODUCT(('Claims Data'!$I$10:$I$9996=$D37)*('Claims Data'!$K$10:$K$9996=I$8)*('Claims Data'!$B$10:$B$9996="TPD")*'Claims Data'!$L$10:$L$9996)} -> 13.8 | J37: {=SUMPRODUCT(('Claims Data'!$I$10:$I$9996=$D37)*('Claims Data'!$K$10:$K$9996=J$8)*('Claims Data'!$B$10:$B$9996="TPD")*'Claims Data'!$L$10:$L$9996)} -> 8.4 | K37: {=SUMPRODUCT(('Claims Data'!$I$10:$I$9996=$D37)*('Claims Data'!$K$10:$K$9996=K$8)*('Claims Data'!$B$10:$B$9996="TPD")*'Claims Data'!$L$10:$L$9996)} -> 9.4 | L37: {=SUMPRODUCT(('Claims Data'!$I$10:$I$9996=$D37)*('Claims Data'!$K$10:$K$9996=L$8)*('Claims Data'!$B$10:$B$9996="TPD")*'Claims Data'!$L$10:$L$9996)} -> 8.8
C38: =_xlfn.NUMBERVALUE(LEFT(D38,4)) -> 2023 | D38: 2023Q2 | E38: {=SUMPRODUCT(('Claims Data'!$I$10:$I$9996=$D38)*('Claims Data'!$K$10:$K$9996=E$8)*('Claims Data'!$B$10:$B$9996="TPD")*'Claims Data'!$L$10:$L$9996)} -> 0 | F38: {=SUMPRODUCT(('Claims Data'!$I$10:$I$9996=$D38)*('Claims Data'!$K$10:$K$9996=F$8)*('Claims Data'!$B$10:$B$9996="TPD")*'Claims Data'!$L$10:$L$9996)} -> 1 | G38: {=SUMPRODUCT(('Claims Data'!$I$10:$I$9996=$D38)*('Claims Data'!$K$10:$K$9996=G$8)*('Claims Data'!$B$10:$B$9996="TPD")*'Claims Data'!$L$10:$L$9996)} -> 7 | H38: {=SUMPRODUCT(('Claims Data'!$I$10:$I$9996=$D38)*('Claims Data'!$K$10:$K$9996=H$8)*('Claims Data'!$B$10:$B$9996="TPD")*'Claims Data'!$L$10:$L$9996)} -> 12 | I38: {=SUMPRODUCT(('Claims Data'!$I$10:$I$9996=$D38)*('Claims Data'!$K$10:$K$9996=I$8)*('Claims Data'!$B$10:$B$9996="TPD")*'Claims Data'!$L$10:$L$9996)} -> 14.6 | J38: {=SUMPRODUCT(('Claims Data'!$I$10:$I$9996=$D38)*('Claims Data'!$K$10:$K$9996=J$8)*('Claims Data'!$B$10:$B$9996="TPD")*'Claims Data'!$L$10:$L$9996)} -> 8 | K38: {=SUMPRODUCT(('Claims Data'!$I$10:$I$9996=$D38)*('Claims Data'!$K$10:$K$9996=K$8)*('Claims Data'!$B$10:$B$9996="TPD")*'Claims Data'!$L$10:$L$9996)} -> 10.2
C39: =_xlfn.NUMBERVALUE(LEFT(D39,4)) -> 2023 | D39: 2023Q3 | E39: {=SUMPRODUCT(('Claims Data'!$I$10:$I$9996=$D39)*('Claims Data'!$K$10:$K$9996=E$8)*('Claims Data'!$B$10:$B$9996="TPD")*'Claims Data'!$L$10:$L$9996)} -> 1 | F39: {=SUMPRODUCT(('Claims Data'!$I$10:$I$9996=$D39)*('Claims Data'!$K$10:$K$9996=F$8)*('Claims Data'!$B$10:$B$9996="TPD")*'Claims Data'!$L$10:$L$9996)} -> 0 | G39: {=SUMPRODUCT(('Claims Data'!$I$10:$I$9996=$D39)*('Claims Data'!$K$10:$K$9996=G$8)*('Claims Data'!$B$10:$B$9996="TPD")*'Claims Data'!$L$10:$L$9996)} -> 10.8 | H39: {=SUMPRODUCT(('Claims Data'!$I$10:$I$9996=$D39)*('Claims Data'!$K$10:$K$9996=H$8)*('Claims Data'!$B$10:$B$9996="TPD")*'Claims Data'!$L$10:$L$9996)} -> 17.4 | I39: {=SUMPRODUCT(('Claims Data'!$I$10:$I$9996=$D39)*('Claims Data'!$K$10:$K$9996=I$8)*('Claims Data'!$B$10:$B$9996="TPD")*'Claims Data'!$L$10:$L$9996)} -> 11.2 | J39: {=SUMPRODUCT(('Claims Data'!$I$10:$I$9996=$D39)*('Claims Data'!$K$10:$K$9996=J$8)*('Claims Data'!$B$10:$B$9996="TPD")*'Claims Data'!$L$10:$L$9996)} -> 10.6
C40: =_xlfn.NUMBERVALUE(LEFT(D40,4)) -> 2023 | D40: 2023Q4 | E40: {=SUMPRODUCT(('Claims Data'!$I$10:$I$9996=$D40)*('Claims Data'!$K$10:$K$9996=E$8)*('Claims Data'!$B$10:$B$9996="TPD")*'Claims Data'!$L$10:$L$9996)} -> 0 | F40: {=SUMPRODUCT(('Claims Data'!$I$10:$I$9996=$D40)*('Claims Data'!$K$10:$K$9996=F$8)*('Claims Data'!$B$10:$B$9996="TPD")*'Claims Data'!$L$10:$L$9996)} -> 0 | G40: {=SUMPRODUCT(('Claims Data'!$I$10:$I$9996=$D40)*('Claims Data'!$K$10:$K$9996=G$8)*('Claims Data'!$B$10:$B$9996="TPD")*'Claims Data'!$L$10:$L$9996)} -> 3 | H40: {=SUMPRODUCT(('Claims Data'!$I$10:$I$9996=$D40)*('Claims Data'!$K$10:$K$9996=H$8)*('Claims Data'!$B$10:$B$9996="TPD")*'Claims Data'!$L$10:$L$9996)} -> 13.4 | I40: {=SUMPRODUCT(('Claims Data'!$I$10:$I$9996=$D40)*('Claims Data'!$K$10:$K$9996=I$8)*('Claims Data'!$B$10:$B$9996="TPD")*'Claims Data'!$L$10:$L$9996)} -> 12.6
C41: =_xlfn.NUMBERVALUE(LEFT(D41,4)) -> 2024 | D41: 2024Q1 | E41: {=SUMPRODUCT(('Claims Data'!$I$10:$I$9996=$D41)*('Claims Data'!$K$10:$K$9996=E$8)*('Claims Data'!$B$10:$B$9996="TPD")*'Claims Data'!$L$10:$L$9996)} -> 0 | F41: {=SUMPRODUCT(('Claims Data'!$I$10:$I$9996=$D41)*('Claims Data'!$K$10:$K$9996=F$8)*('Claims Data'!$B$10:$B$9996="TPD")*'Claims Data'!$L$10:$L$9996)} -> 1 | G41: {=SUMPRODUCT(('Claims Data'!$I$10:$I$9996=$D41)*('Claims Data'!$K$10:$K$9996=G$8)*('Claims Data'!$B$10:$B$9996="TPD")*'Claims Data'!$L$10:$L$9996)} -> 8 | H41: {=SUMPRODUCT(('Claims Data'!$I$10:$I$9996=$D41)*('Claims Data'!$K$10:$K$9996=H$8)*('Claims Data'!$B$10:$B$9996="TPD")*'Claims Data'!$L$10:$L$9996)} -> 17.8
C42: =_xlfn.NUMBERVALUE(LEFT(D42,4)) -> 2024 | D42: 2024Q2 | E42: {=SUMPRODUCT(('Claims Data'!$I$10:$I$9996=$D42)*('Claims Data'!$K$10:$K$9996=E$8)*('Claims Data'!$B$10:$B$9996="TPD")*'Claims Data'!$L$10:$L$9996)} -> 0 | F42: {=SUMPRODUCT(('Claims Data'!$I$10:$I$9996=$D42)*('Claims Data'!$K$10:$K$9996=F$8)*('Claims Data'!$B$10:$B$9996="TPD")*'Claims Data'!$L$10:$L$9996)} -> 1 | G42: {=SUMPRODUCT(('Claims Data'!$I$10:$I$9996=$D42)*('Claims Data'!$K$10:$K$9996=G$8)*('Claims Data'!$B$10:$B$9996="TPD")*'Claims Data'!$L$10:$L$9996)} -> 8.4
...

Sheet Chain Ladder - Amount
C2: TPD Triangles
