Workbook

Sheet Documentation
B2: Life Insurance Practice Committee (LIPC)
B3: Technical Paper: IBNR
B4: Accompanying spreadsheet
B5: Oct 2026
B7: About this Spreadsheet
B9: Document Information and Version Control
B10: Document name: IBNR Technical Paper Examples Spreadsheet
B11: Version: | C11: 5
B12: Issue date: | C12: Oct 2026
B13: Authors: (alphabetical order) | C13: Byth, S; Goh, Y; Hudson, L; Jorgensen, F; Katon, A; Robertson-Hodder, C; Tsang, E; Yellowlees, C
B16: Copyright notice
B17: (c) Institute of Actuaries of Australia (ABN 69 000 423 656)
B18: Express written permission of the copyright owner is required to reproduce the whole, or any part of thereof, in any manner.
B21: Purpose and Limitations
B22: This spreadsheet was developed by the authors of the IBNR Technical Paper issued by the LIPC.
B23: The purpose of this spreadsheet is to assist readers of the Technical Paper in more readily understanding
B24: the methods described by providing worked examples.
B25: The data used is fictitious and should not be relied on beyond the examples for which it has been supplied.
B28: Document Map
B29: Tab | C29: Brief description
B30: Assumptions | C30: This tab describes the methodology and assumptions used
B31: Claims Data | C31: Sample claims data used in the worked examples.
B32: Premium and Membership Data | C32: Sample premium and membership data used in the worked examples.
B33: Chain Ladder - Count | C33: Example of the Chain Ladder Method based on claim counts. Two variations are provided:
D34: i) Based on all the periods.
D35: ii) Based on the last 16 notification quarters.
B36: Chain Ladder - Amount | C36: Example of the Chain Ladder Method based on claim amounts. Two variations are provided:
D37: i) Based on all the periods.
D38: ii) Based on the last 16 notification quarters.
B39: B-F Method | C39: Example of the Bornhuetter-Ferguson method.
B40: Additive | C40: Example of the Additive Method. Two variations are provided:
D41: i) Based on incremental count, all periods.
D42: ii) Based on incremental count, last 16 notification quarters.
B43: Summary | C43: A summary of results of the different methods to enable a comparison of the results.
B44: Chart | C44: A chart comparing the results across the different methods.

Sheet Assumptions
B2: Methodology and Assumptions
B3: This tab describes the methodology and assumptions used
B5: Assumptions applicable to all methods
B7: Discount rate | D7: In practice, it is usual to discount expected future claims back to the point of premium receipt (in relation to those claims).
D8: The impact can be quite significant, especially for TPD as the average claim reporting delay may be as long as three years (or even longer).
D9: However, for simplicity, no discounting has been applied in these examples.
B11: Pending and Declined Claims | D11: A uniform acceptance rate of 90% (that is, a declined rate of 10%) has been applied to all pending TPD claims.
C12: Oct 2026 | D12: In practice, the decline rate assumption may vary by reporting delay. However, any decision to use more granular assumptions
D13: must be balanced by the reduced credibility associated with that assumption.
D14: Declined claims have been excluded from the analysis.
B16: Premium and Claims Benefit Scales | D16: The examples assume that there has been no premium rate or benefit scale changes over time or that any past changes in premium rate or benefit scale
D17: have been converted to the latest basis.
B19: Allowance for long delay claims | D19: As a simplifying assumption, no allowance has been made for claims after 8 years in this spreadsheet. In practice, allowance may be needed for claims notified later than this.
B21: Chain Ladder method (count based)
B22: Average claim size | D22: This has been set as the overall average claim size of reported claims. In practice, it is possible to assume a different
D23: average claim size based on reporting delay. The use of a single average claim size is a simplifying assumption for illustration purposes.
D24: In practice, average claim sizes may vary materially by development delay, particularly for DI and group TPD (see Section 5.4 of the accompanying Technical Paper).
B26: Bornhuetter-Ferguson Method
B27: Assumed Loss Ratio | D27: This has been set as 80% for every incurred year. In practice, it is possible to set a different expected loss ratio for each year.
B29: TPD premium as % of total premium | D29: In this example, total premiums received are available, but the TPD portion of these premiums is not. This is not dissimilar to some situations encountered
D30: in real life. For the purposes of this example, TPD premiums have been assumed to be 50% of total premiums received.
B32: Array of Outstanding Proportions | D32: As noted in the example, the array of Outstanding Proportions for each Event Quarter in the B-F Method has been set from the
D33: Chain Ladder Method based on the last 16 notification quarters. In practice, this array of outstanding proportions would be set from a more developed dataset.

Sheet Data -->

Sheet Claims Data
B2: Claims Data
B4: Benefit | D4: Death | E4: Terminal Illness | F4: TPD
B5: Total sum insured | D5: {=SUMPRODUCT((B10:B9996="DTH")*H10:H9996*L10:L9996)} -> 164113000 | E5: {=SUMPRODUCT((B10:B9996="ILL")*H10:H9996*L10:L9996)} -> 9800000 | F5: {=SUMPRODUCT((B10:B9996="TPD")*H10:H9996*L10:L9996)} -> 106940800
B6: Total claims included | D6: {=SUMPRODUCT((B10:B9996="DTH")*L10:L9996)} -> 2644 | E6: {=SUMPRODUCT((B10:B9996="ILL")*L10:L9996)} -> 224 | F6: {=SUMPRODUCT((B10:B9996="TPD")*L10:L9996)} -> 2258.6
B7: Average claim size | D7: =D5/D6 -> 62069.97 | E7: =E5/E6 -> 43750 | F7: =F5/F6 -> 47348.269
B9: Claim Type | C9: Claim Status | D9: Age Last Birthday | E9: Occ Class | F9: Date Notified | G9: Date of Event | H9: SI | I9: Incurred Quarter | J9: Development Yr | K9: Development Qtr | L9: Weight
B10: DTH | C10: Admitted | D10: 40 | E10: STD | F10: 42440 | G10: 42399 | H10: 74000 | I10: =YEAR(G10)&"Q"&ROUNDUP(MONTH(G10)/3,0) -> 2016Q1 | J10: =YEAR(F10)-YEAR(G10) -> 0 | K10: =(YEAR(F10)*4+ROUNDDOWN((MONTH(F10)-1)/3,0)) -(YEAR(G10)*4+ROUNDDOWN((MONTH(G10)-1)/3,0)) -> 0 | L10: =IF(C10="Declined",0,IF(C10="Admitted",1,IF(B10="TPD",0.8,1))) -> 1
B11: DTH | C11: Admitted | D11: 20 | E11: STD | F11: 42476 | G11: 42402 | H11: 100000 | I11: =YEAR(G11)&"Q"&ROUNDUP(MONTH(G11)/3,0) -> 2016Q1 | J11: =YEAR(F11)-YEAR(G11) -> 0 | K11: =(YEAR(F11)*4+ROUNDDOWN((MONTH(F11)-1)/3,0)) -(YEAR(G11)*4+ROUNDDOWN((MONTH(G11)-1)/3,0)) -> 1 | L11: =IF(C11="Declined",0,IF(C11="Admitted",1,IF(B11="TPD",0.8,1))) -> 1
B12: DTH | C12: Admitted | D12: 41 | E12: STD | F12: 42476 | G12: 42413 | H12: 68000 | I12: =YEAR(G12)&"Q"&ROUNDUP(MONTH(G12)/3,0) -> 2016Q1 | J12: =YEAR(F12)-YEAR(G12) -> 0 | K12: =(YEAR(F12)*4+ROUNDDOWN((MONTH(F12)-1)/3,0)) -(YEAR(G12)*4+ROUNDDOWN((MONTH(G12)-1)/3,0)) -> 1 | L12: =IF(C12="Declined",0,IF(C12="Admitted",1,IF(B12="TPD",0.8,1))) -> 1
B13: DTH | C13: Admitted | D13: 58 | E13: STD | F13: 42476 | G13: 42446 | H13: 12000 | I13: =YEAR(G13)&"Q"&ROUNDUP(MONTH(G13)/3,0) -> 2016Q1 | J13: =YEAR(F13)-YEAR(G13) -> 0 | K13: =(YEAR(F13)*4+ROUNDDOWN((MONTH(F13)-1)/3,0)) -(YEAR(G13)*4+ROUNDDOWN((MONTH(G13)-1)/3,0)) -> 1 | L13: =IF(C13="Declined",0,IF(C13="Admitted",1,IF(B13="TPD",0.8,1))) -> 1
B14: DTH | C14: Admitted | D14: 46 | E14: STD | F14: 42477 | G14: 42410 | H14: 43000 | I14: =YEAR(G14)&"Q"&ROUNDUP(MONTH(G14)/3,0) -> 2016Q1 | J14: =YEAR(F14)-YEAR(G14) -> 0 | K14: =(YEAR(F14)*4+ROUNDDOWN((MONTH(F14)-1)/3,0)) -(YEAR(G14)*4+ROUNDDOWN((MONTH(G14)-1)/3,0)) -> 1 | L14: =IF(C14="Declined",0,IF(C14="Admitted",1,IF(B14="TPD",0.8,1))) -> 1
B15: DTH | C15: Admitted | D15: 33 | E15: STD | F15: 42478 | G15: 42442 | H15: 94000 | I15: =YEAR(G15)&"Q"&ROUNDUP(MONTH(G15)/3,0) -> 2016Q1 | J15: =YEAR(F15)-YEAR(G15) -> 0 | K15: =(YEAR(F15)*4+ROUNDDOWN((MONTH(F15)-1)/3,0)) -(YEAR(G15)*4+ROUNDDOWN((MONTH(G15)-1)/3,0)) -> 1 | L15: =IF(C15="Declined",0,IF(C15="Admitted",1,IF(B15="TPD",0.8,1))) -> 1
B16: DTH | C16: Admitted | D16: 19 | E16: STD | F16: 42484 | G16: 42375 | H16: 100000 | I16: =YEAR(G16)&"Q"&ROUNDUP(MONTH(G16)/3,0) -> 2016Q1 | J16: =YEAR(F16)-YEAR(G16) -> 0 | K16: =(YEAR(F16)*4+ROUNDDOWN((MONTH(F16)-1)/3,0)) -(YEAR(G16)*4+ROUNDDOWN((MONTH(G16)-1)/3,0)) -> 1 | L16: =IF(C16="Declined",0,IF(C16="Admitted",1,IF(B16="TPD",0.8,1))) -> 1
B17: DTH | C17: Admitted | D17: 55 | E17: STD | F17: 42484 | G17: 42435 | H17: 20000 | I17: =YEAR(G17)&"Q"&ROUNDUP(MONTH(G17)/3,0) -> 2016Q1 | J17: =YEAR(F17)-YEAR(G17) -> 0 | K17: =(YEAR(F17)*4+ROUNDDOWN((MONTH(F17)-1)/3,0)) -(YEAR(G17)*4+ROUNDDOWN((MONTH(G17)-1)/3,0)) -> 1 | L17: =IF(C17="Declined",0,IF(C17="Admitted",1,IF(B17="TPD",0.8,1))) -> 1
B18: TPD | C18: Declined | D18: 40 | E18: STD | F18: 42490 | G18: 42455 | H18: 74000 | I18: =YEAR(G18)&"Q"&ROUNDUP(MONTH(G18)/3,0) -> 2016Q1 | J18: =YEAR(F18)-YEAR(G18) -> 0 | K18: =(YEAR(F18)*4+ROUNDDOWN((MONTH(F18)-1)/3,0)) -(YEAR(G18)*4+ROUNDDOWN((MONTH(G18)-1)/3,0)) -> 1 | L18: =IF(C18="Declined",0,IF(C18="Admitted",1,IF(B18="TPD",0.8,1))) -> 0
B19: DTH | C19: Admitted | D19: 45 | E19: STD | F19: 42492 | G19: 42423 | H19: 47000 | I19: =YEAR(G19)&"Q"&ROUNDUP(MONTH(G19)/3,0) -> 2016Q1 | J19: =YEAR(F19)-YEAR(G19) -> 0 | K19: =(YEAR(F19)*4+ROUNDDOWN((MONTH(F19)-1)/3,0)) -(YEAR(G19)*4+ROUNDDOWN((MONTH(G19)-1)/3,0)) -> 1 | L19: =IF(C19="Declined",0,IF(C19="Admitted",1,IF(B19="TPD",0.8,1))) -> 1
B20: DTH | C20: Admitted | D20: 53 | E20: STD | F20: 42492 | G20: 42452 | H20: 25000 | I20: =YEAR(G20)&"Q"&ROUNDUP(MONTH(G20)/3,0) -> 2016Q1 | J20: =YEAR(F20)-YEAR(G20) -> 0 | K20: =(YEAR(F20)*4+ROUNDDOWN((MONTH(F20)-1)/3,0)) -(YEAR(G20)*4+ROUNDDOWN((MONTH(G20)-1)/3,0)) -> 1 | L20: =IF(C20="Declined",0,IF(C20="Admitted",1,IF(B20="TPD",0.8,1))) -> 1
B21: DTH | C21: Admitted | D21: 28 | E21: STD | F21: 42493 | G21: 42443 | H21: 100000 | I21: =YEAR(G21)&"Q"&ROUNDUP(MONTH(G21)/3,0) -> 2016Q1 | J21: =YEAR(F21)-YEAR(G21) -> 0 | K21: =(YEAR(F21)*4+ROUNDDOWN((MONTH(F21)-1)/3,0)) -(YEAR(G21)*4+ROUNDDOWN((MONTH(G21)-1)/3,0)) -> 1 | L21: =IF(C21="Declined",0,IF(C21="Admitted",1,IF(B21="TPD",0.8,1))) -> 1
... B5340: TPD | C5340: Pending | D5340: 61 | E5340: STD | F5340: 45655 | G5340: 45565 | H5340: 20000 | I5340: =YEAR(G5340)&"Q"&ROUNDUP(MONTH(G5340)/3,0) -> 2024Q3 | J5340: =YEAR(F5340)-YEAR(G5340) -> 0 | K5340: =(YEAR(F5340)*4+ROUNDDOWN((MONTH(F5340)-1)/3,0)) -(YEAR(G5340)*4+ROUNDDOWN((MONTH(G5340)-1)/3,0)) -> 1 | L5340: =IF(C5340="Declined",0,IF(C5340="Admitted",1,IF(B5340="TPD",0.8,1))) -> 0.8

Sheet Premium and Membership Data
B2: Premium and Membership Data
B4: Date | C4: Premiums received (year ending) | D4: No. of Members (as at)
B5: 42369 | C5: N/A * | D5: 211700
B6: =EOMONTH(B5,3) -> 42460 | C6: 6606500 | D6: 296500
B7: =EOMONTH(B6,3) -> 42551 | C7: 6606500 | D7: 296500
B8: =EOMONTH(B7,3) -> 42643 | C8: 6606500 | D8: 296500
B9: =EOMONTH(B8,3) -> 42735 | C9: 6606500 | D9: 296500
B10: =EOMONTH(B9,3) -> 42825 | C10: 8652750 | D10: 369100
B11: =EOMONTH(B10,3) -> 42916 | C11: 8652750 | D11: 369100
B12: =EOMONTH(B11,3) -> 43008 | C12: 8652750 | D12: 369100
B13: =EOMONTH(B12,3) -> 43100 | C13: 8652750 | D13: 369100
B14: =EOMONTH(B13,3) -> 43190 | C14: 10011250 | D14: 401000
B15: =EOMONTH(B14,3) -> 43281 | C15: 10011250 | D15: 401000
B16: =EOMONTH(B15,3) -> 43373 | C16: 10011250 | D16: 401000
B17: =EOMONTH(B16,3) -> 43465 | C17: 10011250 | D17: 401000
... B41: =EOMONTH(B40,3) -> 45657 | C41: 14835500 | D41: 567900
B43: Premiums are used in the Bornhuetter-Fergusson Method and the Additive Method based on Loss Ratio.
B44: No. of members is used in the Additive Method (count based).
B45: * Not used for the calculations in these examples.

Sheet Methods -->

Sheet Chain Ladder - Count
O1: hvsw
C2: TPD Triangles
C4: Chain Ladder Method - Tables Based on Claim Counts
C6: Table 1. Incremental - Number of Claims
E7: Development Quarter
C8: Year | D8: Quarter | E8: 0 | F8: =E8+1 -> 1 | G8: =F8+1 -> 2 | H8: =G8+1 -> 3 | I8: =H8+1 -> 4 | J8: =I8+1 -> 5 | K8: =J8+1 -> 6 | L8: =K8+1 -> 7 | M8: =L8+1 -> 8 | ... AN8: =AM8+1 -> 35
B9: Incurred Quarter | C9: =_xlfn.NUMBERVALUE(LEFT(D9,4)) -> 2016 | D9: 2016Q1 | E9: {=SUMPRODUCT(('Claims Data'!$I$10:$I$9996=$D9)*('Claims Data'!$K$10:$K$9996=E$8)*('Claims Data'!$B$10:$B$9996="TPD")*'Claims Data'!$L$10:$L$9996)} -> 0 | F9: {=SUMPRODUCT(('Claims Data'!$I$10:$I$9996=$D9)*('Claims Data'!$K$10:$K$9996=F$8)*('Claims Data'!$B$10:$B$9996="TPD")*'Claims Data'!$L$10:$L$9996)} -> 1 | G9: {=SUMPRODUCT(('Claims Data'!$I$10:$I$9996=$D9)*('Claims Data'!$K$10:$K$9996=G$8)*('Claims Data'!$B$10:$B$9996="TPD")*'Claims Data'!$L$10:$L$9996)} -> 2 | H9: {=SUMPRODUCT(('Claims Data'!$I$10:$I$9996=$D9)*('Claims Data'!$K$10:$K$9996=H$8)*('Claims Data'!$B$10:$B$9996="TPD")*'Claims Data'!$L$10:$L$9996)} -> 5 | I9: {=SUMPRODUCT(('Claims Data'!$I$10:$I$9996=$D9)*('Claims Data'!$K$10:$K$9996=I$8)*('Claims Data'!$B$10:$B$9996="TPD")*'Claims Data'!$L$10:$L$9996)} -> 5 | J9: {=SUMPRODUCT(('Claims Data'!$I$10:$I$9996=$D9)*('Claims Data'!$K$10:$K$9996=J$8)*('Claims Data'!$B$10:$B$9996="TPD")*'Claims Data'!$L$10:$L$9996)} -> 2 | K9: {=SUMPRODUCT(('Claims Data'!$I$10:$I$9996=$D9)*('Claims Data'!$K$10:$K$9996=K$8)*('Claims Data'!$B$10:$B$9996="TPD")*'Claims Data'!$L$10:$L$9996)} -> 3 | L9: {=SUMPRODUCT(('Claims Data'!$I$10:$I$9996=$D9)*('Claims Data'!$K$10:$K$9996=L$8)*('Claims Data'!$B$10:$B$9996="TPD")*'Claims Data'!$L$10:$L$9996)} -> 6 | ... AN9: {=SUMPRODUCT(('Claims Data'!$I$10:$I$9996=$D9)*('Claims Data'!$K$10:$K$9996=AN$8)*('Claims Data'!$B$10:$B$9996="TPD")*'Claims Data'!$L$10:$L$9996)} -> 0
C10: =_xlfn.NUMBERVALUE(LEFT(D10,4)) -> 2016 | D10: 2016Q2 | E10: {=SUMPRODUCT(('Claims Data'!$I$10:$I$9996=$D10)*('Claims Data'!$K$10:$K$9996=E$8)*('Claims Data'!$B$10:$B$9996="TPD")*'Claims Data'!$L$10:$L$9996)} -> 0 | F10: {=SUMPRODUCT(('Claims Data'!$I$10:$I$9996=$D10)*('Claims Data'!$K$10:$K$9996=F$8)*('Claims Data'!$B$10:$B$9996="TPD")*'Claims Data'!$L$10:$L$9996)} -> 0 | G10: {=SUMPRODUCT(('Claims Data'!$I$10:$I$9996=$D10)*('Claims Data'!$K$10:$K$9996=G$8)*('Claims Data'!$B$10:$B$9996="TPD")*'Claims Data'!$L$10:$L$9996)} -> 1 | H10: {=SUMPRODUCT(('Claims Data'!$I$10:$I$9996=$D10)*('Claims Data'!$K$10:$K$9996=H$8)*('Claims Data'!$B$10:$B$9996="TPD")*'Claims Data'!$L$10:$L$9996)} -> 0 | I10: {=SUMPRODUCT(('Claims Data'!$I$10:$I$9996=$D10)*('Claims Data'!$K$10:$K$9996=I$8)*('Claims Data'!$B$10:$B$9996="TPD")*'Claims Data'!$L$10:$L$9996)} -> 3 | J10: {=SUMPRODUCT(('Claims Data'!$I$10:$I$9996=$D10)*('Claims Data'!$K$10:$K$9996=J$8)*('Claims Data'!$B$10:$B$9996="TPD")*'Claims Data'!$L$10:$L$9996)} -> 2 | K10: {=SUMPRODUCT(('Claims Data'!$I$10:$I$9996=$D10)*('Claims Data'!$K$10:$K$9996=K$8)*('Claims Data'!$B$10:$B$9996="TPD")*'Claims Data'!$L$10:$L$9996)} -> 1 | L10: {=SUMPRODUCT(('Claims Data'!$I$10:$I$9996=$D10)*('Claims Data'!$K$10:$K$9996=L$8)*('Claims Data'!$B$10:$B$9996="TPD")*'Claims Data'!$L$10:$L$9996)} -> 4 | ... AM10: {=SUMPRODUCT(('Claims Data'!$I$10:$I$9996=$D10)*('Claims Data'!$K$10:$K$9996=AM$8)*('Claims Data'!$B$10:$B$9996="TPD")*'Claims Data'!$L$10:$L$9996)} -> 1.6
C11: =_xlfn.NUMBERVALUE(LEFT(D11,4)) -> 2016 | D11: 2016Q3 | E11: {=SUMPRODUCT(('Claims Data'!$I$10:$I$9996=$D11)*('Claims Data'!$K$10:$K$9996=E$8)*('Claims Data'!$B$10:$B$9996="TPD")*'Claims Data'!$L$10:$L$9996)} -> 0 | F11: {=SUMPRODUCT(('Claims Data'!$I$10:$I$9996=$D11)*('Claims Data'!$K$10:$K$9996=F$8)*('Claims Data'!$B$10:$B$9996="TPD")*'Claims Data'!$L$10:$L$9996)} -> 4 | G11: {=SUMPRODUCT(('Claims Data'!$I$10:$I$9996=$D11)*('Claims Data'!$K$10:$K$9996=G$8)*('Claims Data'!$B$10:$B$9996="TPD")*'Claims Data'!$L$10:$L$9996)} -> 1 | H11: {=SUMPRODUCT(('Claims Data'!$I$10:$I$9996=$D11)*('Claims Data'!$K$10:$K$9996=H$8)*('Claims Data'!$B$10:$B$9996="TPD")*'Claims Data'!$L$10:$L$9996)} -> 8 | I11: {=SUMPRODUCT(('Claims Data'!$I$10:$I$9996=$D11)*('Claims Data'!$K$10:$K$9996=I$8)*('Claims Data'!$B$10:$B$9996="TPD")*'Claims Data'!$L$10:$L$9996)} -> 8 | J11: {=SUMPRODUCT(('Claims Data'!$I$10:$I$9996=$D11)*('Claims Data'!$K$10:$K$9996=J$8)*('Claims Data'!$B$10:$B$9996="TPD")*'Claims Data'!$L$10:$L$9996)} -> 3 | K11: {=SUMPRODUCT(('Claims Data'!$I$10:$I$9996=$D11)*('Claims Data'!$K$10:$K$9996=K$8)*('Claims Data'!$B$10:$B$9996="TPD")*'Claims Data'!$L$10:$L$9996)} -> 4 | L11: {=SUMPRODUCT(('Claims Data'!$I$10:$I$9996=$D11)*('Claims Data'!$K$10:$K$9996=L$8)*('Claims Data'!$B$10:$B$9996="TPD")*'Claims Data'!$L$10:$L$9996)} -> 2 | ... AL11: {=SUMPRODUCT(('Claims Data'!$I$10:$I$9996=$D11)*('Claims Data'!$K$10:$K$9996=AL$8)*('Claims Data'!$B$10:$B$9996="TPD")*'Claims Data'!$L$10:$L$9996)} -> 0
C12: =_xlfn.NUMBERVALUE(LEFT(D12,4)) -> 2016 | D12: 2016Q4 | E12: {=SUMPRODUCT(('Claims Data'!$I$10:$I$9996=$D12)*('Claims Data'!$K$10:$K$9996=E$8)*('Claims Data'!$B$10:$B$9996="TPD")*'Claims Data'!$L$10:$L$9996)} -> 0 | F12: {=SUMPRODUCT(('Claims Data'!$I$10:$I$9996=$D12)*('Claims Data'!$K$10:$K$9996=F$8)*('Claims Data'!$B$10:$B$9996="TPD")*'Claims Data'!$L$10:$L$9996)} -> 4 | G12: {=SUMPRODUCT(('Claims Data'!$I$10:$I$9996=$D12)*('Claims Data'!$K$10:$K$9996=G$8)*('Claims Data'!$B$10:$B$9996="TPD")*'Claims Data'!$L$10:$L$9996)} -> 1 | H12: {=SUMPRODUCT(('Claims Data'!$I$10:$I$9996=$D12)*('Claims Data'!$K$10:$K$9996=H$8)*('Claims Data'!$B$10:$B$9996="TPD")*'Claims Data'!$L$10:$L$9996)} -> 5 | I12: {=SUMPRODUCT(('Claims Data'!$I$10:$I$9996=$D12)*('Claims Data'!$K$10:$K$9996=I$8)*('Claims Data'!$B$10:$B$9996="TPD")*'Claims Data'!$L$10:$L$9996)} -> 8 | J12: {=SUMPRODUCT(('Claims Data'!$I$10:$I$9996=$D12)*('Claims Data'!$K$10:$K$9996=J$8)*('Claims Data'!$B$10:$B$9996="TPD")*'Claims Data'!$L$10:$L$9996)} -> 4 | K12: {=SUMPRODUCT(('Claims Data'!$I$10:$I$9996=$D12)*('Claims Data'!$K$10:$K$9996=K$8)*('Claims Data'!$B$10:$B$9996="TPD")*'Claims Data'!$L$10:$L$9996)} -> 1 | L12: {=SUMPRODUCT(('Claims Data'!$I$10:$I$9996=$D12)*('Claims Data'!$K$10:$K$9996=L$8)*('Claims Data'!$B$10:$B$9996="TPD")*'Claims Data'!$L$10:$L$9996)} -> 2 | ... AK12: {=SUMPRODUCT(('Claims Data'!$I$10:$I$9996=$D12)*('Claims Data'!$K$10:$K$9996=AK$8)*('Claims Data'!$B$10:$B$9996="TPD")*'Claims Data'!$L$10:$L$9996)} -> 0.8
C13: =_xlfn.NUMBERVALUE(LEFT(D13,4)) -> 2017 | D13: 2017Q1 | E13: {=SUMPRODUCT(('Claims Data'!$I$10:$I$9996=$D13)*('Claims Data'!$K$10:$K$9996=E$8)*('Claims Data'!$B$10:$B$9996="TPD")*'Claims Data'!$L$10:$L$9996)} -> 0 | F13: {=SUMPRODUCT(('Claims Data'!$I$10:$I$9996=$D13)*('Claims Data'!$K$10:$K$9996=F$8)*('Claims Data'!$B$10:$B$9996="TPD")*'Claims Data'!$L$10:$L$9996)} -> 3 | G13: {=SUMPRODUCT(('Claims Data'!$I$10:$I$9996=$D13)*('Claims Data'!$K$10:$K$9996=G$8)*('Claims Data'!$B$10:$B$9996="TPD")*'Claims Data'!$L$10:$L$9996)} -> 3 | H13: {=SUMPRODUCT(('Claims Data'!$I$10:$I$9996=$D13)*('Claims Data'!$K$10:$K$9996=H$8)*('Claims Data'!$B$10:$B$9996="TPD")*'Claims Data'!$L$10:$L$9996)} -> 7 | I13: {=SUMPRODUCT(('Claims Data'!$I$10:$I$9996=$D13)*('Claims Data'!$K$10:$K$9996=I$8)*('Claims Data'!$B$10:$B$9996="TPD")*'Claims Data'!$L$10:$L$9996)} -> 3 | J13: {=SUMPRODUCT(('Claims Data'!$I$10:$I$9996=$D13)*('Claims Data'!$K$10:$K$9996=J$8)*('Claims Data'!$B$10:$B$9996="TPD")*'Claims Data'!$L$10:$L$9996)} -> 5 | K13: {=SUMPRODUCT(('Claims Data'!$I$10:$I$9996=$D13)*('Claims Data'!$K$10:$K$9996=K$8)*('Claims Data'!$B$10:$B$9996="TPD")*'Claims Data'!$L$10:$L$9996)} -> 4 | L13: {=SUMPRODUCT(('Claims Data'!$I$10:$I$9996=$D13)*('Claims Data'!$K$10:$K$9996=L$8)*('Claims Data'!$B$10:$B$9996="TPD")*'Claims Data'!$L$10:$L$9996)} -> 2 | ... AJ13: {=SUMPRODUCT(('Claims Data'!$I$10:$I$9996=$D13)*('Claims Data'!$K$10:$K$9996=AJ$8)*('Claims Data'!$B$10:$B$9996="TPD")*'Claims Data'!$L$10:$L$9996)} -> 1.6
C14: =_xlfn.NUMBERVALUE(LEFT(D14,4)) -> 2017 | D14: 2017Q2 | E14: {=SUMPRODUCT(('Claims Data'!$I$10:$I$9996=$D14)*('Claims Data'!$K$10:$K$9996=E$8)*('Claims Data'!$B$10:$B$9996="TPD")*'Claims Data'!$L$10:$L$9996)} -> 2 | F14: {=SUMPRODUCT(('Claims Data'!$I$10:$I$9996=$D14)*('Claims Data'!$K$10:$K$9996=F$8)*('Claims Data'!$B$10:$B$9996="TPD")*'Claims Data'!$L$10:$L$9996)} -> 1 | G14: {=SUMPRODUCT(('Claims Data'!$I$10:$I$9996=$D14)*('Claims Data'!$K$10:$K$9996=G$8)*('Claims Data'!$B$10:$B$9996="TPD")*'Claims Data'!$L$10:$L$9996)} -> 5 | H14: {=SUMPRODUCT(('Claims Data'!$I$10:$I$9996=$D14)*('Claims Data'!$K$10:$K$9996=H$8)*('Claims Data'!$B$10:$B$9996="TPD")*'Claims Data'!$L$10:$L$9996)} -> 11 | I14: {=SUMPRODUCT(('Claims Data'!$I$10:$I$9996=$D14)*('Claims Data'!$K$10:$K$9996=I$8)*('Claims Data'!$B$10:$B$9996="TPD")*'Claims Data'!$L$10:$L$9996)} -> 2 | J14: {=SUMPRODUCT(('Claims Data'!$I$10:$I$9996=$D14)*('Claims Data'!$K$10:$K$9996=J$8)*('Claims Data'!$B$10:$B$9996="TPD")*'Claims Data'!$L$10:$L$9996)} -> 5 | K14: {=SUMPRODUCT(('Claims Data'!$I$10:$I$9996=$D14)*('Claims Data'!$K$10:$K$9996=K$8)*('Claims Data'!$B$10:$B$9996="TPD")*'Claims Data'!$L$10:$L$9996)} -> 5 | L14: {=SUMPRODUCT(('Claims Data'!$I$10:$I$9996=$D14)*('Claims Data'!$K$10:$K$9996=L$8)*('Claims Data'!$B$10:$B$9996="TPD")*'Claims Data'!$L$10:$L$9996)} -> 1 | ... AI14: {=SUMPRODUCT(('Claims Data'!$I$10:$I$9996=$D14)*('Claims Data'!$K$10:$K$9996=AI$8)*('Claims Data'!$B$10:$B$9996="TPD")*'Claims Data'!$L$10:$L$9996)} -> 1
C15: =_xlfn.NUMBERVALUE(LEFT(D15,4)) -> 2017 | D15: 2017Q3 | E15: {=SUMPRODUCT(('Claims Data'!$I$10:$I$9996=$D15)*('Claims Data'!$K$10:$K$9996=E$8)*('Claims Data'!$B$10:$B$9996="TPD")*'Claims Data'!$L$10:$L$9996)} -> 0 | F15: {=SUMPRODUCT(('Claims Data'!$I$10:$I$9996=$D15)*('Claims Data'!$K$10:$K$9996=F$8)*('Claims Data'!$B$10:$B$9996="TPD")*'Claims Data'!$L$10:$L$9996)} -> 3 | G15: {=SUMPRODUCT(('Claims Data'!$I$10:$I$9996=$D15)*('Claims Data'!$K$10:$K$9996=G$8)*('Claims Data'!$B$10:$B$9996="TPD")*'Claims Data'!$L$10:$L$9996)} -> 5 | H15: {=SUMPRODUCT(('Claims Data'!$I$10:$I$9996=$D15)*('Claims Data'!$K$10:$K$9996=H$8)*('Claims Data'!$B$10:$B$9996="TPD")*'Claims Data'!$L$10:$L$9996)} -> 6 | I15: {=SUMPRODUCT(('Claims Data'!$I$10:$I$9996=$D15)*('Claims Data'!$K$10:$K$9996=I$8)*('Claims Data'!$B$10:$B$9996="TPD")*'Claims Data'!$L$10:$L$9996)} -> 4 | J15: {=SUMPRODUCT(('Claims Data'!$I$10:$I$9996=$D15)*('Claims Data'!$K$10:$K$9996=J$8)*('Claims Data'!$B$10:$B$9996="TPD")*'Claims Data'!$L$10:$L$9996)} -> 1 | K15: {=SUMPRODUCT(('Claims Data'!$I$10:$I$9996=$D15)*('Claims Data'!$K$10:$K$9996=K$8)*('Claims Data'!$B$10:$B$9996="TPD")*'Claims Data'!$L$10:$L$9996)} -> 2 | L15: {=SUMPRODUCT(('Claims Data'!$I$10:$I$9996=$D15)*('Claims Data'!$K$10:$K$9996=L$8)*('Claims Data'!$B$10:$B$9996="TPD")*'Claims Data'!$L$10:$L$9996)} -> 1 | ... AH15: {=SUMPRODUCT(('Claims Data'!$I$10:$I$9996=$D15)*('Claims Data'!$K$10:$K$9996=AH$8)*('Claims Data'!$B$10:$B$9996="TPD")*'Claims Data'!$L$10:$L$9996)} -> 0.8
C16: =_xlfn.NUMBERVALUE(LEFT(D16,4)) -> 2017 | D16: 2017Q4 | E16: {=SUMPRODUCT(('Claims Data'!$I$10:$I$9996=$D16)*('Claims Data'!$K$10:$K$9996=E$8)*('Claims Data'!$B$10:$B$9996="TPD")*'Claims Data'!$L$10:$L$9996)} -> 1 | F16: {=SUMPRODUCT(('Claims Data'!$I$10:$I$9996=$D16)*('Claims Data'!$K$10:$K$9996=F$8)*('Claims Data'!$B$10:$B$9996="TPD")*'Claims Data'!$L$10:$L$9996)} -> 4 | G16: {=SUMPRODUCT(('Claims Data'!$I$10:$I$9996=$D16)*('Claims Data'!$K$10:$K$9996=G$8)*('Claims Data'!$B$10:$B$9996="TPD")*'Claims Data'!$L$10:$L$9996)} -> 1 | H16: {=SUMPRODUCT(('Claims Data'!$I$10:$I$9996=$D16)*('Claims Data'!$K$10:$K$9996=H$8)*('Claims Data'!$B$10:$B$9996="TPD")*'Claims Data'!$L$10:$L$9996)} -> 10 | I16: {=SUMPRODUCT(('Claims Data'!$I$10:$I$9996=$D16)*('Claims Data'!$K$10:$K$9996=I$8)*('Claims Data'!$B$10:$B$9996="TPD")*'Claims Data'!$L$10:$L$9996)} -> 4 | J16: {=SUMPRODUCT(('Claims Data'!$I$10:$I$9996=$D16)*('Claims Data'!$K$10:$K$9996=J$8)*('Claims Data'!$B$10:$B$9996="TPD")*'Claims Data'!$L$10:$L$9996)} -> 3 | K16: {=SUMPRODUCT(('Claims Data'!$I$10:$I$9996=$D16)*('Claims Data'!$K$10:$K$9996=K$8)*('Claims Data'!$B$10:$B$9996="TPD")*'Claims Data'!$L$10:$L$9996)} -> 0 | L16: {=SUMPRODUCT(('Claims Data'!$I$10:$I$9996=$D16)*('Claims Data'!$K$10:$K$9996=L$8)*('Claims Data'!$B$10:$B$9996="TPD")*'Claims Data'!$L$10:$L$9996)} -> 4 | ... AG16: {=SUMPRODUCT(('Claims Data'!$I$10:$I$9996=$D16)*('Claims Data'!$K$10:$K$9996=AG$8)*('Claims Data'!$B$10:$B$9996="TPD")*'Claims Data'!$L$10:$L$9996)} -> 0
C17: =_xlfn.NUMBERVALUE(LEFT(D17,4)) -> 2018 | D17: 2018Q1 | E17: {=SUMPRODUCT(('Claims Data'!$I$10:$I$9996=$D17)*('Claims Data'!$K$10:$K$9996=E$8)*('Claims Data'!$B$10:$B$9996="TPD")*'Claims Data'!$L$10:$L$9996)} -> 0 | F17: {=SUMPRODUCT(('Claims Data'!$I$10:$I$9996=$D17)*('Claims Data'!$K$10:$K$9996=F$8)*('Claims Data'!$B$10:$B$9996="TPD")*'Claims Data'!$L$10:$L$9996)} -> 4 | G17: {=SUMPRODUCT(('Claims Data'!$I$10:$I$9996=$D17)*('Claims Data'!$K$10:$K$9996=G$8)*('Claims Data'!$B$10:$B$9996="TPD")*'Claims Data'!$L$10:$L$9996)} -> 4 | H17: {=SUMPRODUCT(('Claims Data'!$I$10:$I$9996=$D17)*('Claims Data'!$K$10:$K$9996=H$8)*('Claims Data'!$B$10:$B$9996="TPD")*'Claims Data'!$L$10:$L$9996)} -> 6 | I17: {=SUMPRODUCT(('Claims Data'!$I$10:$I$9996=$D17)*('Claims Data'!$K$10:$K$9996=I$8)*('Claims Data'!$B$10:$B$9996="TPD")*'Claims Data'!$L$10:$L$9996)} -> 4 | J17: {=SUMPRODUCT(('Claims Data'!$I$10:$I$9996=$D17)*('Claims Data'!$K$10:$K$9996=J$8)*('Claims Data'!$B$10:$B$9996="TPD")*'Claims Data'!$L$10:$L$9996)} -> 3 | K17: {=SUMPRODUCT(('Claims Data'!$I$10:$I$9996=$D17)*('Claims Data'!$K$10:$K$9996=K$8)*('Claims Data'!$B$10:$B$9996="TPD")*'Claims Data'!$L$10:$L$9996)} -> 3 | L17: {=SUMPRODUCT(('Claims Data'!$I$10:$I$9996=$D17)*('Claims Data'!$K$10:$K$9996=L$8)*('Claims Data'!$B$10:$B$9996="TPD")*'Claims Data'!$L$10:$L$9996)} -> 1 | ... AF17: {=SUMPRODUCT(('Claims Data'!$I$10:$I$9996=$D17)*('Claims Data'!$K$10:$K$9996=AF$8)*('Claims Data'!$B$10:$B$9996="TPD")*'Claims Data'!$L$10:$L$9996)} -> 1
C18: =_xlfn.NUMBERVALUE(LEFT(D18,4)) -> 2018 | D18: 2018Q2 | E18: {=SUMPRODUCT(('Claims Data'!$I$10:$I$9996=$D18)*('Claims Data'!$K$10:$K$9996=E$8)*('Claims Data'!$B$10:$B$9996="TPD")*'Claims Data'!$L$10:$L$9996)} -> 0 | F18: {=SUMPRODUCT(('Claims Data'!$I$10:$I$9996=$D18)*('Claims Data'!$K$10:$K$9996=F$8)*('Claims Data'!$B$10:$B$9996="TPD")*'Claims Data'!$L$10:$L$9996)} -> 0 | G18: {=SUMPRODUCT(('Claims Data'!$I$10:$I$9996=$D18)*('Claims Data'!$K$10:$K$9996=G$8)*('Claims Data'!$B$10:$B$9996="TPD")*'Claims Data'!$L$10:$L$9996)} -> 3 | H18: {=SUMPRODUCT(('Claims Data'!$I$10:$I$9996=$D18)*('Claims Data'!$K$10:$K$9996=H$8)*('Claims Data'!$B$10:$B$9996="TPD")*'Claims Data'!$L$10:$L$9996)} -> 11 | I18: {=SUMPRODUCT(('Claims Data'!$I$10:$I$9996=$D18)*('Claims Data'!$K$10:$K$9996=I$8)*('Claims Data'!$B$10:$B$9996="TPD")*'Claims Data'!$L$10:$L$9996)} -> 2 | J18: {=SUMPRODUCT(('Claims Data'!$I$10:$I$9996=$D18)*('Claims Data'!$K$10:$K$9996=J$8)*('Claims Data'!$B$10:$B$9996="TPD")*'Claims Data'!$L$10:$L$9996)} -> 3 | K18: {=SUMPRODUCT(('Claims Data'!$I$10:$I$9996=$D18)*('Claims Data'!$K$10:$K$9996=K$8)*('Claims Data'!$B$10:$B$9996="TPD")*'Claims Data'!$L$10:$L$9996)} -> 6 | L18: {=SUMPRODUCT(('Claims Data'!$I$10:$I$9996=$D18)*('Claims Data'!$K$10:$K$9996=L$8)*('Claims Data'!$B$10:$B$9996="TPD")*'Claims Data'!$L$10:$L$9996)} -> 5 | ... AE18: {=SUMPRODUCT(('Claims Data'!$I$10:$I$9996=$D18)*('Claims Data'!$K$10:$K$9996=AE$8)*('Claims Data'!$B$10:$B$9996="TPD")*'Claims Data'!$L$10:$L$9996)} -> 1.8
C19: =_xlfn.NUMBERVALUE(LEFT(D19,4)) -> 2018 | D19: 2018Q3 | E19: {=SUMPRODUCT(('Claims Data'!$I$10:$I$9996=$D19)*('Claims Data'!$K$10:$K$9996=E$8)*('Claims Data'!$B$10:$B$9996="TPD")*'Claims Data'!$L$10:$L$9996)} -> 0 | F19: {=SUMPRODUCT(('Claims Data'!$I$10:$I$9996=$D19)*('Claims Data'!$K$10:$K$9996=F$8)*('Claims Data'!$B$10:$B$9996="TPD")*'Claims Data'!$L$10:$L$9996)} -> 2 | G19: {=SUMPRODUCT(('Claims Data'!$I$10:$I$9996=$D19)*('Claims Data'!$K$10:$K$9996=G$8)*('Claims Data'!$B$10:$B$9996="TPD")*'Claims Data'!$L$10:$L$9996)} -> 3 | H19: {=SUMPRODUCT(('Claims Data'!$I$10:$I$9996=$D19)*('Claims Data'!$K$10:$K$9996=H$8)*('Claims Data'!$B$10:$B$9996="TPD")*'Claims Data'!$L$10:$L$9996)} -> 7 | I19: {=SUMPRODUCT(('Claims Data'!$I$10:$I$9996=$D19)*('Claims Data'!$K$10:$K$9996=I$8)*('Claims Data'!$B$10:$B$9996="TPD")*'Claims Data'!$L$10:$L$9996)} -> 6 | J19: {=SUMPRODUCT(('Claims Data'!$I$10:$I$9996=$D19)*('Claims Data'!$K$10:$K$9996=J$8)*('Claims Data'!$B$10:$B$9996="TPD")*'Claims Data'!$L$10:$L$9996)} -> 4 | K19: {=SUMPRODUCT(('Claims Data'!$I$10:$I$9996=$D19)*('Claims Data'!$K$10:$K$9996=K$8)*('Claims Data'!$B$10:$B$9996="TPD")*'Claims Data'!$L$10:$L$9996)} -> 3 | L19: {=SUMPRODUCT(('Claims Data'!$I$10:$I$9996=$D19)*('Claims Data'!$K$10:$K$9996=L$8)*('Claims Data'!$B$10:$B$9996="TPD")*'Claims Data'!$L$10:$L$9996)} -> 4 | ... AD19: {=SUMPRODUCT(('Claims Data'!$I$10:$I$9996=$D19)*('Claims Data'!$K$10:$K$9996=AD$8)*('Claims Data'!$B$10:$B$9996="TPD")*'Claims Data'!$L$10:$L$9996)} -> 1
C20: =_xlfn.NUMBERVALUE(LEFT(D20,4)) -> 2018 | D20: 2018Q4 | E20: {=SUMPRODUCT(('Claims Data'!$I$10:$I$9996=$D20)*('Claims Data'!$K$10:$K$9996=E$8)*('Claims Data'!$B$10:$B$9996="TPD")*'Claims Data'!$L$10:$L$9996)} -> 0 | F20: {=SUMPRODUCT(('Claims Data'!$I$10:$I$9996=$D20)*('Claims Data'!$K$10:$K$9996=F$8)*('Claims Data'!$B$10:$B$9996="TPD")*'Claims Data'!$L$10:$L$9996)} -> 2 | G20: {=SUMPRODUCT(('Claims Data'!$I$10:$I$9996=$D20)*('Claims Data'!$K$10:$K$9996=G$8)*('Claims Data'!$B$10:$B$9996="TPD")*'Claims Data'!$L$10:$L$9996)} -> 7 | H20: {=SUMPRODUCT(('Claims Data'!$I$10:$I$9996=$D20)*('Claims Data'!$K$10:$K$9996=H$8)*('Claims Data'!$B$10:$B$9996="TPD")*'Claims Data'!$L$10:$L$9996)} -> 6 | I20: {=SUMPRODUCT(('Claims Data'!$I$10:$I$9996=$D20)*('Claims Data'!$K$10:$K$9996=I$8)*('Claims Data'!$B$10:$B$9996="TPD")*'Claims Data'!$L$10:$L$9996)} -> 4 | J20: {=SUMPRODUCT(('Claims Data'!$I$10:$I$9996=$D20)*('Claims Data'!$K$10:$K$9996=J$8)*('Claims Data'!$B$10:$B$9996="TPD")*'Claims Data'!$L$10:$L$9996)} -> 5 | K20: {=SUMPRODUCT(('Claims Data'!$I$10:$I$9996=$D20)*('Claims Data'!$K$10:$K$9996=K$8)*('Claims Data'!$B$10:$B$9996="TPD")*'Claims Data'!$L$10:$L$9996)} -> 0 | L20: {=SUMPRODUCT(('Claims Data'!$I$10:$I$9996=$D20)*('Claims Data'!$K$10:$K$9996=L$8)*('Claims Data'!$B$10:$B$9996="TPD")*'Claims Data'!$L$10:$L$9996)} -> 4 | ... AC20: {=SUMPRODUCT(('Claims Data'!$I$10:$I$9996=$D20)*('Claims Data'!$K$10:$K$9996=AC$8)*('Claims Data'!$B$10:$B$9996="TPD")*'Claims Data'!$L$10:$L$9996)} -> 1
C21: =_xlfn.NUMBERVALUE(LEFT(D21,4)) -> 2019 | D21: 2019Q1 | E21: {=SUMPRODUCT(('Claims Data'!$I$10:$I$9996=$D21)*('Claims Data'!$K$10:$K$9996=E$8)*('Claims Data'!$B$10:$B$9996="TPD")*'Claims Data'!$L$10:$L$9996)} -> 0 | F21: {=SUMPRODUCT(('Claims Data'!$I$10:$I$9996=$D21)*('Claims Data'!$K$10:$K$9996=F$8)*('Claims Data'!$B$10:$B$9996="TPD")*'Claims Data'!$L$10:$L$9996)} -> 8 | G21: {=SUMPRODUCT(('Claims Data'!$I$10:$I$9996=$D21)*('Claims Data'!$K$10:$K$9996=G$8)*('Claims Data'!$B$10:$B$9996="TPD")*'Claims Data'!$L$10:$L$9996)} -> 4 | H21: {=SUMPRODUCT(('Claims Data'!$I$10:$I$9996=$D21)*('Claims Data'!$K$10:$K$9996=H$8)*('Claims Data'!$B$10:$B$9996="TPD")*'Claims Data'!$L$10:$L$9996)} -> 16 | I21: {=SUMPRODUCT(('Claims Data'!$I$10:$I$9996=$D21)*('Claims Data'!$K$10:$K$9996=I$8)*('Claims Data'!$B$10:$B$9996="TPD")*'Claims Data'!$L$10:$L$9996)} -> 7 | J21: {=SUMPRODUCT(('Claims Data'!$I$10:$I$9996=$D21)*('Claims Data'!$K$10:$K$9996=J$8)*('Claims Data'!$B$10:$B$9996="TPD")*'Claims Data'!$L$10:$L$9996)} -> 6 | K21: {=SUMPRODUCT(('Claims Data'!$I$10:$I$9996=$D21)*('Claims Data'!$K$10:$K$9996=K$8)*('Claims Data'!$B$10:$B$9996="TPD")*'Claims Data'!$L$10:$L$9996)} -> 3 | L21: {=SUMPRODUCT(('Claims Data'!$I$10:$I$9996=$D21)*('Claims Data'!$K$10:$K$9996=L$8)*('Claims Data'!$B$10:$B$9996="TPD")*'Claims Data'!$L$10:$L$9996)} -> 5 | ... AB21: {=SUMPRODUCT(('Claims Data'!$I$10:$I$9996=$D21)*('Claims Data'!$K$10:$K$9996=AB$8)*('Claims Data'!$B$10:$B$9996="TPD")*'Claims Data'!$L$10:$L$9996)} -> 0.8
C22: =_xlfn.NUMBERVALUE(LEFT(D22,4)) -> 2019 | D22: 2019Q2 | E22: {=SUMPRODUCT(('Claims Data'!$I$10:$I$9996=$D22)*('Claims Data'!$K$10:$K$9996=E$8)*('Claims Data'!$B$10:$B$9996="TPD")*'Claims Data'!$L$10:$L$9996)} -> 2 | F22: {=SUMPRODUCT(('Claims Data'!$I$10:$I$9996=$D22)*('Claims Data'!$K$10:$K$9996=F$8)*('Claims Data'!$B$10:$B$9996="TPD")*'Claims Data'!$L$10:$L$9996)} -> 9 | G22: {=SUMPRODUCT(('Claims Data'!$I$10:$I$9996=$D22)*('Claims Data'!$K$10:$K$9996=G$8)*('Claims Data'!$B$10:$B$9996="TPD")*'Claims Data'!$L$10:$L$9996)} -> 3 | H22: {=SUMPRODUCT(('Claims Data'!$I$10:$I$9996=$D22)*('Claims Data'!$K$10:$K$9996=H$8)*('Claims Data'!$B$10:$B$9996="TPD")*'Claims Data'!$L$10:$L$9996)} -> 12 | I22: {=SUMPRODUCT(('Claims Data'!$I$10:$I$9996=$D22)*('Claims Data'!$K$10:$K$9996=I$8)*('Claims Data'!$B$10:$B$9996="TPD")*'Claims Data'!$L$10:$L$9996)} -> 3 | J22: {=SUMPRODUCT(('Claims Data'!$I$10:$I$9996=$D22)*('Claims Data'!$K$10:$K$9996=J$8)*('Claims Data'!$B$10:$B$9996="TPD")*'Claims Data'!$L$10:$L$9996)} -> 6 | K22: {=SUMPRODUCT(('Claims Data'!$I$10:$I$9996=$D22)*('Claims Data'!$K$10:$K$9996=K$8)*('Claims Data'!$B$10:$B$9996="TPD")*'Claims Data'!$L$10:$L$9996)} -> 9 | L22: {=SUMPRODUCT(('Claims Data'!$I$10:$I$9996=$D22)*('Claims Data'!$K$10:$K$9996=L$8)*('Claims Data'!$B$10:$B$9996="TPD")*'Claims Data'!$L$10:$L$9996)} -> 6 | ... AA22: {=SUMPRODUCT(('Claims Data'!$I$10:$I$9996=$D22)*('Claims Data'!$K$10:$K$9996=AA$8)*('Claims Data'!$B$10:$B$9996="TPD")*'Claims Data'!$L$10:$L$9996)} -> 3.6
C23: =_xlfn.NUMBERVALUE(LEFT(D23,4)) -> 2019 | D23: 2019Q3 | E23: {=SUMPRODUCT(('Claims Data'!$I$10:$I$9996=$D23)*('Claims Data'!$K$10:$K$9996=E$8)*('Claims Data'!$B$10:$B$9996="TPD")*'Claims Data'!$L$10:$L$9996)} -> 1 | F23: {=SUMPRODUCT(('Claims Data'!$I$10:$I$9996=$D23)*('Claims Data'!$K$10:$K$9996=F$8)*('Claims Data'!$B$10:$B$9996="TPD")*'Claims Data'!$L$10:$L$9996)} -> 3 | G23: {=SUMPRODUCT(('Claims Data'!$I$10:$I$9996=$D23)*('Claims Data'!$K$10:$K$9996=G$8)*('Claims Data'!$B$10:$B$9996="TPD")*'Claims Data'!$L$10:$L$9996)} -> 7 | H23: {=SUMPRODUCT(('Claims Data'!$I$10:$I$9996=$D23)*('Claims Data'!$K$10:$K$9996=H$8)*('Claims Data'!$B$10:$B$9996="TPD")*'Claims Data'!$L$10:$L$9996)} -> 10 | I23: {=SUMPRODUCT(('Claims Data'!$I$10:$I$9996=$D23)*('Claims Data'!$K$10:$K$9996=I$8)*('Claims Data'!$B$10:$B$9996="TPD")*'Claims Data'!$L$10:$L$9996)} -> 9 | J23: {=SUMPRODUCT(('Claims Data'!$I$10:$I$9996=$D23)*('Claims Data'!$K$10:$K$9996=J$8)*('Claims Data'!$B$10:$B$9996="TPD")*'Claims Data'!$L$10:$L$9996)} -> 3 | K23: {=SUMPRODUCT(('Claims Data'!$I$10:$I$9996=$D23)*('Claims Data'!$K$10:$K$9996=K$8)*('Claims Data'!$B$10:$B$9996="TPD")*'Claims Data'!$L$10:$L$9996)} -> 6 | L23: {=SUMPRODUCT(('Claims Data'!$I$10:$I$9996=$D23)*('Claims Data'!$K$10:$K$9996=L$8)*('Claims Data'!$B$10:$B$9996="TPD")*'Claims Data'!$L$10:$L$9996)} -> 4 | ... Z23: {=SUMPRODUCT(('Claims Data'!$I$10:$I$9996=$D23)*('Claims Data'!$K$10:$K$9996=Z$8)*('Claims Data'!$B$10:$B$9996="TPD")*'Claims Data'!$L$10:$L$9996)} -> 6.4
C24: =_xlfn.NUMBERVALUE(LEFT(D24,4)) -> 2019 | D24: 2019Q4 | E24: {=SUMPRODUCT(('Claims Data'!$I$10:$I$9996=$D24)*('Claims Data'!$K$10:$K$9996=E$8)*('Claims Data'!$B$10:$B$9996="TPD")*'Claims Data'!$L$10:$L$9996)} -> 1 | F24: {=SUMPRODUCT(('Claims Data'!$I$10:$I$9996=$D24)*('Claims Data'!$K$10:$K$9996=F$8)*('Claims Data'!$B$10:$B$9996="TPD")*'Claims Data'!$L$10:$L$9996)} -> 7 | G24: {=SUMPRODUCT(('Claims Data'!$I$10:$I$9996=$D24)*('Claims Data'!$K$10:$K$9996=G$8)*('Claims Data'!$B$10:$B$9996="TPD")*'Claims Data'!$L$10:$L$9996)} -> 8 | H24: {=SUMPRODUCT(('Claims Data'!$I$10:$I$9996=$D24)*('Claims Data'!$K$10:$K$9996=H$8)*('Claims Data'!$B$10:$B$9996="TPD")*'Claims Data'!$L$10:$L$9996)} -> 11 | I24: {=SUMPRODUCT(('Claims Data'!$I$10:$I$9996=$D24)*('Claims Data'!$K$10:$K$9996=I$8)*('Claims Data'!$B$10:$B$9996="TPD")*'Claims Data'!$L$10:$L$9996)} -> 11 | J24: {=SUMPRODUCT(('Claims Data'!$I$10:$I$9996=$D24)*('Claims Data'!$K$10:$K$9996=J$8)*('Claims Data'!$B$10:$B$9996="TPD")*'Claims Data'!$L$10:$L$9996)} -> 6 | K24: {=SUMPRODUCT(('Claims Data'!$I$10:$I$9996=$D24)*('Claims Data'!$K$10:$K$9996=K$8)*('Claims Data'!$B$10:$B$9996="TPD")*'Claims Data'!$L$10:$L$9996)} -> 3 | L24: {=SUMPRODUCT(('Claims Data'!$I$10:$I$9996=$D24)*('Claims Data'!$K$10:$K$9996=L$8)*('Claims Data'!$B$10:$B$9996="TPD")*'Claims Data'!$L$10:$L$9996)} -> 2 | ... Y24: {=SUMPRODUCT(('Claims Data'!$I$10:$I$9996=$D24)*('Claims Data'!$K$10:$K$9996=Y$8)*('Claims Data'!$B$10:$B$9996="TPD")*'Claims Data'!$L$10:$L$9996)} -> 3.4
C25: =_xlfn.NUMBERVALUE(LEFT(D25,4)) -> 2020 | D25: 2020Q1 | E25: {=SUMPRODUCT(('Claims Data'!$I$10:$I$9996=$D25)*('Claims Data'!$K$10:$K$9996=E$8)*('Claims Data'!$B$10:$B$9996="TPD")*'Claims Data'!$L$10:$L$9996)} -> 4 | F25: {=SUMPRODUCT(('Claims Data'!$I$10:$I$9996=$D25)*('Claims Data'!$K$10:$K$9996=F$8)*('Claims Data'!$B$10:$B$9996="TPD")*'Claims Data'!$L$10:$L$9996)} -> 8 | G25: {=SUMPRODUCT(('Claims Data'!$I$10:$I$9996=$D25)*('Claims Data'!$K$10:$K$9996=G$8)*('Claims Data'!$B$10:$B$9996="TPD")*'Claims Data'!$L$10:$L$9996)} -> 8 | H25: {=SUMPRODUCT(('Claims Data'!$I$10:$I$9996=$D25)*('Claims Data'!$K$10:$K$9996=H$8)*('Claims Data'!$B$10:$B$9996="TPD")*'Claims Data'!$L$10:$L$9996)} -> 11 | I25: {=SUMPRODUCT(('Claims Data'!$I$10:$I$9996=$D25)*('Claims Data'!$K$10:$K$9996=I$8)*('Claims Data'!$B$10:$B$9996="TPD")*'Claims Data'!$L$10:$L$9996)} -> 9 | J25: {=SUMPRODUCT(('Claims Data'!$I$10:$I$9996=$D25)*('Claims Data'!$K$10:$K$9996=J$8)*('Claims Data'!$B$10:$B$9996="TPD")*'Claims Data'!$L$10:$L$9996)} -> 5 | K25: {=SUMPRODUCT(('Claims Data'!$I$10:$I$9996=$D25)*('Claims Data'!$K$10:$K$9996=K$8)*('Claims Data'!$B$10:$B$9996="TPD")*'Claims Data'!$L$10:$L$9996)} -> 5 | L25: {=SUMPRODUCT(('Claims Data'!$I$10:$I$9996=$D25)*('Claims Data'!$K$10:$K$9996=L$8)*('Claims Data'!$B$10:$B$9996="TPD")*'Claims Data'!$L$10:$L$9996)} -> 8 | ... X25: {=SUMPRODUCT(('Claims Data'!$I$10:$I$9996=$D25)*('Claims Data'!$K$10:$K$9996=X$8)*('Claims Data'!$B$10:$B$9996="TPD")*'Claims Data'!$L$10:$L$9996)} -> 0.8
C26: =_xlfn.NUMBERVALUE(LEFT(D26,4)) -> 2020 | D26: 2020Q2 | E26: {=SUMPRODUCT(('Claims Data'!$I$10:$I$9996=$D26)*('Claims Data'!$K$10:$K$9996=E$8)*('Claims Data'!$B$10:$B$9996="TPD")*'Claims Data'!$L$10:$L$9996)} -> 3 | F26: {=SUMPRODUCT(('Claims Data'!$I$10:$I$9996=$D26)*('Claims Data'!$K$10:$K$9996=F$8)*('Claims Data'!$B$10:$B$9996="TPD")*'Claims Data'!$L$10:$L$9996)} -> 5 | G26: {=SUMPRODUCT(('Claims Data'!$I$10:$I$9996=$D26)*('Claims Data'!$K$10:$K$9996=G$8)*('Claims Data'!$B$10:$B$9996="TPD")*'Claims Data'!$L$10:$L$9996)} -> 7 | H26: {=SUMPRODUCT(('Claims Data'!$I$10:$I$9996=$D26)*('Claims Data'!$K$10:$K$9996=H$8)*('Claims Data'!$B$10:$B$9996="TPD")*'Claims Data'!$L$10:$L$9996)} -> 8 | I26: {=SUMPRODUCT(('Claims Data'!$I$10:$I$9996=$D26)*('Claims Data'!$K$10:$K$9996=I$8)*('Claims Data'!$B$10:$B$9996="TPD")*'Claims Data'!$L$10:$L$9996)} -> 9 | J26: {=SUMPRODUCT(('Claims Data'!$I$10:$I$9996=$D26)*('Claims Data'!$K$10:$K$9996=J$8)*('Claims Data'!$B$10:$B$9996="TPD")*'Claims Data'!$L$10:$L$9996)} -> 6 | K26: {=SUMPRODUCT(('Claims Data'!$I$10:$I$9996=$D26)*('Claims Data'!$K$10:$K$9996=K$8)*('Claims Data'!$B$10:$B$9996="TPD")*'Claims Data'!$L$10:$L$9996)} -> 3 | L26: {=SUMPRODUCT(('Claims Data'!$I$10:$I$9996=$D26)*('Claims Data'!$K$10:$K$9996=L$8)*('Claims Data'!$B$10:$B$9996="TPD")*'Claims Data'!$L$10:$L$9996)} -> 1 | ... W26: {=SUMPRODUCT(('Claims Data'!$I$10:$I$9996=$D26)*('Claims Data'!$K$10:$K$9996=W$8)*('Claims Data'!$B$10:$B$9996="TPD")*'Claims Data'!$L$10:$L$9996)} -> 0
C27: =_xlfn.NUMBERVALUE(LEFT(D27,4)) -> 2020 | D27: 2020Q3 | E27: {=SUMPRODUCT(('Claims Data'!$I$10:$I$9996=$D27)*('Claims Data'!$K$10:$K$9996=E$8)*('Claims Data'!$B$10:$B$9996="TPD")*'Claims Data'!$L$10:$L$9996)} -> 7 | F27: {=SUMPRODUCT(('Claims Data'!$I$10:$I$9996=$D27)*('Claims Data'!$K$10:$K$9996=F$8)*('Claims Data'!$B$10:$B$9996="TPD")*'Claims Data'!$L$10:$L$9996)} -> 4 | G27: {=SUMPRODUCT(('Claims Data'!$I$10:$I$9996=$D27)*('Claims Data'!$K$10:$K$9996=G$8)*('Claims Data'!$B$10:$B$9996="TPD")*'Claims Data'!$L$10:$L$9996)} -> 19 | H27: {=SUMPRODUCT(('Claims Data'!$I$10:$I$9996=$D27)*('Claims Data'!$K$10:$K$9996=H$8)*('Claims Data'!$B$10:$B$9996="TPD")*'Claims Data'!$L$10:$L$9996)} -> 12 | I27: {=SUMPRODUCT(('Claims Data'!$I$10:$I$9996=$D27)*('Claims Data'!$K$10:$K$9996=I$8)*('Claims Data'!$B$10:$B$9996="TPD")*'Claims Data'!$L$10:$L$9996)} -> 8 | J27: {=SUMPRODUCT(('Claims Data'!$I$10:$I$9996=$D27)*('Claims Data'!$K$10:$K$9996=J$8)*('Claims Data'!$B$10:$B$9996="TPD")*'Claims Data'!$L$10:$L$9996)} -> 4 | K27: {=SUMPRODUCT(('Claims Data'!$I$10:$I$9996=$D27)*('Claims Data'!$K$10:$K$9996=K$8)*('Claims Data'!$B$10:$B$9996="TPD")*'Claims Data'!$L$10:$L$9996)} -> 2 | L27: {=SUMPRODUCT(('Claims Data'!$I$10:$I$9996=$D27)*('Claims Data'!$K$10:$K$9996=L$8)*('Claims Data'!$B$10:$B$9996="TPD")*'Claims Data'!$L$10:$L$9996)} -> 3 | ... V27: {=SUMPRODUCT(('Claims Data'!$I$10:$I$9996=$D27)*('Claims Data'!$K$10:$K$9996=V$8)*('Claims Data'!$B$10:$B$9996="TPD")*'Claims Data'!$L$10:$L$9996)} -> 4.2
C28: =_xlfn.NUMBERVALUE(LEFT(D28,4)) -> 2020 | D28: 2020Q4 | E28: {=SUMPRODUCT(('Claims Data'!$I$10:$I$9996=$D28)*('Claims Data'!$K$10:$K$9996=E$8)*('Claims Data'!$B$10:$B$9996="TPD")*'Claims Data'!$L$10:$L$9996)} -> 1 | F28: {=SUMPRODUCT(('Claims Data'!$I$10:$I$9996=$D28)*('Claims Data'!$K$10:$K$9996=F$8)*('Claims Data'!$B$10:$B$9996="TPD")*'Claims Data'!$L$10:$L$9996)} -> 4 | G28: {=SUMPRODUCT(('Claims Data'!$I$10:$I$9996=$D28)*('Claims Data'!$K$10:$K$9996=G$8)*('Claims Data'!$B$10:$B$9996="TPD")*'Claims Data'!$L$10:$L$9996)} -> 8 | H28: {=SUMPRODUCT(('Claims Data'!$I$10:$I$9996=$D28)*('Claims Data'!$K$10:$K$9996=H$8)*('Claims Data'!$B$10:$B$9996="TPD")*'Claims Data'!$L$10:$L$9996)} -> 20 | I28: {=SUMPRODUCT(('Claims Data'!$I$10:$I$9996=$D28)*('Claims Data'!$K$10:$K$9996=I$8)*('Claims Data'!$B$10:$B$9996="TPD")*'Claims Data'!$L$10:$L$9996)} -> 12 | J28: {=SUMPRODUCT(('Claims Data'!$I$10:$I$9996=$D28)*('Claims Data'!$K$10:$K$9996=J$8)*('Claims Data'!$B$10:$B$9996="TPD")*'Claims Data'!$L$10:$L$9996)} -> 3 | K28: {=SUMPRODUCT(('Claims Data'!$I$10:$I$9996=$D28)*('Claims Data'!$K$10:$K$9996=K$8)*('Claims Data'!$B$10:$B$9996="TPD")*'Claims Data'!$L$10:$L$9996)} -> 3 | L28: {=SUMPRODUCT(('Claims Data'!$I$10:$I$9996=$D28)*('Claims Data'!$K$10:$K$9996=L$8)*('Claims Data'!$B$10:$B$9996="TPD")*'Claims Data'!$L$10:$L$9996)} -> 3 | ... U28: {=SUMPRODUCT(('Claims Data'!$I$10:$I$9996=$D28)*('Claims Data'!$K$10:$K$9996=U$8)*('Claims Data'!$B$10:$B$9996="TPD")*'Claims Data'!$L$10:$L$9996)} -> 2.4
C29: =_xlfn.NUMBERVALUE(LEFT(D29,4)) -> 2021 | D29: 2021Q1 | E29: {=SUMPRODUCT(('Claims Data'!$I$10:$I$9996=$D29)*('Claims Data'!$K$10:$K$9996=E$8)*('Claims Data'!$B$10:$B$9996="TPD")*'Claims Data'!$L$10:$L$9996)} -> 0 | F29: {=SUMPRODUCT(('Claims Data'!$I$10:$I$9996=$D29)*('Claims Data'!$K$10:$K$9996=F$8)*('Claims Data'!$B$10:$B$9996="TPD")*'Claims Data'!$L$10:$L$9996)} -> 2 | G29: {=SUMPRODUCT(('Claims Data'!$I$10:$I$9996=$D29)*('Claims Data'!$K$10:$K$9996=G$8)*('Claims Data'!$B$10:$B$9996="TPD")*'Claims Data'!$L$10:$L$9996)} -> 11 | H29: {=SUMPRODUCT(('Claims Data'!$I$10:$I$9996=$D29)*('Claims Data'!$K$10:$K$9996=H$8)*('Claims Data'!$B$10:$B$9996="TPD")*'Claims Data'!$L$10:$L$9996)} -> 15 | I29: {=SUMPRODUCT(('Claims Data'!$I$10:$I$9996=$D29)*('Claims Data'!$K$10:$K$9996=I$8)*('Claims Data'!$B$10:$B$9996="TPD")*'Claims Data'!$L$10:$L$9996)} -> 5 | J29: {=SUMPRODUCT(('Claims Data'!$I$10:$I$9996=$D29)*('Claims Data'!$K$10:$K$9996=J$8)*('Claims Data'!$B$10:$B$9996="TPD")*'Claims Data'!$L$10:$L$9996)} -> 8 | K29: {=SUMPRODUCT(('Claims Data'!$I$10:$I$9996=$D29)*('Claims Data'!$K$10:$K$9996=K$8)*('Claims Data'!$B$10:$B$9996="TPD")*'Claims Data'!$L$10:$L$9996)} -> 0 | L29: {=SUMPRODUCT(('Claims Data'!$I$10:$I$9996=$D29)*('Claims Data'!$K$10:$K$9996=L$8)*('Claims Data'!$B$10:$B$9996="TPD")*'Claims Data'!$L$10:$L$9996)} -> 2 | ... T29: {=SUMPRODUCT(('Claims Data'!$I$10:$I$9996=$D29)*('Claims Data'!$K$10:$K$9996=T$8)*('Claims Data'!$B$10:$B$9996="TPD")*'Claims Data'!$L$10:$L$9996)} -> 2.8
C30: =_xlfn.NUMBERVALUE(LEFT(D30,4)) -> 2021 | D30: 2021Q2 | E30: {=SUMPRODUCT(('Claims Data'!$I$10:$I$9996=$D30)*('Claims Data'!$K$10:$K$9996=E$8)*('Claims Data'!$B$10:$B$9996="TPD")*'Claims Data'!$L$10:$L$9996)} -> 0 | F30: {=SUMPRODUCT(('Claims Data'!$I$10:$I$9996=$D30)*('Claims Data'!$K$10:$K$9996=F$8)*('Claims Data'!$B$10:$B$9996="TPD")*'Claims Data'!$L$10:$L$9996)} -> 1 | G30: {=SUMPRODUCT(('Claims Data'!$I$10:$I$9996=$D30)*('Claims Data'!$K$10:$K$9996=G$8)*('Claims Data'!$B$10:$B$9996="TPD")*'Claims Data'!$L$10:$L$9996)} -> 16 | H30: {=SUMPRODUCT(('Claims Data'!$I$10:$I$9996=$D30)*('Claims Data'!$K$10:$K$9996=H$8)*('Claims Data'!$B$10:$B$9996="TPD")*'Claims Data'!$L$10:$L$9996)} -> 4 | I30: {=SUMPRODUCT(('Claims Data'!$I$10:$I$9996=$D30)*('Claims Data'!$K$10:$K$9996=I$8)*('Claims Data'!$B$10:$B$9996="TPD")*'Claims Data'!$L$10:$L$9996)} -> 3 | J30: {=SUMPRODUCT(('Claims Data'!$I$10:$I$9996=$D30)*('Claims Data'!$K$10:$K$9996=J$8)*('Claims Data'!$B$10:$B$9996="TPD")*'Claims Data'!$L$10:$L$9996)} -> 12 | K30: {=SUMPRODUCT(('Claims Data'!$I$10:$I$9996=$D30)*('Claims Data'!$K$10:$K$9996=K$8)*('Claims Data'!$B$10:$B$9996="TPD")*'Claims Data'!$L$10:$L$9996)} -> 4 | L30: {=SUMPRODUCT(('Claims Data'!$I$10:$I$9996=$D30)*('Claims Data'!$K$10:$K$9996=L$8)*('Claims Data'!$B$10:$B$9996="TPD")*'Claims Data'!$L$10:$L$9996)} -> 4 | ... S30: {=SUMPRODUCT(('Claims Data'!$I$10:$I$9996=$D30)*('Claims Data'!$K$10:$K$9996=S$8)*('Claims Data'!$B$10:$B$9996="TPD")*'Claims Data'!$L$10:$L$9996)} -> 6.6
C31: =_xlfn.NUMBERVALUE(LEFT(D31,4)) -> 2021 | D31: 2021Q3 | E31: {=SUMPRODUCT(('Claims Data'!$I$10:$I$9996=$D31)*('Claims Data'!$K$10:$K$9996=E$8)*('Claims Data'!$B$10:$B$9996="TPD")*'Claims Data'!$L$10:$L$9996)} -> 2 | F31: {=SUMPRODUCT(('Claims Data'!$I$10:$I$9996=$D31)*('Claims Data'!$K$10:$K$9996=F$8)*('Claims Data'!$B$10:$B$9996="TPD")*'Claims Data'!$L$10:$L$9996)} -> 4 | G31: {=SUMPRODUCT(('Claims Data'!$I$10:$I$9996=$D31)*('Claims Data'!$K$10:$K$9996=G$8)*('Claims Data'!$B$10:$B$9996="TPD")*'Claims Data'!$L$10:$L$9996)} -> 6 | H31: {=SUMPRODUCT(('Claims Data'!$I$10:$I$9996=$D31)*('Claims Data'!$K$10:$K$9996=H$8)*('Claims Data'!$B$10:$B$9996="TPD")*'Claims Data'!$L$10:$L$9996)} -> 10 | I31: {=SUMPRODUCT(('Claims Data'!$I$10:$I$9996=$D31)*('Claims Data'!$K$10:$K$9996=I$8)*('Claims Data'!$B$10:$B$9996="TPD")*'Claims Data'!$L$10:$L$9996)} -> 13 | J31: {=SUMPRODUCT(('Claims Data'!$I$10:$I$9996=$D31)*('Claims Data'!$K$10:$K$9996=J$8)*('Claims Data'!$B$10:$B$9996="TPD")*'Claims Data'!$L$10:$L$9996)} -> 15 | K31: {=SUMPRODUCT(('Claims Data'!$I$10:$I$9996=$D31)*('Claims Data'!$K$10:$K$9996=K$8)*('Claims Data'!$B$10:$B$9996="TPD")*'Claims Data'!$L$10:$L$9996)} -> 10 | L31: {=SUMPRODUCT(('Claims Data'!$I$10:$I$9996=$D31)*('Claims Data'!$K$10:$K$9996=L$8)*('Claims Data'!$B$10:$B$9996="TPD")*'Claims Data'!$L$10:$L$9996)} -> 3 | ... R31: {=SUMPRODUCT(('Claims Data'!$I$10:$I$9996=$D31)*('Claims Data'!$K$10:$K$9996=R$8)*('Claims Data'!$B$10:$B$9996="TPD")*'Claims Data'!$L$10:$L$9996)} -> 4.2
C32: =_xlfn.NUMBERVALUE(LEFT(D32,4)) -> 2021 | D32: 2021Q4 | E32: {=SUMPRODUCT(('Claims Data'!$I$10:$I$9996=$D32)*('Claims Data'!$K$10:$K$9996=E$8)*('Claims Data'!$B$10:$B$9996="TPD")*'Claims Data'!$L$10:$L$9996)} -> 0 | F32: {=SUMPRODUCT(('Claims Data'!$I$10:$I$9996=$D32)*('Claims Data'!$K$10:$K$9996=F$8)*('Claims Data'!$B$10:$B$9996="TPD")*'Claims Data'!$L$10:$L$9996)} -> 2 | G32: {=SUMPRODUCT(('Claims Data'!$I$10:$I$9996=$D32)*('Claims Data'!$K$10:$K$9996=G$8)*('Claims Data'!$B$10:$B$9996="TPD")*'Claims Data'!$L$10:$L$9996)} -> 8 | H32: {=SUMPRODUCT(('Claims Data'!$I$10:$I$9996=$D32)*('Claims Data'!$K$10:$K$9996=H$8)*('Claims Data'!$B$10:$B$9996="TPD")*'Claims Data'!$L$10:$L$9996)} -> 13 | I32: {=SUMPRODUCT(('Claims Data'!$I$10:$I$9996=$D32)*('Claims Data'!$K$10:$K$9996=I$8)*('Claims Data'!$B$10:$B$9996="TPD")*'Claims Data'!$L$10:$L$9996)} -> 8 | J32: {=SUMPRODUCT(('Claims Data'!$I$10:$I$9996=$D32)*('Claims Data'!$K$10:$K$9996=J$8)*('Claims Data'!$B$10:$B$9996="TPD")*'Claims Data'!$L$10:$L$9996)} -> 11 | K32: {=SUMPRODUCT(('Claims Data'!$I$10:$I$9996=$D32)*('Claims Data'!$K$10:$K$9996=K$8)*('Claims Data'!$B$10:$B$9996="TPD")*'Claims Data'!$L$10:$L$9996)} -> 7 | L32: {=SUMPRODUCT(('Claims Data'!$I$10:$I$9996=$D32)*('Claims Data'!$K$10:$K$9996=L$8)*('Claims Data'!$B$10:$B$9996="TPD")*'Claims Data'!$L$10:$L$9996)} -> 7 | ... Q32: {=SUMPRODUCT(('Claims Data'!$I$10:$I$9996=$D32)*('Claims Data'!$K$10:$K$9996=Q$8)*('Claims Data'!$B$10:$B$9996="TPD")*'Claims Data'!$L$10:$L$9996)} -> 5
C33: =_xlfn.NUMBERVALUE(LEFT(D33,4)) -> 2022 | D33: 2022Q1 | E33: {=SUMPRODUCT(('Claims Data'!$I$10:$I$9996=$D33)*('Claims Data'!$K$10:$K$9996=E$8)*('Claims Data'!$B$10:$B$9996="TPD")*'Claims Data'!$L$10:$L$9996)} -> 1 | F33: {=SUMPRODUCT(('Claims Data'!$I$10:$I$9996=$D33)*('Claims Data'!$K$10:$K$9996=F$8)*('Claims Data'!$B$10:$B$9996="TPD")*'Claims Data'!$L$10:$L$9996)} -> 0 | G33: {=SUMPRODUCT(('Claims Data'!$I$10:$I$9996=$D33)*('Claims Data'!$K$10:$K$9996=G$8)*('Claims Data'!$B$10:$B$9996="TPD")*'Claims Data'!$L$10:$L$9996)} -> 4 | H33: {=SUMPRODUCT(('Claims Data'!$I$10:$I$9996=$D33)*('Claims Data'!$K$10:$K$9996=H$8)*('Claims Data'!$B$10:$B$9996="TPD")*'Claims Data'!$L$10:$L$9996)} -> 8 | I33: {=SUMPRODUCT(('Claims Data'!$I$10:$I$9996=$D33)*('Claims Data'!$K$10:$K$9996=I$8)*('Claims Data'!$B$10:$B$9996="TPD")*'Claims Data'!$L$10:$L$9996)} -> 11 | J33: {=SUMPRODUCT(('Claims Data'!$I$10:$I$9996=$D33)*('Claims Data'!$K$10:$K$9996=J$8)*('Claims Data'!$B$10:$B$9996="TPD")*'Claims Data'!$L$10:$L$9996)} -> 5 | K33: {=SUMPRODUCT(('Claims Data'!$I$10:$I$9996=$D33)*('Claims Data'!$K$10:$K$9996=K$8)*('Claims Data'!$B$10:$B$9996="TPD")*'Claims Data'!$L$10:$L$9996)} -> 8 | L33: {=SUMPRODUCT(('Claims Data'!$I$10:$I$9996=$D33)*('Claims Data'!$K$10:$K$9996=L$8)*('Claims Data'!$B$10:$B$9996="TPD")*'Claims Data'!$L$10:$L$9996)} -> 3.8 | ... P33: {=SUMPRODUCT(('Claims Data'!$I$10:$I$9996=$D33)*('Claims Data'!$K$10:$K$9996=P$8)*('Claims Data'!$B$10:$B$9996="TPD")*'Claims Data'!$L$10:$L$9996)} -> 2.6
C34: =_xlfn.NUMBERVALUE(LEFT(D34,4)) -> 2022 | D34: 2022Q2 | E34: {=SUMPRODUCT(('Claims Data'!$I$10:$I$9996=$D34)*('Claims Data'!$K$10:$K$9996=E$8)*('Claims Data'!$B$10:$B$9996="TPD")*'Claims Data'!$L$10:$L$9996)} -> 0 | F34: {=SUMPRODUCT(('Claims Data'!$I$10:$I$9996=$D34)*('Claims Data'!$K$10:$K$9996=F$8)*('Claims Data'!$B$10:$B$9996="TPD")*'Claims Data'!$L$10:$L$9996)} -> 3 | G34: {=SUMPRODUCT(('Claims Data'!$I$10:$I$9996=$D34)*('Claims Data'!$K$10:$K$9996=G$8)*('Claims Data'!$B$10:$B$9996="TPD")*'Claims Data'!$L$10:$L$9996)} -> 5 | H34: {=SUMPRODUCT(('Claims Data'!$I$10:$I$9996=$D34)*('Claims Data'!$K$10:$K$9996=H$8)*('Claims Data'!$B$10:$B$9996="TPD")*'Claims Data'!$L$10:$L$9996)} -> 10 | I34: {=SUMPRODUCT(('Claims Data'!$I$10:$I$9996=$D34)*('Claims Data'!$K$10:$K$9996=I$8)*('Claims Data'!$B$10:$B$9996="TPD")*'Claims Data'!$L$10:$L$9996)} -> 4.8 | J34: {=SUMPRODUCT(('Claims Data'!$I$10:$I$9996=$D34)*('Claims Data'!$K$10:$K$9996=J$8)*('Claims Data'!$B$10:$B$9996="TPD")*'Claims Data'!$L$10:$L$9996)} -> 6 | K34: {=SUMPRODUCT(('Claims Data'!$I$10:$I$9996=$D34)*('Claims Data'!$K$10:$K$9996=K$8)*('Claims Data'!$B$10:$B$9996="TPD")*'Claims Data'!$L$10:$L$9996)} -> 4.8 | L34: {=SUMPRODUCT(('Claims Data'!$I$10:$I$9996=$D34)*('Claims Data'!$K$10:$K$9996=L$8)*('Claims Data'!$B$10:$B$9996="TPD")*'Claims Data'!$L$10:$L$9996)} -> 17.2 | ... O34: {=SUMPRODUCT(('Claims Data'!$I$10:$I$9996=$D34)*('Claims Data'!$K$10:$K$9996=O$8)*('Claims Data'!$B$10:$B$9996="TPD")*'Claims Data'!$L$10:$L$9996)} -> 8
C35: =_xlfn.NUMBERVALUE(LEFT(D35,4)) -> 2022 | D35: 2022Q3 | E35: {=SUMPRODUCT(('Claims Data'!$I$10:$I$9996=$D35)*('Claims Data'!$K$10:$K$9996=E$8)*('Claims Data'!$B$10:$B$9996="TPD")*'Claims Data'!$L$10:$L$9996)} -> 0 | F35: {=SUMPRODUCT(('Claims Data'!$I$10:$I$9996=$D35)*('Claims Data'!$K$10:$K$9996=F$8)*('Claims Data'!$B$10:$B$9996="TPD")*'Claims Data'!$L$10:$L$9996)} -> 1 | G35: {=SUMPRODUCT(('Claims Data'!$I$10:$I$9996=$D35)*('Claims Data'!$K$10:$K$9996=G$8)*('Claims Data'!$B$10:$B$9996="TPD")*'Claims Data'!$L$10:$L$9996)} -> 11.8 | H35: {=SUMPRODUCT(('Claims Data'!$I$10:$I$9996=$D35)*('Claims Data'!$K$10:$K$9996=H$8)*('Claims Data'!$B$10:$B$9996="TPD")*'Claims Data'!$L$10:$L$9996)} -> 13 | I35: {=SUMPRODUCT(('Claims Data'!$I$10:$I$9996=$D35)*('Claims Data'!$K$10:$K$9996=I$8)*('Claims Data'!$B$10:$B$9996="TPD")*'Claims Data'!$L$10:$L$9996)} -> 7 | J35: {=SUMPRODUCT(('Claims Data'!$I$10:$I$9996=$D35)*('Claims Data'!$K$10:$K$9996=J$8)*('Claims Data'!$B$10:$B$9996="TPD")*'Claims Data'!$L$10:$L$9996)} -> 6 | K35: {=SUMPRODUCT(('Claims Data'!$I$10:$I$9996=$D35)*('Claims Data'!$K$10:$K$9996=K$8)*('Claims Data'!$B$10:$B$9996="TPD")*'Claims Data'!$L$10:$L$9996)} -> 9.8 | L35: {=SUMPRODUCT(('Claims Data'!$I$10:$I$9996=$D35)*('Claims Data'!$K$10:$K$9996=L$8)*('Claims Data'!$B$10:$B$9996="TPD")*'Claims Data'!$L$10:$L$9996)} -> 3.8 | ... N35: {=SUMPRODUCT(('Claims Data'!$I$10:$I$9996=$D35)*('Claims Data'!$K$10:$K$9996=N$8)*('Claims Data'!$B$10:$B$9996="TPD")*'Claims Data'!$L$10:$L$9996)} -> 11.4
C36: =_xlfn.NUMBERVALUE(LEFT(D36,4)) -> 2022 | D36: 2022Q4 | E36: {=SUMPRODUCT(('Claims Data'!$I$10:$I$9996=$D36)*('Claims Data'!$K$10:$K$9996=E$8)*('Claims Data'!$B$10:$B$9996="TPD")*'Claims Data'!$L$10:$L$9996)} -> 3 | F36: {=SUMPRODUCT(('Claims Data'!$I$10:$I$9996=$D36)*('Claims Data'!$K$10:$K$9996=F$8)*('Claims Data'!$B$10:$B$9996="TPD")*'Claims Data'!$L$10:$L$9996)} -> 5 | G36: {=SUMPRODUCT(('Claims Data'!$I$10:$I$9996=$D36)*('Claims Data'!$K$10:$K$9996=G$8)*('Claims Data'!$B$10:$B$9996="TPD")*'Claims Data'!$L$10:$L$9996)} -> 5 | H36: {=SUMPRODUCT(('Claims Data'!$I$10:$I$9996=$D36)*('Claims Data'!$K$10:$K$9996=H$8)*('Claims Data'!$B$10:$B$9996="TPD")*'Claims Data'!$L$10:$L$9996)} -> 12.8 | I36: {=SUMPRODUCT(('Claims Data'!$I$10:$I$9996=$D36)*('Claims Data'!$K$10:$K$9996=I$8)*('Claims Data'!$B$10:$B$9996="TPD")*'Claims Data'!$L$10:$L$9996)} -> 11.8 | J36: {=SUMPRODUCT(('Claims Data'!$I$10:$I$9996=$D36)*('Claims Data'!$K$10:$K$9996=J$8)*('Claims Data'!$B$10:$B$9996="TPD")*'Claims Data'!$L$10:$L$9996)} -> 7 | K36: {=SUMPRODUCT(('Claims Data'!$I$10:$I$9996=$D36)*('Claims Data'!$K$10:$K$9996=K$8)*('Claims Data'!$B$10:$B$9996="TPD")*'Claims Data'!$L$10:$L$9996)} -> 7.8 | L36: {=SUMPRODUCT(('Claims Data'!$I$10:$I$9996=$D36)*('Claims Data'!$K$10:$K$9996=L$8)*('Claims Data'!$B$10:$B$9996="TPD")*'Claims Data'!$L$10:$L$9996)} -> 9.6 | M36: {=SUMPRODUCT(('Claims Data'!$I$10:$I$9996=$D36)*('Claims Data'!$K$10:$K$9996=M$8)*('Claims Data'!$B$10:$B$9996="TPD")*'Claims Data'!$L$10:$L$9996)} -> 12.6
C37: =_xlfn.NUMBERVALUE(LEFT(D37,4)) -> 2023 | D37: 2023Q1 | E37: {=SUMPRODUCT(('Claims Data'!$I$10:$I$9996=$D37)*('Claims Data'!$K$10:$K$9996=E$8)*('Claims Data'!$B$10:$B$9996="TPD")*'Claims Data'!$L$10:$L$9996)} -> 0 | F37: {=SUMPRODUCT(('Claims Data'!$I$10:$I$9996=$D37)*('Claims Data'!$K$10:$K$9996=F$8)*('Claims Data'!$B$10:$B$9996="TPD")*'Claims Data'!$L$10:$L$9996)} -> 1 | G37: {=SUMPRODUCT(('Claims Data'!$I$10:$I$9996=$D37)*('Claims Data'!$K$10:$K$9996=G$8)*('Claims Data'!$B$10:$B$9996="TPD")*'Claims Data'!$L$10:$L$9996)} -> 4 | H37: {=SUMPRODUCT(('Claims Data'!$I$10:$I$9996=$D37)*('Claims Data'!$K$10:$K$9996=H$8)*('Claims Data'!$B$10:$B$9996="TPD")*'Claims Data'!$L$10:$L$9996)} -> 9.8 | I37: {=SUMPRODUCT(('Claims Data'!$I$10:$I$9996=$D37)*('Claims Data'!$K$10:$K$9996=I$8)*('Claims Data'!$B$10:$B$9996="TPD")*'Claims Data'!$L$10:$L$9996)} -> 13.8 | J37: {=SUMPRODUCT(('Claims Data'!$I$10:$I$9996=$D37)*('Claims Data'!$K$10:$K$9996=J$8)*('Claims Data'!$B$10:$B$9996="TPD")*'Claims Data'!$L$10:$L$9996)} -> 8.4 | K37: {=SUMPRODUCT(('Claims Data'!$I$10:$I$9996=$D37)*('Claims Data'!$K$10:$K$9996=K$8)*('Claims Data'!$B$10:$B$9996="TPD")*'Claims Data'!$L$10:$L$9996)} -> 9.4 | L37: {=SUMPRODUCT(('Claims Data'!$I$10:$I$9996=$D37)*('Claims Data'!$K$10:$K$9996=L$8)*('Claims Data'!$B$10:$B$9996="TPD")*'Claims Data'!$L$10:$L$9996)} -> 8.8
C38: =_xlfn.NUMBERVALUE(LEFT(D38,4)) -> 2023 | D38: 2023Q2 | E38: {=SUMPRODUCT(('Claims Data'!$I$10:$I$9996=$D38)*('Claims Data'!$K$10:$K$9996=E$8)*('Claims Data'!$B$10:$B$9996="TPD")*'Claims Data'!$L$10:$L$9996)} -> 0 | F38: {=SUMPRODUCT(('Claims Data'!$I$10:$I$9996=$D38)*('Claims Data'!$K$10:$K$9996=F$8)*('Claims Data'!$B$10:$B$9996="TPD")*'Claims Data'!$L$10:$L$9996)} -> 1 | G38: {=SUMPRODUCT(('Claims Data'!$I$10:$I$9996=$D38)*('Claims Data'!$K$10:$K$9996=G$8)*('Claims Data'!$B$10:$B$9996="TPD")*'Claims Data'!$L$10:$L$9996)} -> 7 | H38: {=SUMPRODUCT(('Claims Data'!$I$10:$I$9996=$D38)*('Claims Data'!$K$10:$K$9996=H$8)*('Claims Data'!$B$10:$B$9996="TPD")*'Claims Data'!$L$10:$L$9996)} -> 12 | I38: {=SUMPRODUCT(('Claims Data'!$I$10:$I$9996=$D38)*('Claims Data'!$K$10:$K$9996=I$8)*('Claims Data'!$B$10:$B$9996="TPD")*'Claims Data'!$L$10:$L$9996)} -> 14.6 | J38: {=SUMPRODUCT(('Claims Data'!$I$10:$I$9996=$D38)*('Claims Data'!$K$10:$K$9996=J$8)*('Claims Data'!$B$10:$B$9996="TPD")*'Claims Data'!$L$10:$L$9996)} -> 8 | K38: {=SUMPRODUCT(('Claims Data'!$I$10:$I$9996=$D38)*('Claims Data'!$K$10:$K$9996=K$8)*('Claims Data'!$B$10:$B$9996="TPD")*'Claims Data'!$L$10:$L$9996)} -> 10.2
C39: =_xlfn.NUMBERVALUE(LEFT(D39,4)) -> 2023 | D39: 2023Q3 | E39: {=SUMPRODUCT(('Claims Data'!$I$10:$I$9996=$D39)*('Claims Data'!$K$10:$K$9996=E$8)*('Claims Data'!$B$10:$B$9996="TPD")*'Claims Data'!$L$10:$L$9996)} -> 1 | F39: {=SUMPRODUCT(('Claims Data'!$I$10:$I$9996=$D39)*('Claims Data'!$K$10:$K$9996=F$8)*('Claims Data'!$B$10:$B$9996="TPD")*'Claims Data'!$L$10:$L$9996)} -> 0 | G39: {=SUMPRODUCT(('Claims Data'!$I$10:$I$9996=$D39)*('Claims Data'!$K$10:$K$9996=G$8)*('Claims Data'!$B$10:$B$9996="TPD")*'Claims Data'!$L$10:$L$9996)} -> 10.8 | H39: {=SUMPRODUCT(('Claims Data'!$I$10:$I$9996=$D39)*('Claims Data'!$K$10:$K$9996=H$8)*('Claims Data'!$B$10:$B$9996="TPD")*'Claims Data'!$L$10:$L$9996)} -> 17.4 | I39: {=SUMPRODUCT(('Claims Data'!$I$10:$I$9996=$D39)*('Claims Data'!$K$10:$K$9996=I$8)*('Claims Data'!$B$10:$B$9996="TPD")*'Claims Data'!$L$10:$L$9996)} -> 11.2 | J39: {=SUMPRODUCT(('Claims Data'!$I$10:$I$9996=$D39)*('Claims Data'!$K$10:$K$9996=J$8)*('Claims Data'!$B$10:$B$9996="TPD")*'Claims Data'!$L$10:$L$9996)} -> 10.6
C40: =_xlfn.NUMBERVALUE(LEFT(D40,4)) -> 2023 | D40: 2023Q4 | E40: {=SUMPRODUCT(('Claims Data'!$I$10:$I$9996=$D40)*('Claims Data'!$K$10:$K$9996=E$8)*('Claims Data'!$B$10:$B$9996="TPD")*'Claims Data'!$L$10:$L$9996)} -> 0 | F40: {=SUMPRODUCT(('Claims Data'!$I$10:$I$9996=$D40)*('Claims Data'!$K$10:$K$9996=F$8)*('Claims Data'!$B$10:$B$9996="TPD")*'Claims Data'!$L$10:$L$9996)} -> 0 | G40: {=SUMPRODUCT(('Claims Data'!$I$10:$I$9996=$D40)*('Claims Data'!$K$10:$K$9996=G$8)*('Claims Data'!$B$10:$B$9996="TPD")*'Claims Data'!$L$10:$L$9996)} -> 3 | H40: {=SUMPRODUCT(('Claims Data'!$I$10:$I$9996=$D40)*('Claims Data'!$K$10:$K$9996=H$8)*('Claims Data'!$B$10:$B$9996="TPD")*'Claims Data'!$L$10:$L$9996)} -> 13.4 | I40: {=SUMPRODUCT(('Claims Data'!$I$10:$I$9996=$D40)*('Claims Data'!$K$10:$K$9996=I$8)*('Claims Data'!$B$10:$B$9996="TPD")*'Claims Data'!$L$10:$L$9996)} -> 12.6
C41: =_xlfn.NUMBERVALUE(LEFT(D41,4)) -> 2024 | D41: 2024Q1 | E41: {=SUMPRODUCT(('Claims Data'!$I$10:$I$9996=$D41)*('Claims Data'!$K$10:$K$9996=E$8)*('Claims Data'!$B$10:$B$9996="TPD")*'Claims Data'!$L$10:$L$9996)} -> 0 | F41: {=SUMPRODUCT(('Claims Data'!$I$10:$I$9996=$D41)*('Claims Data'!$K$10:$K$9996=F$8)*('Claims Data'!$B$10:$B$9996="TPD")*'Claims Data'!$L$10:$L$9996)} -> 1 | G41: {=SUMPRODUCT(('Claims Data'!$I$10:$I$9996=$D41)*('Claims Data'!$K$10:$K$9996=G$8)*('Claims Data'!$B$10:$B$9996="TPD")*'Claims Data'!$L$10:$L$9996)} -> 8 | H41: {=SUMPRODUCT(('Claims Data'!$I$10:$I$9996=$D41)*('Claims Data'!$K$10:$K$9996=H$8)*('Claims Data'!$B$10:$B$9996="TPD")*'Claims Data'!$L$10:$L$9996)} -> 17.8
C42: =_xlfn.NUMBERVALUE(LEFT(D42,4)) -> 2024 | D42: 2024Q2 | E42: {=SUMPRODUCT(('Claims Data'!$I$10:$I$9996=$D42)*('Claims Data'!$K$10:$K$9996=E$8)*('Claims Data'!$B$10:$B$9996="TPD")*'Claims Data'!$L$10:$L$9996)} -> 0 | F42: {=SUMPRODUCT(('Claims Data'!$I$10:$I$9996=$D42)*('Claims Data'!$K$10:$K$9996=F$8)*('Claims Data'!$B$10:$B$9996="TPD")*'Claims Data'!$L$10:$L$9996)} -> 1 | G42: {=SUMPRODUCT(('Claims Data'!$I$10:$I$9996=$D42)*('Claims Data'!$K$10:$K$9996=G$8)*('Claims Data'!$B$10:$B$9996="TPD")*'Claims Data'!$L$10:$L$9996)} -> 8.4
C43: =_xlfn.NUMBERVALUE(LEFT(D43,4)) -> 2024 | D43: 2024Q3 | E43: {=SUMPRODUCT(('Claims Data'!$I$10:$I$9996=$D43)*('Claims Data'!$K$10:$K$9996=E$8)*('Claims Data'!$B$10:$B$9996="TPD")*'Claims Data'!$L$10:$L$9996)} -> 0.8 | F43: {=SUMPRODUCT(('Claims Data'!$I$10:$I$9996=$D43)*('Claims Data'!$K$10:$K$9996=F$8)*('Claims Data'!$B$10:$B$9996="TPD")*'Claims Data'!$L$10:$L$9996)} -> 3.6
C44: =_xlfn.NUMBERVALUE(LEFT(D44,4)) -> 2024 | D44: 2024Q4 | E44: {=SUMPRODUCT(('Claims Data'!$I$10:$I$9996=$D44)*('Claims Data'!$K$10:$K$9996=E$8)*('Claims Data'!$B$10:$B$9996="TPD")*'Claims Data'!$L$10:$L$9996)} -> 0.8
C46: Table 2. Cumulative - Number of Claims
E47: Development Quarter
C48: Year | D48: Quarter | E48: 0 | F48: =E48+1 -> 1 | G48: =F48+1 -> 2 | H48: =G48+1 -> 3 | I48: =H48+1 -> 4 | J48: =I48+1 -> 5 | K48: =J48+1 -> 6 | L48: =K48+1 -> 7 | M48: =L48+1 -> 8 | ... AN48: =AM48+1 -> 35
B49: Incurred Year | C49: =_xlfn.NUMBERVALUE(LEFT(D49,4)) -> 2016 | D49: 2016Q1 | E49: {=SUMPRODUCT(('Claims Data'!$I$10:$I$9996=$D49)*('Claims Data'!$K$10:$K$9996<=E$48)*('Claims Data'!$B$10:$B$9996="TPD")*'Claims Data'!$L$10:$L$9996)} -> 0 | F49: {=SUMPRODUCT(('Claims Data'!$I$10:$I$9996=$D49)*('Claims Data'!$K$10:$K$9996<=F$48)*('Claims Data'!$B$10:$B$9996="TPD")*'Claims Data'!$L$10:$L$9996)} -> 1 | G49: {=SUMPRODUCT(('Claims Data'!$I$10:$I$9996=$D49)*('Claims Data'!$K$10:$K$9996<=G$48)*('Claims Data'!$B$10:$B$9996="TPD")*'Claims Data'!$L$10:$L$9996)} -> 3 | H49: {=SUMPRODUCT(('Claims Data'!$I$10:$I$9996=$D49)*('Claims Data'!$K$10:$K$9996<=H$48)*('Claims Data'!$B$10:$B$9996="TPD")*'Claims Data'!$L$10:$L$9996)} -> 8 | I49: {=SUMPRODUCT(('Claims Data'!$I$10:$I$9996=$D49)*('Claims Data'!$K$10:$K$9996<=I$48)*('Claims Data'!$B$10:$B$9996="TPD")*'Claims Data'!$L$10:$L$9996)} -> 13 | J49: {=SUMPRODUCT(('Claims Data'!$I$10:$I$9996=$D49)*('Claims Data'!$K$10:$K$9996<=J$48)*('Claims Data'!$B$10:$B$9996="TPD")*'Claims Data'!$L$10:$L$9996)} -> 15 | K49: {=SUMPRODUCT(('Claims Data'!$I$10:$I$9996=$D49)*('Claims Data'!$K$10:$K$9996<=K$48)*('Claims Data'!$B$10:$B$9996="TPD")*'Claims Data'!$L$10:$L$9996)} -> 18 | L49: {=SUMPRODUCT(('Claims Data'!$I$10:$I$9996=$D49)*('Claims Data'!$K$10:$K$9996<=L$48)*('Claims Data'!$B$10:$B$9996="TPD")*'Claims Data'!$L$10:$L$9996)} -> 24 | ... AN49: {=SUMPRODUCT(('Claims Data'!$I$10:$I$9996=$D49)*('Claims Data'!$K$10:$K$9996<=AN$48)*('Claims Data'!$B$10:$B$9996="TPD")*'Claims Data'!$L$10:$L$9996)} -> 52
C50: =_xlfn.NUMBERVALUE(LEFT(D50,4)) -> 2016 | D50: 2016Q2 | E50: {=SUMPRODUCT(('Claims Data'!$I$10:$I$9996=$D50)*('Claims Data'!$K$10:$K$9996<=E$48)*('Claims Data'!$B$10:$B$9996="TPD")*'Claims Data'!$L$10:$L$9996)} -> 0 | F50: {=SUMPRODUCT(('Claims Data'!$I$10:$I$9996=$D50)*('Claims Data'!$K$10:$K$9996<=F$48)*('Claims Data'!$B$10:$B$9996="TPD")*'Claims Data'!$L$10:$L$9996)} -> 0 | G50: {=SUMPRODUCT(('Claims Data'!$I$10:$I$9996=$D50)*('Claims Data'!$K$10:$K$9996<=G$48)*('Claims Data'!$B$10:$B$9996="TPD")*'Claims Data'!$L$10:$L$9996)} -> 1 | H50: {=SUMPRODUCT(('Claims Data'!$I$10:$I$9996=$D50)*('Claims Data'!$K$10:$K$9996<=H$48)*('Claims Data'!$B$10:$B$9996="TPD")*'Claims Data'!$L$10:$L$9996)} -> 1 | I50: {=SUMPRODUCT(('Claims Data'!$I$10:$I$9996=$D50)*('Claims Data'!$K$10:$K$9996<=I$48)*('Claims Data'!$B$10:$B$9996="TPD")*'Claims Data'!$L$10:$L$9996)} -> 4 | J50: {=SUMPRODUCT(('Claims Data'!$I$10:$I$9996=$D50)*('Claims Data'!$K$10:$K$9996<=J$48)*('Claims Data'!$B$10:$B$9996="TPD")*'Claims Data'!$L$10:$L$9996)} -> 6 | K50: {=SUMPRODUCT(('Claims Data'!$I$10:$I$9996=$D50)*('Claims Data'!$K$10:$K$9996<=K$48)*('Claims Data'!$B$10:$B$9996="TPD")*'Claims Data'!$L$10:$L$9996)} -> 7 | L50: {=SUMPRODUCT(('Claims Data'!$I$10:$I$9996=$D50)*('Claims Data'!$K$10:$K$9996<=L$48)*('Claims Data'!$B$10:$B$9996="TPD")*'Claims Data'!$L$10:$L$9996)} -> 11 | ... AM50: {=SUMPRODUCT(('Claims Data'!$I$10:$I$9996=$D50)*('Claims Data'!$K$10:$K$9996<=AM$48)*('Claims Data'!$B$10:$B$9996="TPD")*'Claims Data'!$L$10:$L$9996)} -> 37.6
C51: =_xlfn.NUMBERVALUE(LEFT(D51,4)) -> 2016 | D51: 2016Q3 | E51: {=SUMPRODUCT(('Claims Data'!$I$10:$I$9996=$D51)*('Claims Data'!$K$10:$K$9996<=E$48)*('Claims Data'!$B$10:$B$9996="TPD")*'Claims Data'!$L$10:$L$9996)} -> 0 | F51: {=SUMPRODUCT(('Claims Data'!$I$10:$I$9996=$D51)*('Claims Data'!$K$10:$K$9996<=F$48)*('Claims Data'!$B$10:$B$9996="TPD")*'Claims Data'!$L$10:$L$9996)} -> 4 | G51: {=SUMPRODUCT(('Claims Data'!$I$10:$I$9996=$D51)*('Claims Data'!$K$10:$K$9996<=G$48)*('Claims Data'!$B$10:$B$9996="TPD")*'Claims Data'!$L$10:$L$9996)} -> 5 | H51: {=SUMPRODUCT(('Claims Data'!$I$10:$I$9996=$D51)*('Claims Data'!$K$10:$K$9996<=H$48)*('Claims Data'!$B$10:$B$9996="TPD")*'Claims Data'!$L$10:$L$9996)} -> 13 | I51: {=SUMPRODUCT(('Claims Data'!$I$10:$I$9996=$D51)*('Claims Data'!$K$10:$K$9996<=I$48)*('Claims Data'!$B$10:$B$9996="TPD")*'Claims Data'!$L$10:$L$9996)} -> 21 | J51: {=SUMPRODUCT(('Claims Data'!$I$10:$I$9996=$D51)*('Claims Data'!$K$10:$K$9996<=J$48)*('Claims Data'!$B$10:$B$9996="TPD")*'Claims Data'!$L$10:$L$9996)} -> 24 | K51: {=SUMPRODUCT(('Claims Data'!$I$10:$I$9996=$D51)*('Claims Data'!$K$10:$K$9996<=K$48)*('Claims Data'!$B$10:$B$9996="TPD")*'Claims Data'!$L$10:$L$9996)} -> 28 | L51: {=SUMPRODUCT(('Claims Data'!$I$10:$I$9996=$D51)*('Claims Data'!$K$10:$K$9996<=L$48)*('Claims Data'!$B$10:$B$9996="TPD")*'Claims Data'!$L$10:$L$9996)} -> 30 | ... AL51: {=SUMPRODUCT(('Claims Data'!$I$10:$I$9996=$D51)*('Claims Data'!$K$10:$K$9996<=AL$48)*('Claims Data'!$B$10:$B$9996="TPD")*'Claims Data'!$L$10:$L$9996)} -> 60
C52: =_xlfn.NUMBERVALUE(LEFT(D52,4)) -> 2016 | D52: 2016Q4 | E52: {=SUMPRODUCT(('Claims Data'!$I$10:$I$9996=$D52)*('Claims Data'!$K$10:$K$9996<=E$48)*('Claims Data'!$B$10:$B$9996="TPD")*'Claims Data'!$L$10:$L$9996)} -> 0 | F52: {=SUMPRODUCT(('Claims Data'!$I$10:$I$9996=$D52)*('Claims Data'!$K$10:$K$9996<=F$48)*('Claims Data'!$B$10:$B$9996="TPD")*'Claims Data'!$L$10:$L$9996)} -> 4 | G52: {=SUMPRODUCT(('Claims Data'!$I$10:$I$9996=$D52)*('Claims Data'!$K$10:$K$9996<=G$48)*('Claims Data'!$B$10:$B$9996="TPD")*'Claims Data'!$L$10:$L$9996)} -> 5 | H52: {=SUMPRODUCT(('Claims Data'!$I$10:$I$9996=$D52)*('Claims Data'!$K$10:$K$9996<=H$48)*('Claims Data'!$B$10:$B$9996="TPD")*'Claims Data'!$L$10:$L$9996)} -> 10 | I52: {=SUMPRODUCT(('Claims Data'!$I$10:$I$9996=$D52)*('Claims Data'!$K$10:$K$9996<=I$48)*('Claims Data'!$B$10:$B$9996="TPD")*'Claims Data'!$L$10:$L$9996)} -> 18 | J52: {=SUMPRODUCT(('Claims Data'!$I$10:$I$9996=$D52)*('Claims Data'!$K$10:$K$9996<=J$48)*('Claims Data'!$B$10:$B$9996="TPD")*'Claims Data'!$L$10:$L$9996)} -> 22 | K52: {=SUMPRODUCT(('Claims Data'!$I$10:$I$9996=$D52)*('Claims Data'!$K$10:$K$9996<=K$48)*('Claims Data'!$B$10:$B$9996="TPD")*'Claims Data'!$L$10:$L$9996)} -> 23 | L52: {=SUMPRODUCT(('Claims Data'!$I$10:$I$9996=$D52)*('Claims Data'!$K$10:$K$9996<=L$48)*('Claims Data'!$B$10:$B$9996="TPD")*'Claims Data'!$L$10:$L$9996)} -> 25 | ... AK52: {=SUMPRODUCT(('Claims Data'!$I$10:$I$9996=$D52)*('Claims Data'!$K$10:$K$9996<=AK$48)*('Claims Data'!$B$10:$B$9996="TPD")*'Claims Data'!$L$10:$L$9996)} -> 51.8
C53: =_xlfn.NUMBERVALUE(LEFT(D53,4)) -> 2017 | D53: 2017Q1 | E53: {=SUMPRODUCT(('Claims Data'!$I$10:$I$9996=$D53)*('Claims Data'!$K$10:$K$9996<=E$48)*('Claims Data'!$B$10:$B$9996="TPD")*'Claims Data'!$L$10:$L$9996)} -> 0 | F53: {=SUMPRODUCT(('Claims Data'!$I$10:$I$9996=$D53)*('Claims Data'!$K$10:$K$9996<=F$48)*('Claims Data'!$B$10:$B$9996="TPD")*'Claims Data'!$L$10:$L$9996)} -> 3 | G53: {=SUMPRODUCT(('Claims Data'!$I$10:$I$9996=$D53)*('Claims Data'!$K$10:$K$9996<=G$48)*('Claims Data'!$B$10:$B$9996="TPD")*'Claims Data'!$L$10:$L$9996)} -> 6 | H53: {=SUMPRODUCT(('Claims Data'!$I$10:$I$9996=$D53)*('Claims Data'!$K$10:$K$9996<=H$48)*('Claims Data'!$B$10:$B$9996="TPD")*'Claims Data'!$L$10:$L$9996)} -> 13 | I53: {=SUMPRODUCT(('Claims Data'!$I$10:$I$9996=$D53)*('Claims Data'!$K$10:$K$9996<=I$48)*('Claims Data'!$B$10:$B$9996="TPD")*'Claims Data'!$L$10:$L$9996)} -> 16 | J53: {=SUMPRODUCT(('Claims Data'!$I$10:$I$9996=$D53)*('Claims Data'!$K$10:$K$9996<=J$48)*('Claims Data'!$B$10:$B$9996="TPD")*'Claims Data'!$L$10:$L$9996)} -> 21 | K53: {=SUMPRODUCT(('Claims Data'!$I$10:$I$9996=$D53)*('Claims Data'!$K$10:$K$9996<=K$48)*('Claims Data'!$B$10:$B$9996="TPD")*'Claims Data'!$L$10:$L$9996)} -> 25 | L53: {=SUMPRODUCT(('Claims Data'!$I$10:$I$9996=$D53)*('Claims Data'!$K$10:$K$9996<=L$48)*('Claims Data'!$B$10:$B$9996="TPD")*'Claims Data'!$L$10:$L$9996)} -> 27 | ... AJ53: {=SUMPRODUCT(('Claims Data'!$I$10:$I$9996=$D53)*('Claims Data'!$K$10:$K$9996<=AJ$48)*('Claims Data'!$B$10:$B$9996="TPD")*'Claims Data'!$L$10:$L$9996)} -> 63.6
C54: =_xlfn.NUMBERVALUE(LEFT(D54,4)) -> 2017 | D54: 2017Q2 | E54: {=SUMPRODUCT(('Claims Data'!$I$10:$I$9996=$D54)*('Claims Data'!$K$10:$K$9996<=E$48)*('Claims Data'!$B$10:$B$9996="TPD")*'Claims Data'!$L$10:$L$9996)} -> 2 | F54: {=SUMPRODUCT(('Claims Data'!$I$10:$I$9996=$D54)*('Claims Data'!$K$10:$K$9996<=F$48)*('Claims Data'!$B$10:$B$9996="TPD")*'Claims Data'!$L$10:$L$9996)} -> 3 | G54: {=SUMPRODUCT(('Claims Data'!$I$10:$I$9996=$D54)*('Claims Data'!$K$10:$K$9996<=G$48)*('Claims Data'!$B$10:$B$9996="TPD")*'Claims Data'!$L$10:$L$9996)} -> 8 | H54: {=SUMPRODUCT(('Claims Data'!$I$10:$I$9996=$D54)*('Claims Data'!$K$10:$K$9996<=H$48)*('Claims Data'!$B$10:$B$9996="TPD")*'Claims Data'!$L$10:$L$9996)} -> 19 | I54: {=SUMPRODUCT(('Claims Data'!$I$10:$I$9996=$D54)*('Claims Data'!$K$10:$K$9996<=I$48)*('Claims Data'!$B$10:$B$9996="TPD")*'Claims Data'!$L$10:$L$9996)} -> 21 | J54: {=SUMPRODUCT(('Claims Data'!$I$10:$I$9996=$D54)*('Claims Data'!$K$10:$K$9996<=J$48)*('Claims Data'!$B$10:$B$9996="TPD")*'Claims Data'!$L$10:$L$9996)} -> 26 | K54: {=SUMPRODUCT(('Claims Data'!$I$10:$I$9996=$D54)*('Claims Data'!$K$10:$K$9996<=K$48)*('Claims Data'!$B$10:$B$9996="TPD")*'Claims Data'!$L$10:$L$9996)} -> 31 | L54: {=SUMPRODUCT(('Claims Data'!$I$10:$I$9996=$D54)*('Claims Data'!$K$10:$K$9996<=L$48)*('Claims Data'!$B$10:$B$9996="TPD")*'Claims Data'!$L$10:$L$9996)} -> 32 | ... AI54: {=SUMPRODUCT(('Claims Data'!$I$10:$I$9996=$D54)*('Claims Data'!$K$10:$K$9996<=AI$48)*('Claims Data'!$B$10:$B$9996="TPD")*'Claims Data'!$L$10:$L$9996)} -> 62.8
C55: =_xlfn.NUMBERVALUE(LEFT(D55,4)) -> 2017 | D55: 2017Q3 | E55: {=SUMPRODUCT(('Claims Data'!$I$10:$I$9996=$D55)*('Claims Data'!$K$10:$K$9996<=E$48)*('Claims Data'!$B$10:$B$9996="TPD")*'Claims Data'!$L$10:$L$9996)} -> 0 | F55: {=SUMPRODUCT(('Claims Data'!$I$10:$I$9996=$D55)*('Claims Data'!$K$10:$K$9996<=F$48)*('Claims Data'!$B$10:$B$9996="TPD")*'Claims Data'!$L$10:$L$9996)} -> 3 | G55: {=SUMPRODUCT(('Claims Data'!$I$10:$I$9996=$D55)*('Claims Data'!$K$10:$K$9996<=G$48)*('Claims Data'!$B$10:$B$9996="TPD")*'Claims Data'!$L$10:$L$9996)} -> 8 | H55: {=SUMPRODUCT(('Claims Data'!$I$10:$I$9996=$D55)*('Claims Data'!$K$10:$K$9996<=H$48)*('Claims Data'!$B$10:$B$9996="TPD")*'Claims Data'!$L$10:$L$9996)} -> 14 | I55: {=SUMPRODUCT(('Claims Data'!$I$10:$I$9996=$D55)*('Claims Data'!$K$10:$K$9996<=I$48)*('Claims Data'!$B$10:$B$9996="TPD")*'Claims Data'!$L$10:$L$9996)} -> 18 | J55: {=SUMPRODUCT(('Claims Data'!$I$10:$I$9996=$D55)*('Claims Data'!$K$10:$K$9996<=J$48)*('Claims Data'!$B$10:$B$9996="TPD")*'Claims Data'!$L$10:$L$9996)} -> 19 | K55: {=SUMPRODUCT(('Claims Data'!$I$10:$I$9996=$D55)*('Claims Data'!$K$10:$K$9996<=K$48)*('Claims Data'!$B$10:$B$9996="TPD")*'Claims Data'!$L$10:$L$9996)} -> 21 | L55: {=SUMPRODUCT(('Claims Data'!$I$10:$I$9996=$D55)*('Claims Data'!$K$10:$K$9996<=L$48)*('Claims Data'!$B$10:$B$9996="TPD")*'Claims Data'!$L$10:$L$9996)} -> 22 | ... AH55: {=SUMPRODUCT(('Claims Data'!$I$10:$I$9996=$D55)*('Claims Data'!$K$10:$K$9996<=AH$48)*('Claims Data'!$B$10:$B$9996="TPD")*'Claims Data'!$L$10:$L$9996)} -> 52.2
C56: =_xlfn.NUMBERVALUE(LEFT(D56,4)) -> 2017 | D56: 2017Q4 | E56: {=SUMPRODUCT(('Claims Data'!$I$10:$I$9996=$D56)*('Claims Data'!$K$10:$K$9996<=E$48)*('Claims Data'!$B$10:$B$9996="TPD")*'Claims Data'!$L$10:$L$9996)} -> 1 | F56: {=SUMPRODUCT(('Claims Data'!$I$10:$I$9996=$D56)*('Claims Data'!$K$10:$K$9996<=F$48)*('Claims Data'!$B$10:$B$9996="TPD")*'Claims Data'!$L$10:$L$9996)} -> 5 | G56: {=SUMPRODUCT(('Claims Data'!$I$10:$I$9996=$D56)*('Claims Data'!$K$10:$K$9996<=G$48)*('Claims Data'!$B$10:$B$9996="TPD")*'Claims Data'!$L$10:$L$9996)} -> 6 | H56: {=SUMPRODUCT(('Claims Data'!$I$10:$I$9996=$D56)*('Claims Data'!$K$10:$K$9996<=H$48)*('Claims Data'!$B$10:$B$9996="TPD")*'Claims Data'!$L$10:$L$9996)} -> 16 | I56: {=SUMPRODUCT(('Claims Data'!$I$10:$I$9996=$D56)*('Claims Data'!$K$10:$K$9996<=I$48)*('Claims Data'!$B$10:$B$9996="TPD")*'Claims Data'!$L$10:$L$9996)} -> 20 | J56: {=SUMPRODUCT(('Claims Data'!$I$10:$I$9996=$D56)*('Claims Data'!$K$10:$K$9996<=J$48)*('Claims Data'!$B$10:$B$9996="TPD")*'Claims Data'!$L$10:$L$9996)} -> 23 | K56: {=SUMPRODUCT(('Claims Data'!$I$10:$I$9996=$D56)*('Claims Data'!$K$10:$K$9996<=K$48)*('Claims Data'!$B$10:$B$9996="TPD")*'Claims Data'!$L$10:$L$9996)} -> 23 | L56: {=SUMPRODUCT(('Claims Data'!$I$10:$I$9996=$D56)*('Claims Data'!$K$10:$K$9996<=L$48)*('Claims Data'!$B$10:$B$9996="TPD")*'Claims Data'!$L$10:$L$9996)} -> 27 | ... AG56: {=SUMPRODUCT(('Claims Data'!$I$10:$I$9996=$D56)*('Claims Data'!$K$10:$K$9996<=AG$48)*('Claims Data'!$B$10:$B$9996="TPD")*'Claims Data'!$L$10:$L$9996)} -> 74
C57: =_xlfn.NUMBERVALUE(LEFT(D57,4)) -> 2018 | D57: 2018Q1 | E57: {=SUMPRODUCT(('Claims Data'!$I$10:$I$9996=$D57)*('Claims Data'!$K$10:$K$9996<=E$48)*('Claims Data'!$B$10:$B$9996="TPD")*'Claims Data'!$L$10:$L$9996)} -> 0 | F57: {=SUMPRODUCT(('Claims Data'!$I$10:$I$9996=$D57)*('Claims Data'!$K$10:$K$9996<=F$48)*('Claims Data'!$B$10:$B$9996="TPD")*'Claims Data'!$L$10:$L$9996)} -> 4 | G57: {=SUMPRODUCT(('Claims Data'!$I$10:$I$9996=$D57)*('Claims Data'!$K$10:$K$9996<=G$48)*('Claims Data'!$B$10:$B$9996="TPD")*'Claims Data'!$L$10:$L$9996)} -> 8 | H57: {=SUMPRODUCT(('Claims Data'!$I$10:$I$9996=$D57)*('Claims Data'!$K$10:$K$9996<=H$48)*('Claims Data'!$B$10:$B$9996="TPD")*'Claims Data'!$L$10:$L$9996)} -> 14 | I57: {=SUMPRODUCT(('Claims Data'!$I$10:$I$9996=$D57)*('Claims Data'!$K$10:$K$9996<=I$48)*('Claims Data'!$B$10:$B$9996="TPD")*'Claims Data'!$L$10:$L$9996)} -> 18 | J57: {=SUMPRODUCT(('Claims Data'!$I$10:$I$9996=$D57)*('Claims Data'!$K$10:$K$9996<=J$48)*('Claims Data'!$B$10:$B$9996="TPD")*'Claims Data'!$L$10:$L$9996)} -> 21 | K57: {=SUMPRODUCT(('Claims Data'!$I$10:$I$9996=$D57)*('Claims Data'!$K$10:$K$9996<=K$48)*('Claims Data'!$B$10:$B$9996="TPD")*'Claims Data'!$L$10:$L$9996)} -> 24 | L57: {=SUMPRODUCT(('Claims Data'!$I$10:$I$9996=$D57)*('Claims Data'!$K$10:$K$9996<=L$48)*('Claims Data'!$B$10:$B$9996="TPD")*'Claims Data'!$L$10:$L$9996)} -> 25 | ... AF57: {=SUMPRODUCT(('Claims Data'!$I$10:$I$9996=$D57)*('Claims Data'!$K$10:$K$9996<=AF$48)*('Claims Data'!$B$10:$B$9996="TPD")*'Claims Data'!$L$10:$L$9996)} -> 56.8
C58: =_xlfn.NUMBERVALUE(LEFT(D58,4)) -> 2018 | D58: 2018Q2 | E58: {=SUMPRODUCT(('Claims Data'!$I$10:$I$9996=$D58)*('Claims Data'!$K$10:$K$9996<=E$48)*('Claims Data'!$B$10:$B$9996="TPD")*'Claims Data'!$L$10:$L$9996)} -> 0 | F58: {=SUMPRODUCT(('Claims Data'!$I$10:$I$9996=$D58)*('Claims Data'!$K$10:$K$9996<=F$48)*('Claims Data'!$B$10:$B$9996="TPD")*'Claims Data'!$L$10:$L$9996)} -> 0 | G58: {=SUMPRODUCT(('Claims Data'!$I$10:$I$9996=$D58)*('Claims Data'!$K$10:$K$9996<=G$48)*('Claims Data'!$B$10:$B$9996="TPD")*'Claims Data'!$L$10:$L$9996)} -> 3 | H58: {=SUMPRODUCT(('Claims Data'!$I$10:$I$9996=$D58)*('Claims Data'!$K$10:$K$9996<=H$48)*('Claims Data'!$B$10:$B$9996="TPD")*'Claims Data'!$L$10:$L$9996)} -> 14 | I58: {=SUMPRODUCT(('Claims Data'!$I$10:$I$9996=$D58)*('Claims Data'!$K$10:$K$9996<=I$48)*('Claims Data'!$B$10:$B$9996="TPD")*'Claims Data'!$L$10:$L$9996)} -> 16 | J58: {=SUMPRODUCT(('Claims Data'!$I$10:$I$9996=$D58)*('Claims Data'!$K$10:$K$9996<=J$48)*('Claims Data'!$B$10:$B$9996="TPD")*'Claims Data'!$L$10:$L$9996)} -> 19 | K58: {=SUMPRODUCT(('Claims Data'!$I$10:$I$9996=$D58)*('Claims Data'!$K$10:$K$9996<=K$48)*('Claims Data'!$B$10:$B$9996="TPD")*'Claims Data'!$L$10:$L$9996)} -> 25 | L58: {=SUMPRODUCT(('Claims Data'!$I$10:$I$9996=$D58)*('Claims Data'!$K$10:$K$9996<=L$48)*('Claims Data'!$B$10:$B$9996="TPD")*'Claims Data'!$L$10:$L$9996)} -> 30 | ... AE58: {=SUMPRODUCT(('Claims Data'!$I$10:$I$9996=$D58)*('Claims Data'!$K$10:$K$9996<=AE$48)*('Claims Data'!$B$10:$B$9996="TPD")*'Claims Data'!$L$10:$L$9996)} -> 66.6
C59: =_xlfn.NUMBERVALUE(LEFT(D59,4)) -> 2018 | D59: 2018Q3 | E59: {=SUMPRODUCT(('Claims Data'!$I$10:$I$9996=$D59)*('Claims Data'!$K$10:$K$9996<=E$48)*('Claims Data'!$B$10:$B$9996="TPD")*'Claims Data'!$L$10:$L$9996)} -> 0 | F59: {=SUMPRODUCT(('Claims Data'!$I$10:$I$9996=$D59)*('Claims Data'!$K$10:$K$9996<=F$48)*('Claims Data'!$B$10:$B$9996="TPD")*'Claims Data'!$L$10:$L$9996)} -> 2 | G59: {=SUMPRODUCT(('Claims Data'!$I$10:$I$9996=$D59)*('Claims Data'!$K$10:$K$9996<=G$48)*('Claims Data'!$B$10:$B$9996="TPD")*'Claims Data'!$L$10:$L$9996)} -> 5 | H59: {=SUMPRODUCT(('Claims Data'!$I$10:$I$9996=$D59)*('Claims Data'!$K$10:$K$9996<=H$48)*('Claims Data'!$B$10:$B$9996="TPD")*'Claims Data'!$L$10:$L$9996)} -> 12 | I59: {=SUMPRODUCT(('Claims Data'!$I$10:$I$9996=$D59)*('Claims Data'!$K$10:$K$9996<=I$48)*('Claims Data'!$B$10:$B$9996="TPD")*'Claims Data'!$L$10:$L$9996)} -> 18 | J59: {=SUMPRODUCT(('Claims Data'!$I$10:$I$9996=$D59)*('Claims Data'!$K$10:$K$9996<=J$48)*('Claims Data'!$B$10:$B$9996="TPD")*'Claims Data'!$L$10:$L$9996)} -> 22 | K59: {=SUMPRODUCT(('Claims Data'!$I$10:$I$9996=$D59)*('Claims Data'!$K$10:$K$9996<=K$48)*('Claims Data'!$B$10:$B$9996="TPD")*'Claims Data'!$L$10:$L$9996)} -> 25 | L59: {=SUMPRODUCT(('Claims Data'!$I$10:$I$9996=$D59)*('Claims Data'!$K$10:$K$9996<=L$48)*('Claims Data'!$B$10:$B$9996="TPD")*'Claims Data'!$L$10:$L$9996)} -> 29 | ... AD59: {=SUMPRODUCT(('Claims Data'!$I$10:$I$9996=$D59)*('Claims Data'!$K$10:$K$9996<=AD$48)*('Claims Data'!$B$10:$B$9996="TPD")*'Claims Data'!$L$10:$L$9996)} -> 69
C60: =_xlfn.NUMBERVALUE(LEFT(D60,4)) -> 2018 | D60: 2018Q4 | E60: {=SUMPRODUCT(('Claims Data'!$I$10:$I$9996=$D60)*('Claims Data'!$K$10:$K$9996<=E$48)*('Claims Data'!$B$10:$B$9996="TPD")*'Claims Data'!$L$10:$L$9996)} -> 0 | F60: {=SUMPRODUCT(('Claims Data'!$I$10:$I$9996=$D60)*('Claims Data'!$K$10:$K$9996<=F$48)*('Claims Data'!$B$10:$B$9996="TPD")*'Claims Data'!$L$10:$L$9996)} -> 2 | G60: {=SUMPRODUCT(('Claims Data'!$I$10:$I$9996=$D60)*('Claims Data'!$K$10:$K$9996<=G$48)*('Claims Data'!$B$10:$B$9996="TPD")*'Claims Data'!$L$10:$L$9996)} -> 9 | H60: {=SUMPRODUCT(('Claims Data'!$I$10:$I$9996=$D60)*('Claims Data'!$K$10:$K$9996<=H$48)*('Claims Data'!$B$10:$B$9996="TPD")*'Claims Data'!$L$10:$L$9996)} -> 15 | I60: {=SUMPRODUCT(('Claims Data'!$I$10:$I$9996=$D60)*('Claims Data'!$K$10:$K$9996<=I$48)*('Claims Data'!$B$10:$B$9996="TPD")*'Claims Data'!$L$10:$L$9996)} -> 19 | J60: {=SUMPRODUCT(('Claims Data'!$I$10:$I$9996=$D60)*('Claims Data'!$K$10:$K$9996<=J$48)*('Claims Data'!$B$10:$B$9996="TPD")*'Claims Data'!$L$10:$L$9996)} -> 24 | K60: {=SUMPRODUCT(('Claims Data'!$I$10:$I$9996=$D60)*('Claims Data'!$K$10:$K$9996<=K$48)*('Claims Data'!$B$10:$B$9996="TPD")*'Claims Data'!$L$10:$L$9996)} -> 24 | L60: {=SUMPRODUCT(('Claims Data'!$I$10:$I$9996=$D60)*('Claims Data'!$K$10:$K$9996<=L$48)*('Claims Data'!$B$10:$B$9996="TPD")*'Claims Data'!$L$10:$L$9996)} -> 28 | ... AC60: {=SUMPRODUCT(('Claims Data'!$I$10:$I$9996=$D60)*('Claims Data'!$K$10:$K$9996<=AC$48)*('Claims Data'!$B$10:$B$9996="TPD")*'Claims Data'!$L$10:$L$9996)} -> 56.8
C61: =_xlfn.NUMBERVALUE(LEFT(D61,4)) -> 2019 | D61: 2019Q1 | E61: {=SUMPRODUCT(('Claims Data'!$I$10:$I$9996=$D61)*('Claims Data'!$K$10:$K$9996<=E$48)*('Claims Data'!$B$10:$B$9996="TPD")*'Claims Data'!$L$10:$L$9996)} -> 0 | F61: {=SUMPRODUCT(('Claims Data'!$I$10:$I$9996=$D61)*('Claims Data'!$K$10:$K$9996<=F$48)*('Claims Data'!$B$10:$B$9996="TPD")*'Claims Data'!$L$10:$L$9996)} -> 8 | G61: {=SUMPRODUCT(('Claims Data'!$I$10:$I$9996=$D61)*('Claims Data'!$K$10:$K$9996<=G$48)*('Claims Data'!$B$10:$B$9996="TPD")*'Claims Data'!$L$10:$L$9996)} -> 12 | H61: {=SUMPRODUCT(('Claims Data'!$I$10:$I$9996=$D61)*('Claims Data'!$K$10:$K$9996<=H$48)*('Claims Data'!$B$10:$B$9996="TPD")*'Claims Data'!$L$10:$L$9996)} -> 28 | I61: {=SUMPRODUCT(('Claims Data'!$I$10:$I$9996=$D61)*('Claims Data'!$K$10:$K$9996<=I$48)*('Claims Data'!$B$10:$B$9996="TPD")*'Claims Data'!$L$10:$L$9996)} -> 35 | J61: {=SUMPRODUCT(('Claims Data'!$I$10:$I$9996=$D61)*('Claims Data'!$K$10:$K$9996<=J$48)*('Claims Data'!$B$10:$B$9996="TPD")*'Claims Data'!$L$10:$L$9996)} -> 41 | K61: {=SUMPRODUCT(('Claims Data'!$I$10:$I$9996=$D61)*('Claims Data'!$K$10:$K$9996<=K$48)*('Claims Data'!$B$10:$B$9996="TPD")*'Claims Data'!$L$10:$L$9996)} -> 44 | L61: {=SUMPRODUCT(('Claims Data'!$I$10:$I$9996=$D61)*('Claims Data'!$K$10:$K$9996<=L$48)*('Claims Data'!$B$10:$B$9996="TPD")*'Claims Data'!$L$10:$L$9996)} -> 49 | ... AB61: {=SUMPRODUCT(('Claims Data'!$I$10:$I$9996=$D61)*('Claims Data'!$K$10:$K$9996<=AB$48)*('Claims Data'!$B$10:$B$9996="TPD")*'Claims Data'!$L$10:$L$9996)} -> 89.4
C62: =_xlfn.NUMBERVALUE(LEFT(D62,4)) -> 2019 | D62: 2019Q2 | E62: {=SUMPRODUCT(('Claims Data'!$I$10:$I$9996=$D62)*('Claims Data'!$K$10:$K$9996<=E$48)*('Claims Data'!$B$10:$B$9996="TPD")*'Claims Data'!$L$10:$L$9996)} -> 2 | F62: {=SUMPRODUCT(('Claims Data'!$I$10:$I$9996=$D62)*('Claims Data'!$K$10:$K$9996<=F$48)*('Claims Data'!$B$10:$B$9996="TPD")*'Claims Data'!$L$10:$L$9996)} -> 11 | G62: {=SUMPRODUCT(('Claims Data'!$I$10:$I$9996=$D62)*('Claims Data'!$K$10:$K$9996<=G$48)*('Claims Data'!$B$10:$B$9996="TPD")*'Claims Data'!$L$10:$L$9996)} -> 14 | H62: {=SUMPRODUCT(('Claims Data'!$I$10:$I$9996=$D62)*('Claims Data'!$K$10:$K$9996<=H$48)*('Claims Data'!$B$10:$B$9996="TPD")*'Claims Data'!$L$10:$L$9996)} -> 26 | I62: {=SUMPRODUCT(('Claims Data'!$I$10:$I$9996=$D62)*('Claims Data'!$K$10:$K$9996<=I$48)*('Claims Data'!$B$10:$B$9996="TPD")*'Claims Data'!$L$10:$L$9996)} -> 29 | J62: {=SUMPRODUCT(('Claims Data'!$I$10:$I$9996=$D62)*('Claims Data'!$K$10:$K$9996<=J$48)*('Claims Data'!$B$10:$B$9996="TPD")*'Claims Data'!$L$10:$L$9996)} -> 35 | K62: {=SUMPRODUCT(('Claims Data'!$I$10:$I$9996=$D62)*('Claims Data'!$K$10:$K$9996<=K$48)*('Claims Data'!$B$10:$B$9996="TPD")*'Claims Data'!$L$10:$L$9996)} -> 44 | L62: {=SUMPRODUCT(('Claims Data'!$I$10:$I$9996=$D62)*('Claims Data'!$K$10:$K$9996<=L$48)*('Claims Data'!$B$10:$B$9996="TPD")*'Claims Data'!$L$10:$L$9996)} -> 50 | ... AA62: {=SUMPRODUCT(('Claims Data'!$I$10:$I$9996=$D62)*('Claims Data'!$K$10:$K$9996<=AA$48)*('Claims Data'!$B$10:$B$9996="TPD")*'Claims Data'!$L$10:$L$9996)} -> 91.4
C63: =_xlfn.NUMBERVALUE(LEFT(D63,4)) -> 2019 | D63: 2019Q3 | E63: {=SUMPRODUCT(('Claims Data'!$I$10:$I$9996=$D63)*('Claims Data'!$K$10:$K$9996<=E$48)*('Claims Data'!$B$10:$B$9996="TPD")*'Claims Data'!$L$10:$L$9996)} -> 1 | F63: {=SUMPRODUCT(('Claims Data'!$I$10:$I$9996=$D63)*('Claims Data'!$K$10:$K$9996<=F$48)*('Claims Data'!$B$10:$B$9996="TPD")*'Claims Data'!$L$10:$L$9996)} -> 4 | G63: {=SUMPRODUCT(('Claims Data'!$I$10:$I$9996=$D63)*('Claims Data'!$K$10:$K$9996<=G$48)*('Claims Data'!$B$10:$B$9996="TPD")*'Claims Data'!$L$10:$L$9996)} -> 11 | H63: {=SUMPRODUCT(('Claims Data'!$I$10:$I$9996=$D63)*('Claims Data'!$K$10:$K$9996<=H$48)*('Claims Data'!$B$10:$B$9996="TPD")*'Claims Data'!$L$10:$L$9996)} -> 21 | I63: {=SUMPRODUCT(('Claims Data'!$I$10:$I$9996=$D63)*('Claims Data'!$K$10:$K$9996<=I$48)*('Claims Data'!$B$10:$B$9996="TPD")*'Claims Data'!$L$10:$L$9996)} -> 30 | J63: {=SUMPRODUCT(('Claims Data'!$I$10:$I$9996=$D63)*('Claims Data'!$K$10:$K$9996<=J$48)*('Claims Data'!$B$10:$B$9996="TPD")*'Claims Data'!$L$10:$L$9996)} -> 33 | K63: {=SUMPRODUCT(('Claims Data'!$I$10:$I$9996=$D63)*('Claims Data'!$K$10:$K$9996<=K$48)*('Claims Data'!$B$10:$B$9996="TPD")*'Claims Data'!$L$10:$L$9996)} -> 39 | L63: {=SUMPRODUCT(('Claims Data'!$I$10:$I$9996=$D63)*('Claims Data'!$K$10:$K$9996<=L$48)*('Claims Data'!$B$10:$B$9996="TPD")*'Claims Data'!$L$10:$L$9996)} -> 43 | ... Z63: {=SUMPRODUCT(('Claims Data'!$I$10:$I$9996=$D63)*('Claims Data'!$K$10:$K$9996<=Z$48)*('Claims Data'!$B$10:$B$9996="TPD")*'Claims Data'!$L$10:$L$9996)} -> 85.2
C64: =_xlfn.NUMBERVALUE(LEFT(D64,4)) -> 2019 | D64: 2019Q4 | E64: {=SUMPRODUCT(('Claims Data'!$I$10:$I$9996=$D64)*('Claims Data'!$K$10:$K$9996<=E$48)*('Claims Data'!$B$10:$B$9996="TPD")*'Claims Data'!$L$10:$L$9996)} -> 1 | F64: {=SUMPRODUCT(('Claims Data'!$I$10:$I$9996=$D64)*('Claims Data'!$K$10:$K$9996<=F$48)*('Claims Data'!$B$10:$B$9996="TPD")*'Claims Data'!$L$10:$L$9996)} -> 8 | G64: {=SUMPRODUCT(('Claims Data'!$I$10:$I$9996=$D64)*('Claims Data'!$K$10:$K$9996<=G$48)*('Claims Data'!$B$10:$B$9996="TPD")*'Claims Data'!$L$10:$L$9996)} -> 16 | H64: {=SUMPRODUCT(('Claims Data'!$I$10:$I$9996=$D64)*('Claims Data'!$K$10:$K$9996<=H$48)*('Claims Data'!$B$10:$B$9996="TPD")*'Claims Data'!$L$10:$L$9996)} -> 27 | I64: {=SUMPRODUCT(('Claims Data'!$I$10:$I$9996=$D64)*('Claims Data'!$K$10:$K$9996<=I$48)*('Claims Data'!$B$10:$B$9996="TPD")*'Claims Data'!$L$10:$L$9996)} -> 38 | J64: {=SUMPRODUCT(('Claims Data'!$I$10:$I$9996=$D64)*('Claims Data'!$K$10:$K$9996<=J$48)*('Claims Data'!$B$10:$B$9996="TPD")*'Claims Data'!$L$10:$L$9996)} -> 44 | K64: {=SUMPRODUCT(('Claims Data'!$I$10:$I$9996=$D64)*('Claims Data'!$K$10:$K$9996<=K$48)*('Claims Data'!$B$10:$B$9996="TPD")*'Claims Data'!$L$10:$L$9996)} -> 47 | L64: {=SUMPRODUCT(('Claims Data'!$I$10:$I$9996=$D64)*('Claims Data'!$K$10:$K$9996<=L$48)*('Claims Data'!$B$10:$B$9996="TPD")*'Claims Data'!$L$10:$L$9996)} -> 49 | ... Y64: {=SUMPRODUCT(('Claims Data'!$I$10:$I$9996=$D64)*('Claims Data'!$K$10:$K$9996<=Y$48)*('Claims Data'!$B$10:$B$9996="TPD")*'Claims Data'!$L$10:$L$9996)} -> 89
C65: =_xlfn.NUMBERVALUE(LEFT(D65,4)) -> 2020 | D65: 2020Q1 | E65: {=SUMPRODUCT(('Claims Data'!$I$10:$I$9996=$D65)*('Claims Data'!$K$10:$K$9996<=E$48)*('Claims Data'!$B$10:$B$9996="TPD")*'Claims Data'!$L$10:$L$9996)} -> 4 | F65: {=SUMPRODUCT(('Claims Data'!$I$10:$I$9996=$D65)*('Claims Data'!$K$10:$K$9996<=F$48)*('Claims Data'!$B$10:$B$9996="TPD")*'Claims Data'!$L$10:$L$9996)} -> 12 | G65: {=SUMPRODUCT(('Claims Data'!$I$10:$I$9996=$D65)*('Claims Data'!$K$10:$K$9996<=G$48)*('Claims Data'!$B$10:$B$9996="TPD")*'Claims Data'!$L$10:$L$9996)} -> 20 | H65: {=SUMPRODUCT(('Claims Data'!$I$10:$I$9996=$D65)*('Claims Data'!$K$10:$K$9996<=H$48)*('Claims Data'!$B$10:$B$9996="TPD")*'Claims Data'!$L$10:$L$9996)} -> 31 | I65: {=SUMPRODUCT(('Claims Data'!$I$10:$I$9996=$D65)*('Claims Data'!$K$10:$K$9996<=I$48)*('Claims Data'!$B$10:$B$9996="TPD")*'Claims Data'!$L$10:$L$9996)} -> 40 | J65: {=SUMPRODUCT(('Claims Data'!$I$10:$I$9996=$D65)*('Claims Data'!$K$10:$K$9996<=J$48)*('Claims Data'!$B$10:$B$9996="TPD")*'Claims Data'!$L$10:$L$9996)} -> 45 | K65: {=SUMPRODUCT(('Claims Data'!$I$10:$I$9996=$D65)*('Claims Data'!$K$10:$K$9996<=K$48)*('Claims Data'!$B$10:$B$9996="TPD")*'Claims Data'!$L$10:$L$9996)} -> 50 | L65: {=SUMPRODUCT(('Claims Data'!$I$10:$I$9996=$D65)*('Claims Data'!$K$10:$K$9996<=L$48)*('Claims Data'!$B$10:$B$9996="TPD")*'Claims Data'!$L$10:$L$9996)} -> 58 | ... X65: {=SUMPRODUCT(('Claims Data'!$I$10:$I$9996=$D65)*('Claims Data'!$K$10:$K$9996<=X$48)*('Claims Data'!$B$10:$B$9996="TPD")*'Claims Data'!$L$10:$L$9996)} -> 89.4
C66: =_xlfn.NUMBERVALUE(LEFT(D66,4)) -> 2020 | D66: 2020Q2 | E66: {=SUMPRODUCT(('Claims Data'!$I$10:$I$9996=$D66)*('Claims Data'!$K$10:$K$9996<=E$48)*('Claims Data'!$B$10:$B$9996="TPD")*'Claims Data'!$L$10:$L$9996)} -> 3 | F66: {=SUMPRODUCT(('Claims Data'!$I$10:$I$9996=$D66)*('Claims Data'!$K$10:$K$9996<=F$48)*('Claims Data'!$B$10:$B$9996="TPD")*'Claims Data'!$L$10:$L$9996)} -> 8 | G66: {=SUMPRODUCT(('Claims Data'!$I$10:$I$9996=$D66)*('Claims Data'!$K$10:$K$9996<=G$48)*('Claims Data'!$B$10:$B$9996="TPD")*'Claims Data'!$L$10:$L$9996)} -> 15 | H66: {=SUMPRODUCT(('Claims Data'!$I$10:$I$9996=$D66)*('Claims Data'!$K$10:$K$9996<=H$48)*('Claims Data'!$B$10:$B$9996="TPD")*'Claims Data'!$L$10:$L$9996)} -> 23 | I66: {=SUMPRODUCT(('Claims Data'!$I$10:$I$9996=$D66)*('Claims Data'!$K$10:$K$9996<=I$48)*('Claims Data'!$B$10:$B$9996="TPD")*'Claims Data'!$L$10:$L$9996)} -> 32 | J66: {=SUMPRODUCT(('Claims Data'!$I$10:$I$9996=$D66)*('Claims Data'!$K$10:$K$9996<=J$48)*('Claims Data'!$B$10:$B$9996="TPD")*'Claims Data'!$L$10:$L$9996)} -> 38 | K66: {=SUMPRODUCT(('Claims Data'!$I$10:$I$9996=$D66)*('Claims Data'!$K$10:$K$9996<=K$48)*('Claims Data'!$B$10:$B$9996="TPD")*'Claims Data'!$L$10:$L$9996)} -> 41 | L66: {=SUMPRODUCT(('Claims Data'!$I$10:$I$9996=$D66)*('Claims Data'!$K$10:$K$9996<=L$48)*('Claims Data'!$B$10:$B$9996="TPD")*'Claims Data'!$L$10:$L$9996)} -> 42 | ... W66: {=SUMPRODUCT(('Claims Data'!$I$10:$I$9996=$D66)*('Claims Data'!$K$10:$K$9996<=W$48)*('Claims Data'!$B$10:$B$9996="TPD")*'Claims Data'!$L$10:$L$9996)} -> 79.6
C67: =_xlfn.NUMBERVALUE(LEFT(D67,4)) -> 2020 | D67: 2020Q3 | E67: {=SUMPRODUCT(('Claims Data'!$I$10:$I$9996=$D67)*('Claims Data'!$K$10:$K$9996<=E$48)*('Claims Data'!$B$10:$B$9996="TPD")*'Claims Data'!$L$10:$L$9996)} -> 7 | F67: {=SUMPRODUCT(('Claims Data'!$I$10:$I$9996=$D67)*('Claims Data'!$K$10:$K$9996<=F$48)*('Claims Data'!$B$10:$B$9996="TPD")*'Claims Data'!$L$10:$L$9996)} -> 11 | G67: {=SUMPRODUCT(('Claims Data'!$I$10:$I$9996=$D67)*('Claims Data'!$K$10:$K$9996<=G$48)*('Claims Data'!$B$10:$B$9996="TPD")*'Claims Data'!$L$10:$L$9996)} -> 30 | H67: {=SUMPRODUCT(('Claims Data'!$I$10:$I$9996=$D67)*('Claims Data'!$K$10:$K$9996<=H$48)*('Claims Data'!$B$10:$B$9996="TPD")*'Claims Data'!$L$10:$L$9996)} -> 42 | I67: {=SUMPRODUCT(('Claims Data'!$I$10:$I$9996=$D67)*('Claims Data'!$K$10:$K$9996<=I$48)*('Claims Data'!$B$10:$B$9996="TPD")*'Claims Data'!$L$10:$L$9996)} -> 50 | J67: {=SUMPRODUCT(('Claims Data'!$I$10:$I$9996=$D67)*('Claims Data'!$K$10:$K$9996<=J$48)*('Claims Data'!$B$10:$B$9996="TPD")*'Claims Data'!$L$10:$L$9996)} -> 54 | K67: {=SUMPRODUCT(('Claims Data'!$I$10:$I$9996=$D67)*('Claims Data'!$K$10:$K$9996<=K$48)*('Claims Data'!$B$10:$B$9996="TPD")*'Claims Data'!$L$10:$L$9996)} -> 56 | L67: {=SUMPRODUCT(('Claims Data'!$I$10:$I$9996=$D67)*('Claims Data'!$K$10:$K$9996<=L$48)*('Claims Data'!$B$10:$B$9996="TPD")*'Claims Data'!$L$10:$L$9996)} -> 59 | ... V67: {=SUMPRODUCT(('Claims Data'!$I$10:$I$9996=$D67)*('Claims Data'!$K$10:$K$9996<=V$48)*('Claims Data'!$B$10:$B$9996="TPD")*'Claims Data'!$L$10:$L$9996)} -> 99.2
C68: =_xlfn.NUMBERVALUE(LEFT(D68,4)) -> 2020 | D68: 2020Q4 | E68: {=SUMPRODUCT(('Claims Data'!$I$10:$I$9996=$D68)*('Claims Data'!$K$10:$K$9996<=E$48)*('Claims Data'!$B$10:$B$9996="TPD")*'Claims Data'!$L$10:$L$9996)} -> 1 | F68: {=SUMPRODUCT(('Claims Data'!$I$10:$I$9996=$D68)*('Claims Data'!$K$10:$K$9996<=F$48)*('Claims Data'!$B$10:$B$9996="TPD")*'Claims Data'!$L$10:$L$9996)} -> 5 | G68: {=SUMPRODUCT(('Claims Data'!$I$10:$I$9996=$D68)*('Claims Data'!$K$10:$K$9996<=G$48)*('Claims Data'!$B$10:$B$9996="TPD")*'Claims Data'!$L$10:$L$9996)} -> 13 | H68: {=SUMPRODUCT(('Claims Data'!$I$10:$I$9996=$D68)*('Claims Data'!$K$10:$K$9996<=H$48)*('Claims Data'!$B$10:$B$9996="TPD")*'Claims Data'!$L$10:$L$9996)} -> 33 | I68: {=SUMPRODUCT(('Claims Data'!$I$10:$I$9996=$D68)*('Claims Data'!$K$10:$K$9996<=I$48)*('Claims Data'!$B$10:$B$9996="TPD")*'Claims Data'!$L$10:$L$9996)} -> 45 | J68: {=SUMPRODUCT(('Claims Data'!$I$10:$I$9996=$D68)*('Claims Data'!$K$10:$K$9996<=J$48)*('Claims Data'!$B$10:$B$9996="TPD")*'Claims Data'!$L$10:$L$9996)} -> 48 | K68: {=SUMPRODUCT(('Claims Data'!$I$10:$I$9996=$D68)*('Claims Data'!$K$10:$K$9996<=K$48)*('Claims Data'!$B$10:$B$9996="TPD")*'Claims Data'!$L$10:$L$9996)} -> 51 | L68: {=SUMPRODUCT(('Claims Data'!$I$10:$I$9996=$D68)*('Claims Data'!$K$10:$K$9996<=L$48)*('Claims Data'!$B$10:$B$9996="TPD")*'Claims Data'!$L$10:$L$9996)} -> 54 | ... U68: {=SUMPRODUCT(('Claims Data'!$I$10:$I$9996=$D68)*('Claims Data'!$K$10:$K$9996<=U$48)*('Claims Data'!$B$10:$B$9996="TPD")*'Claims Data'!$L$10:$L$9996)} -> 89.2
C69: =_xlfn.NUMBERVALUE(LEFT(D69,4)) -> 2021 | D69: 2021Q1 | E69: {=SUMPRODUCT(('Claims Data'!$I$10:$I$9996=$D69)*('Claims Data'!$K$10:$K$9996<=E$48)*('Claims Data'!$B$10:$B$9996="TPD")*'Claims Data'!$L$10:$L$9996)} -> 0 | F69: {=SUMPRODUCT(('Claims Data'!$I$10:$I$9996=$D69)*('Claims Data'!$K$10:$K$9996<=F$48)*('Claims Data'!$B$10:$B$9996="TPD")*'Claims Data'!$L$10:$L$9996)} -> 2 | G69: {=SUMPRODUCT(('Claims Data'!$I$10:$I$9996=$D69)*('Claims Data'!$K$10:$K$9996<=G$48)*('Claims Data'!$B$10:$B$9996="TPD")*'Claims Data'!$L$10:$L$9996)} -> 13 | H69: {=SUMPRODUCT(('Claims Data'!$I$10:$I$9996=$D69)*('Claims Data'!$K$10:$K$9996<=H$48)*('Claims Data'!$B$10:$B$9996="TPD")*'Claims Data'!$L$10:$L$9996)} -> 28 | I69: {=SUMPRODUCT(('Claims Data'!$I$10:$I$9996=$D69)*('Claims Data'!$K$10:$K$9996<=I$48)*('Claims Data'!$B$10:$B$9996="TPD")*'Claims Data'!$L$10:$L$9996)} -> 33 | J69: {=SUMPRODUCT(('Claims Data'!$I$10:$I$9996=$D69)*('Claims Data'!$K$10:$K$9996<=J$48)*('Claims Data'!$B$10:$B$9996="TPD")*'Claims Data'!$L$10:$L$9996)} -> 41 | K69: {=SUMPRODUCT(('Claims Data'!$I$10:$I$9996=$D69)*('Claims Data'!$K$10:$K$9996<=K$48)*('Claims Data'!$B$10:$B$9996="TPD")*'Claims Data'!$L$10:$L$9996)} -> 41 | L69: {=SUMPRODUCT(('Claims Data'!$I$10:$I$9996=$D69)*('Claims Data'!$K$10:$K$9996<=L$48)*('Claims Data'!$B$10:$B$9996="TPD")*'Claims Data'!$L$10:$L$9996)} -> 43 | ... T69: {=SUMPRODUCT(('Claims Data'!$I$10:$I$9996=$D69)*('Claims Data'!$K$10:$K$9996<=T$48)*('Claims Data'!$B$10:$B$9996="TPD")*'Claims Data'!$L$10:$L$9996)} -> 77.6
C70: =_xlfn.NUMBERVALUE(LEFT(D70,4)) -> 2021 | D70: 2021Q2 | E70: {=SUMPRODUCT(('Claims Data'!$I$10:$I$9996=$D70)*('Claims Data'!$K$10:$K$9996<=E$48)*('Claims Data'!$B$10:$B$9996="TPD")*'Claims Data'!$L$10:$L$9996)} -> 0 | F70: {=SUMPRODUCT(('Claims Data'!$I$10:$I$9996=$D70)*('Claims Data'!$K$10:$K$9996<=F$48)*('Claims Data'!$B$10:$B$9996="TPD")*'Claims Data'!$L$10:$L$9996)} -> 1 | G70: {=SUMPRODUCT(('Claims Data'!$I$10:$I$9996=$D70)*('Claims Data'!$K$10:$K$9996<=G$48)*('Claims Data'!$B$10:$B$9996="TPD")*'Claims Data'!$L$10:$L$9996)} -> 17 | H70: {=SUMPRODUCT(('Claims Data'!$I$10:$I$9996=$D70)*('Claims Data'!$K$10:$K$9996<=H$48)*('Claims Data'!$B$10:$B$9996="TPD")*'Claims Data'!$L$10:$L$9996)} -> 21 | I70: {=SUMPRODUCT(('Claims Data'!$I$10:$I$9996=$D70)*('Claims Data'!$K$10:$K$9996<=I$48)*('Claims Data'!$B$10:$B$9996="TPD")*'Claims Data'!$L$10:$L$9996)} -> 24 | J70: {=SUMPRODUCT(('Claims Data'!$I$10:$I$9996=$D70)*('Claims Data'!$K$10:$K$9996<=J$48)*('Claims Data'!$B$10:$B$9996="TPD")*'Claims Data'!$L$10:$L$9996)} -> 36 | K70: {=SUMPRODUCT(('Claims Data'!$I$10:$I$9996=$D70)*('Claims Data'!$K$10:$K$9996<=K$48)*('Claims Data'!$B$10:$B$9996="TPD")*'Claims Data'!$L$10:$L$9996)} -> 40 | L70: {=SUMPRODUCT(('Claims Data'!$I$10:$I$9996=$D70)*('Claims Data'!$K$10:$K$9996<=L$48)*('Claims Data'!$B$10:$B$9996="TPD")*'Claims Data'!$L$10:$L$9996)} -> 44 | ... S70: {=SUMPRODUCT(('Claims Data'!$I$10:$I$9996=$D70)*('Claims Data'!$K$10:$K$9996<=S$48)*('Claims Data'!$B$10:$B$9996="TPD")*'Claims Data'!$L$10:$L$9996)} -> 84.2
C71: =_xlfn.NUMBERVALUE(LEFT(D71,4)) -> 2021 | D71: 2021Q3 | E71: {=SUMPRODUCT(('Claims Data'!$I$10:$I$9996=$D71)*('Claims Data'!$K$10:$K$9996<=E$48)*('Claims Data'!$B$10:$B$9996="TPD")*'Claims Data'!$L$10:$L$9996)} -> 2 | F71: {=SUMPRODUCT(('Claims Data'!$I$10:$I$9996=$D71)*('Claims Data'!$K$10:$K$9996<=F$48)*('Claims Data'!$B$10:$B$9996="TPD")*'Claims Data'!$L$10:$L$9996)} -> 6 | G71: {=SUMPRODUCT(('Claims Data'!$I$10:$I$9996=$D71)*('Claims Data'!$K$10:$K$9996<=G$48)*('Claims Data'!$B$10:$B$9996="TPD")*'Claims Data'!$L$10:$L$9996)} -> 12 | H71: {=SUMPRODUCT(('Claims Data'!$I$10:$I$9996=$D71)*('Claims Data'!$K$10:$K$9996<=H$48)*('Claims Data'!$B$10:$B$9996="TPD")*'Claims Data'!$L$10:$L$9996)} -> 22 | I71: {=SUMPRODUCT(('Claims Data'!$I$10:$I$9996=$D71)*('Claims Data'!$K$10:$K$9996<=I$48)*('Claims Data'!$B$10:$B$9996="TPD")*'Claims Data'!$L$10:$L$9996)} -> 35 | J71: {=SUMPRODUCT(('Claims Data'!$I$10:$I$9996=$D71)*('Claims Data'!$K$10:$K$9996<=J$48)*('Claims Data'!$B$10:$B$9996="TPD")*'Claims Data'!$L$10:$L$9996)} -> 50 | K71: {=SUMPRODUCT(('Claims Data'!$I$10:$I$9996=$D71)*('Claims Data'!$K$10:$K$9996<=K$48)*('Claims Data'!$B$10:$B$9996="TPD")*'Claims Data'!$L$10:$L$9996)} -> 60 | L71: {=SUMPRODUCT(('Claims Data'!$I$10:$I$9996=$D71)*('Claims Data'!$K$10:$K$9996<=L$48)*('Claims Data'!$B$10:$B$9996="TPD")*'Claims Data'!$L$10:$L$9996)} -> 63 | ... R71: {=SUMPRODUCT(('Claims Data'!$I$10:$I$9996=$D71)*('Claims Data'!$K$10:$K$9996<=R$48)*('Claims Data'!$B$10:$B$9996="TPD")*'Claims Data'!$L$10:$L$9996)} -> 94
C72: =_xlfn.NUMBERVALUE(LEFT(D72,4)) -> 2021 | D72: 2021Q4 | E72: {=SUMPRODUCT(('Claims Data'!$I$10:$I$9996=$D72)*('Claims Data'!$K$10:$K$9996<=E$48)*('Claims Data'!$B$10:$B$9996="TPD")*'Claims Data'!$L$10:$L$9996)} -> 0 | F72: {=SUMPRODUCT(('Claims Data'!$I$10:$I$9996=$D72)*('Claims Data'!$K$10:$K$9996<=F$48)*('Claims Data'!$B$10:$B$9996="TPD")*'Claims Data'!$L$10:$L$9996)} -> 2 | G72: {=SUMPRODUCT(('Claims Data'!$I$10:$I$9996=$D72)*('Claims Data'!$K$10:$K$9996<=G$48)*('Claims Data'!$B$10:$B$9996="TPD")*'Claims Data'!$L$10:$L$9996)} -> 10 | H72: {=SUMPRODUCT(('Claims Data'!$I$10:$I$9996=$D72)*('Claims Data'!$K$10:$K$9996<=H$48)*('Claims Data'!$B$10:$B$9996="TPD")*'Claims Data'!$L$10:$L$9996)} -> 23 | I72: {=SUMPRODUCT(('Claims Data'!$I$10:$I$9996=$D72)*('Claims Data'!$K$10:$K$9996<=I$48)*('Claims Data'!$B$10:$B$9996="TPD")*'Claims Data'!$L$10:$L$9996)} -> 31 | J72: {=SUMPRODUCT(('Claims Data'!$I$10:$I$9996=$D72)*('Claims Data'!$K$10:$K$9996<=J$48)*('Claims Data'!$B$10:$B$9996="TPD")*'Claims Data'!$L$10:$L$9996)} -> 42 | K72: {=SUMPRODUCT(('Claims Data'!$I$10:$I$9996=$D72)*('Claims Data'!$K$10:$K$9996<=K$48)*('Claims Data'!$B$10:$B$9996="TPD")*'Claims Data'!$L$10:$L$9996)} -> 49 | L72: {=SUMPRODUCT(('Claims Data'!$I$10:$I$9996=$D72)*('Claims Data'!$K$10:$K$9996<=L$48)*('Claims Data'!$B$10:$B$9996="TPD")*'Claims Data'!$L$10:$L$9996)} -> 56 | ... Q72: {=SUMPRODUCT(('Claims Data'!$I$10:$I$9996=$D72)*('Claims Data'!$K$10:$K$9996<=Q$48)*('Claims Data'!$B$10:$B$9996="TPD")*'Claims Data'!$L$10:$L$9996)} -> 79.6
C73: =_xlfn.NUMBERVALUE(LEFT(D73,4)) -> 2022 | D73: 2022Q1 | E73: {=SUMPRODUCT(('Claims Data'!$I$10:$I$9996=$D73)*('Claims Data'!$K$10:$K$9996<=E$48)*('Claims Data'!$B$10:$B$9996="TPD")*'Claims Data'!$L$10:$L$9996)} -> 1 | F73: {=SUMPRODUCT(('Claims Data'!$I$10:$I$9996=$D73)*('Claims Data'!$K$10:$K$9996<=F$48)*('Claims Data'!$B$10:$B$9996="TPD")*'Claims Data'!$L$10:$L$9996)} -> 1 | G73: {=SUMPRODUCT(('Claims Data'!$I$10:$I$9996=$D73)*('Claims Data'!$K$10:$K$9996<=G$48)*('Claims Data'!$B$10:$B$9996="TPD")*'Claims Data'!$L$10:$L$9996)} -> 5 | H73: {=SUMPRODUCT(('Claims Data'!$I$10:$I$9996=$D73)*('Claims Data'!$K$10:$K$9996<=H$48)*('Claims Data'!$B$10:$B$9996="TPD")*'Claims Data'!$L$10:$L$9996)} -> 13 | I73: {=SUMPRODUCT(('Claims Data'!$I$10:$I$9996=$D73)*('Claims Data'!$K$10:$K$9996<=I$48)*('Claims Data'!$B$10:$B$9996="TPD")*'Claims Data'!$L$10:$L$9996)} -> 24 | J73: {=SUMPRODUCT(('Claims Data'!$I$10:$I$9996=$D73)*('Claims Data'!$K$10:$K$9996<=J$48)*('Claims Data'!$B$10:$B$9996="TPD")*'Claims Data'!$L$10:$L$9996)} -> 29 | K73: {=SUMPRODUCT(('Claims Data'!$I$10:$I$9996=$D73)*('Claims Data'!$K$10:$K$9996<=K$48)*('Claims Data'!$B$10:$B$9996="TPD")*'Claims Data'!$L$10:$L$9996)} -> 37 | L73: {=SUMPRODUCT(('Claims Data'!$I$10:$I$9996=$D73)*('Claims Data'!$K$10:$K$9996<=L$48)*('Claims Data'!$B$10:$B$9996="TPD")*'Claims Data'!$L$10:$L$9996)} -> 40.8 | ... P73: {=SUMPRODUCT(('Claims Data'!$I$10:$I$9996=$D73)*('Claims Data'!$K$10:$K$9996<=P$48)*('Claims Data'!$B$10:$B$9996="TPD")*'Claims Data'!$L$10:$L$9996)} -> 59.2
C74: =_xlfn.NUMBERVALUE(LEFT(D74,4)) -> 2022 | D74: 2022Q2 | E74: {=SUMPRODUCT(('Claims Data'!$I$10:$I$9996=$D74)*('Claims Data'!$K$10:$K$9996<=E$48)*('Claims Data'!$B$10:$B$9996="TPD")*'Claims Data'!$L$10:$L$9996)} -> 0 | F74: {=SUMPRODUCT(('Claims Data'!$I$10:$I$9996=$D74)*('Claims Data'!$K$10:$K$9996<=F$48)*('Claims Data'!$B$10:$B$9996="TPD")*'Claims Data'!$L$10:$L$9996)} -> 3 | G74: {=SUMPRODUCT(('Claims Data'!$I$10:$I$9996=$D74)*('Claims Data'!$K$10:$K$9996<=G$48)*('Claims Data'!$B$10:$B$9996="TPD")*'Claims Data'!$L$10:$L$9996)} -> 8 | H74: {=SUMPRODUCT(('Claims Data'!$I$10:$I$9996=$D74)*('Claims Data'!$K$10:$K$9996<=H$48)*('Claims Data'!$B$10:$B$9996="TPD")*'Claims Data'!$L$10:$L$9996)} -> 18 | I74: {=SUMPRODUCT(('Claims Data'!$I$10:$I$9996=$D74)*('Claims Data'!$K$10:$K$9996<=I$48)*('Claims Data'!$B$10:$B$9996="TPD")*'Claims Data'!$L$10:$L$9996)} -> 22.8 | J74: {=SUMPRODUCT(('Claims Data'!$I$10:$I$9996=$D74)*('Claims Data'!$K$10:$K$9996<=J$48)*('Claims Data'!$B$10:$B$9996="TPD")*'Claims Data'!$L$10:$L$9996)} -> 28.8 | K74: {=SUMPRODUCT(('Claims Data'!$I$10:$I$9996=$D74)*('Claims Data'!$K$10:$K$9996<=K$48)*('Claims Data'!$B$10:$B$9996="TPD")*'Claims Data'!$L$10:$L$9996)} -> 33.6 | L74: {=SUMPRODUCT(('Claims Data'!$I$10:$I$9996=$D74)*('Claims Data'!$K$10:$K$9996<=L$48)*('Claims Data'!$B$10:$B$9996="TPD")*'Claims Data'!$L$10:$L$9996)} -> 50.8 | ... O74: {=SUMPRODUCT(('Claims Data'!$I$10:$I$9996=$D74)*('Claims Data'!$K$10:$K$9996<=O$48)*('Claims Data'!$B$10:$B$9996="TPD")*'Claims Data'!$L$10:$L$9996)} -> 72.4
C75: =_xlfn.NUMBERVALUE(LEFT(D75,4)) -> 2022 | D75: 2022Q3 | E75: {=SUMPRODUCT(('Claims Data'!$I$10:$I$9996=$D75)*('Claims Data'!$K$10:$K$9996<=E$48)*('Claims Data'!$B$10:$B$9996="TPD")*'Claims Data'!$L$10:$L$9996)} -> 0 | F75: {=SUMPRODUCT(('Claims Data'!$I$10:$I$9996=$D75)*('Claims Data'!$K$10:$K$9996<=F$48)*('Claims Data'!$B$10:$B$9996="TPD")*'Claims Data'!$L$10:$L$9996)} -> 1 | G75: {=SUMPRODUCT(('Claims Data'!$I$10:$I$9996=$D75)*('Claims Data'!$K$10:$K$9996<=G$48)*('Claims Data'!$B$10:$B$9996="TPD")*'Claims Data'!$L$10:$L$9996)} -> 12.8 | H75: {=SUMPRODUCT(('Claims Data'!$I$10:$I$9996=$D75)*('Claims Data'!$K$10:$K$9996<=H$48)*('Claims Data'!$B$10:$B$9996="TPD")*'Claims Data'!$L$10:$L$9996)} -> 25.8 | I75: {=SUMPRODUCT(('Claims Data'!$I$10:$I$9996=$D75)*('Claims Data'!$K$10:$K$9996<=I$48)*('Claims Data'!$B$10:$B$9996="TPD")*'Claims Data'!$L$10:$L$9996)} -> 32.8 | J75: {=SUMPRODUCT(('Claims Data'!$I$10:$I$9996=$D75)*('Claims Data'!$K$10:$K$9996<=J$48)*('Claims Data'!$B$10:$B$9996="TPD")*'Claims Data'!$L$10:$L$9996)} -> 38.8 | K75: {=SUMPRODUCT(('Claims Data'!$I$10:$I$9996=$D75)*('Claims Data'!$K$10:$K$9996<=K$48)*('Claims Data'!$B$10:$B$9996="TPD")*'Claims Data'!$L$10:$L$9996)} -> 48.6 | L75: {=SUMPRODUCT(('Claims Data'!$I$10:$I$9996=$D75)*('Claims Data'!$K$10:$K$9996<=L$48)*('Claims Data'!$B$10:$B$9996="TPD")*'Claims Data'!$L$10:$L$9996)} -> 52.4 | ... N75: {=SUMPRODUCT(('Claims Data'!$I$10:$I$9996=$D75)*('Claims Data'!$K$10:$K$9996<=N$48)*('Claims Data'!$B$10:$B$9996="TPD")*'Claims Data'!$L$10:$L$9996)} -> 72
C76: =_xlfn.NUMBERVALUE(LEFT(D76,4)) -> 2022 | D76: 2022Q4 | E76: {=SUMPRODUCT(('Claims Data'!$I$10:$I$9996=$D76)*('Claims Data'!$K$10:$K$9996<=E$48)*('Claims Data'!$B$10:$B$9996="TPD")*'Claims Data'!$L$10:$L$9996)} -> 3 | F76: {=SUMPRODUCT(('Claims Data'!$I$10:$I$9996=$D76)*('Claims Data'!$K$10:$K$9996<=F$48)*('Claims Data'!$B$10:$B$9996="TPD")*'Claims Data'!$L$10:$L$9996)} -> 8 | G76: {=SUMPRODUCT(('Claims Data'!$I$10:$I$9996=$D76)*('Claims Data'!$K$10:$K$9996<=G$48)*('Claims Data'!$B$10:$B$9996="TPD")*'Claims Data'!$L$10:$L$9996)} -> 13 | H76: {=SUMPRODUCT(('Claims Data'!$I$10:$I$9996=$D76)*('Claims Data'!$K$10:$K$9996<=H$48)*('Claims Data'!$B$10:$B$9996="TPD")*'Claims Data'!$L$10:$L$9996)} -> 25.8 | I76: {=SUMPRODUCT(('Claims Data'!$I$10:$I$9996=$D76)*('Claims Data'!$K$10:$K$9996<=I$48)*('Claims Data'!$B$10:$B$9996="TPD")*'Claims Data'!$L$10:$L$9996)} -> 37.6 | J76: {=SUMPRODUCT(('Claims Data'!$I$10:$I$9996=$D76)*('Claims Data'!$K$10:$K$9996<=J$48)*('Claims Data'!$B$10:$B$9996="TPD")*'Claims Data'!$L$10:$L$9996)} -> 44.6 | K76: {=SUMPRODUCT(('Claims Data'!$I$10:$I$9996=$D76)*('Claims Data'!$K$10:$K$9996<=K$48)*('Claims Data'!$B$10:$B$9996="TPD")*'Claims Data'!$L$10:$L$9996)} -> 52.4 | L76: {=SUMPRODUCT(('Claims Data'!$I$10:$I$9996=$D76)*('Claims Data'!$K$10:$K$9996<=L$48)*('Claims Data'!$B$10:$B$9996="TPD")*'Claims Data'!$L$10:$L$9996)} -> 62 | M76: {=SUMPRODUCT(('Claims Data'!$I$10:$I$9996=$D76)*('Claims Data'!$K$10:$K$9996<=M$48)*('Claims Data'!$B$10:$B$9996="TPD")*'Claims Data'!$L$10:$L$9996)} -> 74.6
C77: =_xlfn.NUMBERVALUE(LEFT(D77,4)) -> 2023 | D77: 2023Q1 | E77: {=SUMPRODUCT(('Claims Data'!$I$10:$I$9996=$D77)*('Claims Data'!$K$10:$K$9996<=E$48)*('Claims Data'!$B$10:$B$9996="TPD")*'Claims Data'!$L$10:$L$9996)} -> 0 | F77: {=SUMPRODUCT(('Claims Data'!$I$10:$I$9996=$D77)*('Claims Data'!$K$10:$K$9996<=F$48)*('Claims Data'!$B$10:$B$9996="TPD")*'Claims Data'!$L$10:$L$9996)} -> 1 | G77: {=SUMPRODUCT(('Claims Data'!$I$10:$I$9996=$D77)*('Claims Data'!$K$10:$K$9996<=G$48)*('Claims Data'!$B$10:$B$9996="TPD")*'Claims Data'!$L$10:$L$9996)} -> 5 | H77: {=SUMPRODUCT(('Claims Data'!$I$10:$I$9996=$D77)*('Claims Data'!$K$10:$K$9996<=H$48)*('Claims Data'!$B$10:$B$9996="TPD")*'Claims Data'!$L$10:$L$9996)} -> 14.8 | I77: {=SUMPRODUCT(('Claims Data'!$I$10:$I$9996=$D77)*('Claims Data'!$K$10:$K$9996<=I$48)*('Claims Data'!$B$10:$B$9996="TPD")*'Claims Data'!$L$10:$L$9996)} -> 28.6 | J77: {=SUMPRODUCT(('Claims Data'!$I$10:$I$9996=$D77)*('Claims Data'!$K$10:$K$9996<=J$48)*('Claims Data'!$B$10:$B$9996="TPD")*'Claims Data'!$L$10:$L$9996)} -> 37 | K77: {=SUMPRODUCT(('Claims Data'!$I$10:$I$9996=$D77)*('Claims Data'!$K$10:$K$9996<=K$48)*('Claims Data'!$B$10:$B$9996="TPD")*'Claims Data'!$L$10:$L$9996)} -> 46.4 | L77: {=SUMPRODUCT(('Claims Data'!$I$10:$I$9996=$D77)*('Claims Data'!$K$10:$K$9996<=L$48)*('Claims Data'!$B$10:$B$9996="TPD")*'Claims Data'!$L$10:$L$9996)} -> 55.2
C78: =_xlfn.NUMBERVALUE(LEFT(D78,4)) -> 2023 | D78: 2023Q2 | E78: {=SUMPRODUCT(('Claims Data'!$I$10:$I$9996=$D78)*('Claims Data'!$K$10:$K$9996<=E$48)*('Claims Data'!$B$10:$B$9996="TPD")*'Claims Data'!$L$10:$L$9996)} -> 0 | F78: {=SUMPRODUCT(('Claims Data'!$I$10:$I$9996=$D78)*('Claims Data'!$K$10:$K$9996<=F$48)*('Claims Data'!$B$10:$B$9996="TPD")*'Claims Data'!$L$10:$L$9996)} -> 1 | G78: {=SUMPRODUCT(('Claims Data'!$I$10:$I$9996=$D78)*('Claims Data'!$K$10:$K$9996<=G$48)*('Claims Data'!$B$10:$B$9996="TPD")*'Claims Data'!$L$10:$L$9996)} -> 8 | H78: {=SUMPRODUCT(('Claims Data'!$I$10:$I$9996=$D78)*('Claims Data'!$K$10:$K$9996<=H$48)*('Claims Data'!$B$10:$B$9996="TPD")*'Claims Data'!$L$10:$L$9996)} -> 20 | I78: {=SUMPRODUCT(('Claims Data'!$I$10:$I$9996=$D78)*('Claims Data'!$K$10:$K$9996<=I$48)*('Claims Data'!$B$10:$B$9996="TPD")*'Claims Data'!$L$10:$L$9996)} -> 34.6 | J78: {=SUMPRODUCT(('Claims Data'!$I$10:$I$9996=$D78)*('Claims Data'!$K$10:$K$9996<=J$48)*('Claims Data'!$B$10:$B$9996="TPD")*'Claims Data'!$L$10:$L$9996)} -> 42.6 | K78: {=SUMPRODUCT(('Claims Data'!$I$10:$I$9996=$D78)*('Claims Data'!$K$10:$K$9996<=K$48)*('Claims Data'!$B$10:$B$9996="TPD")*'Claims Data'!$L$10:$L$9996)} -> 52.8
C79: =_xlfn.NUMBERVALUE(LEFT(D79,4)) -> 2023 | D79: 2023Q3 | E79: {=SUMPRODUCT(('Claims Data'!$I$10:$I$9996=$D79)*('Claims Data'!$K$10:$K$9996<=E$48)*('Claims Data'!$B$10:$B$9996="TPD")*'Claims Data'!$L$10:$L$9996)} -> 1 | F79: {=SUMPRODUCT(('Claims Data'!$I$10:$I$9996=$D79)*('Claims Data'!$K$10:$K$9996<=F$48)*('Claims Data'!$B$10:$B$9996="TPD")*'Claims Data'!$L$10:$L$9996)} -> 1 | G79: {=SUMPRODUCT(('Claims Data'!$I$10:$I$9996=$D79)*('Claims Data'!$K$10:$K$9996<=G$48)*('Claims Data'!$B$10:$B$9996="TPD")*'Claims Data'!$L$10:$L$9996)} -> 11.8 | H79: {=SUMPRODUCT(('Claims Data'!$I$10:$I$9996=$D79)*('Claims Data'!$K$10:$K$9996<=H$48)*('Claims Data'!$B$10:$B$9996="TPD")*'Claims Data'!$L$10:$L$9996)} -> 29.2 | I79: {=SUMPRODUCT(('Claims Data'!$I$10:$I$9996=$D79)*('Claims Data'!$K$10:$K$9996<=I$48)*('Claims Data'!$B$10:$B$9996="TPD")*'Claims Data'!$L$10:$L$9996)} -> 40.4 | J79: {=SUMPRODUCT(('Claims Data'!$I$10:$I$9996=$D79)*('Claims Data'!$K$10:$K$9996<=J$48)*('Claims Data'!$B$10:$B$9996="TPD")*'Claims Data'!$L$10:$L$9996)} -> 51
C80: =_xlfn.NUMBERVALUE(LEFT(D80,4)) -> 2023 | D80: 2023Q4 | E80: {=SUMPRODUCT(('Claims Data'!$I$10:$I$9996=$D80)*('Claims Data'!$K$10:$K$9996<=E$48)*('Claims Data'!$B$10:$B$9996="TPD")*'Claims Data'!$L$10:$L$9996)} -> 0 | F80: {=SUMPRODUCT(('Claims Data'!$I$10:$I$9996=$D80)*('Claims Data'!$K$10:$K$9996<=F$48)*('Claims Data'!$B$10:$B$9996="TPD")*'Claims Data'!$L$10:$L$9996)} -> 0 | G80: {=SUMPRODUCT(('Claims Data'!$I$10:$I$9996=$D80)*('Claims Data'!$K$10:$K$9996<=G$48)*('Claims Data'!$B$10:$B$9996="TPD")*'Claims Data'!$L$10:$L$9996)} -> 3 | H80: {=SUMPRODUCT(('Claims Data'!$I$10:$I$9996=$D80)*('Claims Data'!$K$10:$K$9996<=H$48)*('Claims Data'!$B$10:$B$9996="TPD")*'Claims Data'!$L$10:$L$9996)} -> 16.4 | I80: {=SUMPRODUCT(('Claims Data'!$I$10:$I$9996=$D80)*('Claims Data'!$K$10:$K$9996<=I$48)*('Claims Data'!$B$10:$B$9996="TPD")*'Claims Data'!$L$10:$L$9996)} -> 29
C81: =_xlfn.NUMBERVALUE(LEFT(D81,4)) -> 2024 | D81: 2024Q1 | E81: {=SUMPRODUCT(('Claims Data'!$I$10:$I$9996=$D81)*('Claims Data'!$K$10:$K$9996<=E$48)*('Claims Data'!$B$10:$B$9996="TPD")*'Claims Data'!$L$10:$L$9996)} -> 0 | F81: {=SUMPRODUCT(('Claims Data'!$I$10:$I$9996=$D81)*('Claims Data'!$K$10:$K$9996<=F$48)*('Claims Data'!$B$10:$B$9996="TPD")*'Claims Data'!$L$10:$L$9996)} -> 1 | G81: {=SUMPRODUCT(('Claims Data'!$I$10:$I$9996=$D81)*('Claims Data'!$K$10:$K$9996<=G$48)*('Claims Data'!$B$10:$B$9996="TPD")*'Claims Data'!$L$10:$L$9996)} -> 9 | H81: {=SUMPRODUCT(('Claims Data'!$I$10:$I$9996=$D81)*('Claims Data'!$K$10:$K$9996<=H$48)*('Claims Data'!$B$10:$B$9996="TPD")*'Claims Data'!$L$10:$L$9996)} -> 26.8
C82: =_xlfn.NUMBERVALUE(LEFT(D82,4)) -> 2024 | D82: 2024Q2 | E82: {=SUMPRODUCT(('Claims Data'!$I$10:$I$9996=$D82)*('Claims Data'!$K$10:$K$9996<=E$48)*('Claims Data'!$B$10:$B$9996="TPD")*'Claims Data'!$L$10:$L$9996)} -> 0 | F82: {=SUMPRODUCT(('Claims Data'!$I$10:$I$9996=$D82)*('Claims Data'!$K$10:$K$9996<=F$48)*('Claims Data'!$B$10:$B$9996="TPD")*'Claims Data'!$L$10:$L$9996)} -> 1 | G82: {=SUMPRODUCT(('Claims Data'!$I$10:$I$9996=$D82)*('Claims Data'!$K$10:$K$9996<=G$48)*('Claims Data'!$B$10:$B$9996="TPD")*'Claims Data'!$L$10:$L$9996)} -> 9.4
C83: =_xlfn.NUMBERVALUE(LEFT(D83,4)) -> 2024 | D83: 2024Q3 | E83: {=SUMPRODUCT(('Claims Data'!$I$10:$I$9996=$D83)*('Claims Data'!$K$10:$K$9996<=E$48)*('Claims Data'!$B$10:$B$9996="TPD")*'Claims Data'!$L$10:$L$9996)} -> 0.8 | F83: {=SUMPRODUCT(('Claims Data'!$I$10:$I$9996=$D83)*('Claims Data'!$K$10:$K$9996<=F$48)*('Claims Data'!$B$10:$B$9996="TPD")*'Claims Data'!$L$10:$L$9996)} -> 4.4
C84: =_xlfn.NUMBERVALUE(LEFT(D84,4)) -> 2024 | D84: 2024Q4 | E84: {=SUMPRODUCT(('Claims Data'!$I$10:$I$9996=$D84)*('Claims Data'!$K$10:$K$9996<=E$48)*('Claims Data'!$B$10:$B$9996="TPD")*'Claims Data'!$L$10:$L$9996)} -> 0.8
C86: Table 3. Link ratios or development factors
E87: Development Year
C88: Year | D88: Quarter | E88: 0:1 | F88: 1:2 | G88: 2:3 | H88: 3:4 | I88: 4:5 | J88: 5:6 | K88: 6:7 | L88: 7:8 | M88: 8:9 | N88: 9:10 | O88: 10:11 | P88: 11:12 | Q88: 12:13 | R88: 13:14 | S88: 14:15 | T88: 15:16 | U88: 16:17 | V88: 17:18 | W88: 18:19 | X88: 19:20 | Y88: 20:21 | Z88: 21:22 | AA88: 22:23 | AB88: 23:24 | AC88: 24:25 | AD88: 25:26 | AE88: 26:27 | AF88: 27:28 | AG88: 28:29 | AH88: 29:30 | AI88: 30:31 | AJ88: 31:32 | AK88: 32:33 | AL88: 33:34 | AM88: 34:35 | AN88: 35:36
B89: Incurred Year | C89: =_xlfn.NUMBERVALUE(LEFT(D89,4)) -> 2016 | D89: 2016Q1 | E89: =F49/E49 -> #DIV/0! | F89: =G49/F49 -> 3 | G89: =H49/G49 -> 2.6666667 | H89: =I49/H49 -> 1.625 | I89: =J49/I49 -> 1.1538462 | J89: =K49/J49 -> 1.2 | K89: =L49/K49 -> 1.3333333 | L89: =M49/L49 -> 1.1666667 | ... AM89: =AN49/AM49 -> 1
C90: =_xlfn.NUMBERVALUE(LEFT(D90,4)) -> 2016 | D90: 2016Q2 | E90: =F50/E50 -> #DIV/0! | F90: =G50/F50 -> #DIV/0! | G90: =H50/G50 -> 1 | H90: =I50/H50 -> 4 | I90: =J50/I50 -> 1.5 | J90: =K50/J50 -> 1.1666667 | K90: =L50/K50 -> 1.5714286 | L90: =M50/L50 -> 1.0909091 | ... AL90: =AM50/AL50 -> 1.0444444
C91: =_xlfn.NUMBERVALUE(LEFT(D91,4)) -> 2016 | D91: 2016Q3 | E91: =F51/E51 -> #DIV/0! | F91: =G51/F51 -> 1.25 | G91: =H51/G51 -> 2.6 | H91: =I51/H51 -> 1.6153846 | I91: =J51/I51 -> 1.1428571 | J91: =K51/J51 -> 1.1666667 | K91: =L51/K51 -> 1.0714286 | L91: =M51/L51 -> 1.1 | ... AK91: =AL51/AK51 -> 1
C92: =_xlfn.NUMBERVALUE(LEFT(D92,4)) -> 2016 | D92: 2016Q4 | E92: =F52/E52 -> #DIV/0! | F92: =G52/F52 -> 1.25 | G92: =H52/G52 -> 2 | H92: =I52/H52 -> 1.8 | I92: =J52/I52 -> 1.2222222 | J92: =K52/J52 -> 1.0454545 | K92: =L52/K52 -> 1.0869565 | L92: =M52/L52 -> 1.12 | ... AJ92: =AK52/AJ52 -> 1.0156863
C93: =_xlfn.NUMBERVALUE(LEFT(D93,4)) -> 2017 | D93: 2017Q1 | E93: =F53/E53 -> #DIV/0! | F93: =G53/F53 -> 2 | G93: =H53/G53 -> 2.1666667 | H93: =I53/H53 -> 1.2307692 | I93: =J53/I53 -> 1.3125 | J93: =K53/J53 -> 1.1904762 | K93: =L53/K53 -> 1.08 | L93: =M53/L53 -> 1.0740741 | ... AI93: =AJ53/AI53 -> 1.0258065
C94: =_xlfn.NUMBERVALUE(LEFT(D94,4)) -> 2017 | D94: 2017Q2 | E94: =F54/E54 -> 1.5 | F94: =G54/F54 -> 2.6666667 | G94: =H54/G54 -> 2.375 | H94: =I54/H54 -> 1.1052632 | I94: =J54/I54 -> 1.2380952 | J94: =K54/J54 -> 1.1923077 | K94: =L54/K54 -> 1.0322581 | L94: =M54/L54 -> 1.0625 | ... AH94: =AI54/AH54 -> 1.0161812
C95: =_xlfn.NUMBERVALUE(LEFT(D95,4)) -> 2017 | D95: 2017Q3 | E95: =F55/E55 -> #DIV/0! | F95: =G55/F55 -> 2.6666667 | G95: =H55/G55 -> 1.75 | H95: =I55/H55 -> 1.2857143 | I95: =J55/I55 -> 1.0555556 | J95: =K55/J55 -> 1.1052632 | K95: =L55/K55 -> 1.047619 | L95: =M55/L55 -> 1.0909091 | ... AG95: =AH55/AG55 -> 1.0155642
C96: =_xlfn.NUMBERVALUE(LEFT(D96,4)) -> 2017 | D96: 2017Q4 | E96: =F56/E56 -> 5 | F96: =G56/F56 -> 1.2 | G96: =H56/G56 -> 2.6666667 | H96: =I56/H56 -> 1.25 | I96: =J56/I56 -> 1.15 | J96: =K56/J56 -> 1 | K96: =L56/K56 -> 1.173913 | L96: =M56/L56 -> 1.1111111 | ... AF96: =AG56/AF56 -> 1
C97: =_xlfn.NUMBERVALUE(LEFT(D97,4)) -> 2018 | D97: 2018Q1 | E97: =F57/E57 -> #DIV/0! | F97: =G57/F57 -> 2 | G97: =H57/G57 -> 1.75 | H97: =I57/H57 -> 1.2857143 | I97: =J57/I57 -> 1.1666667 | J97: =K57/J57 -> 1.1428571 | K97: =L57/K57 -> 1.0416667 | L97: =M57/L57 -> 1.08 | ... AE97: =AF57/AE57 -> 1.0179211
C98: =_xlfn.NUMBERVALUE(LEFT(D98,4)) -> 2018 | D98: 2018Q2 | E98: =F58/E58 -> #DIV/0! | F98: =G58/F58 -> #DIV/0! | G98: =H58/G58 -> 4.6666667 | H98: =I58/H58 -> 1.1428571 | I98: =J58/I58 -> 1.1875 | J98: =K58/J58 -> 1.3157895 | K98: =L58/K58 -> 1.2 | L98: =M58/L58 -> 1.0333333 | ... AD98: =AE58/AD58 -> 1.0277778
C99: =_xlfn.NUMBERVALUE(LEFT(D99,4)) -> 2018 | D99: 2018Q3 | E99: =F59/E59 -> #DIV/0! | F99: =G59/F59 -> 2.5 | G99: =H59/G59 -> 2.4 | H99: =I59/H59 -> 1.5 | I99: =J59/I59 -> 1.2222222 | J99: =K59/J59 -> 1.1363636 | K99: =L59/K59 -> 1.16 | L99: =M59/L59 -> 1.137931 | ... AC99: =AD59/AC59 -> 1.0147059
C100: =_xlfn.NUMBERVALUE(LEFT(D100,4)) -> 2018 | D100: 2018Q4 | E100: =F60/E60 -> #DIV/0! | F100: =G60/F60 -> 4.5 | G100: =H60/G60 -> 1.6666667 | H100: =I60/H60 -> 1.2666667 | I100: =J60/I60 -> 1.2631579 | J100: =K60/J60 -> 1 | K100: =L60/K60 -> 1.1666667 | L100: =M60/L60 -> 1.1071429 | ... AB100: =AC60/AB60 -> 1.0179211
C101: =_xlfn.NUMBERVALUE(LEFT(D101,4)) -> 2019 | D101: 2019Q1 | E101: =F61/E61 -> #DIV/0! | F101: =G61/F61 -> 1.5 | G101: =H61/G61 -> 2.3333333 | H101: =I61/H61 -> 1.25 | I101: =J61/I61 -> 1.1714286 | J101: =K61/J61 -> 1.0731707 | K101: =L61/K61 -> 1.1136364 | L101: =M61/L61 -> 1.0204082 | ... AA101: =AB61/AA61 -> 1.0090293
C102: =_xlfn.NUMBERVALUE(LEFT(D102,4)) -> 2019 | D102: 2019Q2 | E102: =F62/E62 -> 5.5 | F102: =G62/F62 -> 1.2727273 | G102: =H62/G62 -> 1.8571429 | H102: =I62/H62 -> 1.1153846 | I102: =J62/I62 -> 1.2068966 | J102: =K62/J62 -> 1.2571429 | K102: =L62/K62 -> 1.1363636 | L102: =M62/L62 -> 1.1 | ... Z102: =AA62/Z62 -> 1.0410023
C103: =_xlfn.NUMBERVALUE(LEFT(D103,4)) -> 2019 | D103: 2019Q3 | E103: =F63/E63 -> 4 | F103: =G63/F63 -> 2.75 | G103: =H63/G63 -> 1.9090909 | H103: =I63/H63 -> 1.4285714 | I103: =J63/I63 -> 1.1 | J103: =K63/J63 -> 1.1818182 | K103: =L63/K63 -> 1.1025641 | L103: =M63/L63 -> 1 | ... Y103: =Z63/Y63 -> 1.0812183
C104: =_xlfn.NUMBERVALUE(LEFT(D104,4)) -> 2019 | D104: 2019Q4 | E104: =F64/E64 -> 8 | F104: =G64/F64 -> 2 | G104: =H64/G64 -> 1.6875 | H104: =I64/H64 -> 1.4074074 | I104: =J64/I64 -> 1.1578947 | J104: =K64/J64 -> 1.0681818 | K104: =L64/K64 -> 1.0425532 | L104: =M64/L64 -> 1.1836735 | ... X104: =Y64/X64 -> 1.0397196
...

Sheet Chain Ladder - Amount
C2: TPD Triangles
C4: Chain Ladder Method - Tables Based on Claim Amounts
C6: Table 6. Incremental - Amount of Claims
E7: Development Quarter
C8: Year | D8: Quarter | E8: 0 | F8: =E8+1 -> 1 | G8: =F8+1 -> 2 | H8: =G8+1 -> 3 | I8: =H8+1 -> 4 | J8: =I8+1 -> 5 | K8: =J8+1 -> 6 | L8: =K8+1 -> 7 | M8: =L8+1 -> 8 | ... AN8: =AM8+1 -> 35
B9: Incurred Quarter | C9: =_xlfn.NUMBERVALUE(LEFT(D9,4)) -> 2016 | D9: 2016Q1 | E9: {=SUMPRODUCT(('Claims Data'!$I$10:$I$9996=$D9)*('Claims Data'!$K$10:$K$9996=E$8)*('Claims Data'!$B$10:$B$9996="TPD")*'Claims Data'!$L$10:$L$9996*'Claims Data'!$H$10:$H$9996)} -> 0 | F9: {=SUMPRODUCT(('Claims Data'!$I$10:$I$9996=$D9)*('Claims Data'!$K$10:$K$9996=F$8)*('Claims Data'!$B$10:$B$9996="TPD")*'Claims Data'!$L$10:$L$9996*'Claims Data'!$H$10:$H$9996)} -> 27000 | G9: {=SUMPRODUCT(('Claims Data'!$I$10:$I$9996=$D9)*('Claims Data'!$K$10:$K$9996=G$8)*('Claims Data'!$B$10:$B$9996="TPD")*'Claims Data'!$L$10:$L$9996*'Claims Data'!$H$10:$H$9996)} -> 20000 | H9: {=SUMPRODUCT(('Claims Data'!$I$10:$I$9996=$D9)*('Claims Data'!$K$10:$K$9996=H$8)*('Claims Data'!$B$10:$B$9996="TPD")*'Claims Data'!$L$10:$L$9996*'Claims Data'!$H$10:$H$9996)} -> 145000 | I9: {=SUMPRODUCT(('Claims Data'!$I$10:$I$9996=$D9)*('Claims Data'!$K$10:$K$9996=I$8)*('Claims Data'!$B$10:$B$9996="TPD")*'Claims Data'!$L$10:$L$9996*'Claims Data'!$H$10:$H$9996)} -> 188000 | J9: {=SUMPRODUCT(('Claims Data'!$I$10:$I$9996=$D9)*('Claims Data'!$K$10:$K$9996=J$8)*('Claims Data'!$B$10:$B$9996="TPD")*'Claims Data'!$L$10:$L$9996*'Claims Data'!$H$10:$H$9996)} -> 67000 | K9: {=SUMPRODUCT(('Claims Data'!$I$10:$I$9996=$D9)*('Claims Data'!$K$10:$K$9996=K$8)*('Claims Data'!$B$10:$B$9996="TPD")*'Claims Data'!$L$10:$L$9996*'Claims Data'!$H$10:$H$9996)} -> 94000 | L9: {=SUMPRODUCT(('Claims Data'!$I$10:$I$9996=$D9)*('Claims Data'!$K$10:$K$9996=L$8)*('Claims Data'!$B$10:$B$9996="TPD")*'Claims Data'!$L$10:$L$9996*'Claims Data'!$H$10:$H$9996)} -> 190000 | ... AN9: {=SUMPRODUCT(('Claims Data'!$I$10:$I$9996=$D9)*('Claims Data'!$K$10:$K$9996=AN$8)*('Claims Data'!$B$10:$B$9996="TPD")*'Claims Data'!$L$10:$L$9996*'Claims Data'!$H$10:$H$9996)} -> 0
C10: =_xlfn.NUMBERVALUE(LEFT(D10,4)) -> 2016 | D10: 2016Q2 | E10: {=SUMPRODUCT(('Claims Data'!$I$10:$I$9996=$D10)*('Claims Data'!$K$10:$K$9996=E$8)*('Claims Data'!$B$10:$B$9996="TPD")*'Claims Data'!$L$10:$L$9996*'Claims Data'!$H$10:$H$9996)} -> 0 | F10: {=SUMPRODUCT(('Claims Data'!$I$10:$I$9996=$D10)*('Claims Data'!$K$10:$K$9996=F$8)*('Claims Data'!$B$10:$B$9996="TPD")*'Claims Data'!$L$10:$L$9996*'Claims Data'!$H$10:$H$9996)} -> 0 | G10: {=SUMPRODUCT(('Claims Data'!$I$10:$I$9996=$D10)*('Claims Data'!$K$10:$K$9996=G$8)*('Claims Data'!$B$10:$B$9996="TPD")*'Claims Data'!$L$10:$L$9996*'Claims Data'!$H$10:$H$9996)} -> 32000 | H10: {=SUMPRODUCT(('Claims Data'!$I$10:$I$9996=$D10)*('Claims Data'!$K$10:$K$9996=H$8)*('Claims Data'!$B$10:$B$9996="TPD")*'Claims Data'!$L$10:$L$9996*'Claims Data'!$H$10:$H$9996)} -> 0 | I10: {=SUMPRODUCT(('Claims Data'!$I$10:$I$9996=$D10)*('Claims Data'!$K$10:$K$9996=I$8)*('Claims Data'!$B$10:$B$9996="TPD")*'Claims Data'!$L$10:$L$9996*'Claims Data'!$H$10:$H$9996)} -> 241000 | J10: {=SUMPRODUCT(('Claims Data'!$I$10:$I$9996=$D10)*('Claims Data'!$K$10:$K$9996=J$8)*('Claims Data'!$B$10:$B$9996="TPD")*'Claims Data'!$L$10:$L$9996*'Claims Data'!$H$10:$H$9996)} -> 111000 | K10: {=SUMPRODUCT(('Claims Data'!$I$10:$I$9996=$D10)*('Claims Data'!$K$10:$K$9996=K$8)*('Claims Data'!$B$10:$B$9996="TPD")*'Claims Data'!$L$10:$L$9996*'Claims Data'!$H$10:$H$9996)} -> 27000 | L10: {=SUMPRODUCT(('Claims Data'!$I$10:$I$9996=$D10)*('Claims Data'!$K$10:$K$9996=L$8)*('Claims Data'!$B$10:$B$9996="TPD")*'Claims Data'!$L$10:$L$9996*'Claims Data'!$H$10:$H$9996)} -> 274000 | ... AM10: {=SUMPRODUCT(('Claims Data'!$I$10:$I$9996=$D10)*('Claims Data'!$K$10:$K$9996=AM$8)*('Claims Data'!$B$10:$B$9996="TPD")*'Claims Data'!$L$10:$L$9996*'Claims Data'!$H$10:$H$9996)} -> 144800
C11: =_xlfn.NUMBERVALUE(LEFT(D11,4)) -> 2016 | D11: 2016Q3 | E11: {=SUMPRODUCT(('Claims Data'!$I$10:$I$9996=$D11)*('Claims Data'!$K$10:$K$9996=E$8)*('Claims Data'!$B$10:$B$9996="TPD")*'Claims Data'!$L$10:$L$9996*'Claims Data'!$H$10:$H$9996)} -> 0 | F11: {=SUMPRODUCT(('Claims Data'!$I$10:$I$9996=$D11)*('Claims Data'!$K$10:$K$9996=F$8)*('Claims Data'!$B$10:$B$9996="TPD")*'Claims Data'!$L$10:$L$9996*'Claims Data'!$H$10:$H$9996)} -> 143000 | G11: {=SUMPRODUCT(('Claims Data'!$I$10:$I$9996=$D11)*('Claims Data'!$K$10:$K$9996=G$8)*('Claims Data'!$B$10:$B$9996="TPD")*'Claims Data'!$L$10:$L$9996*'Claims Data'!$H$10:$H$9996)} -> 38000 | H11: {=SUMPRODUCT(('Claims Data'!$I$10:$I$9996=$D11)*('Claims Data'!$K$10:$K$9996=H$8)*('Claims Data'!$B$10:$B$9996="TPD")*'Claims Data'!$L$10:$L$9996*'Claims Data'!$H$10:$H$9996)} -> 378000 | I11: {=SUMPRODUCT(('Claims Data'!$I$10:$I$9996=$D11)*('Claims Data'!$K$10:$K$9996=I$8)*('Claims Data'!$B$10:$B$9996="TPD")*'Claims Data'!$L$10:$L$9996*'Claims Data'!$H$10:$H$9996)} -> 467000 | J11: {=SUMPRODUCT(('Claims Data'!$I$10:$I$9996=$D11)*('Claims Data'!$K$10:$K$9996=J$8)*('Claims Data'!$B$10:$B$9996="TPD")*'Claims Data'!$L$10:$L$9996*'Claims Data'!$H$10:$H$9996)} -> 77000 | K11: {=SUMPRODUCT(('Claims Data'!$I$10:$I$9996=$D11)*('Claims Data'!$K$10:$K$9996=K$8)*('Claims Data'!$B$10:$B$9996="TPD")*'Claims Data'!$L$10:$L$9996*'Claims Data'!$H$10:$H$9996)} -> 223000 | L11: {=SUMPRODUCT(('Claims Data'!$I$10:$I$9996=$D11)*('Claims Data'!$K$10:$K$9996=L$8)*('Claims Data'!$B$10:$B$9996="TPD")*'Claims Data'!$L$10:$L$9996*'Claims Data'!$H$10:$H$9996)} -> 67000 | ... AL11: {=SUMPRODUCT(('Claims Data'!$I$10:$I$9996=$D11)*('Claims Data'!$K$10:$K$9996=AL$8)*('Claims Data'!$B$10:$B$9996="TPD")*'Claims Data'!$L$10:$L$9996*'Claims Data'!$H$10:$H$9996)} -> 0
C12: =_xlfn.NUMBERVALUE(LEFT(D12,4)) -> 2016 | D12: 2016Q4 | E12: {=SUMPRODUCT(('Claims Data'!$I$10:$I$9996=$D12)*('Claims Data'!$K$10:$K$9996=E$8)*('Claims Data'!$B$10:$B$9996="TPD")*'Claims Data'!$L$10:$L$9996*'Claims Data'!$H$10:$H$9996)} -> 0 | F12: {=SUMPRODUCT(('Claims Data'!$I$10:$I$9996=$D12)*('Claims Data'!$K$10:$K$9996=F$8)*('Claims Data'!$B$10:$B$9996="TPD")*'Claims Data'!$L$10:$L$9996*'Claims Data'!$H$10:$H$9996)} -> 195000 | G12: {=SUMPRODUCT(('Claims Data'!$I$10:$I$9996=$D12)*('Claims Data'!$K$10:$K$9996=G$8)*('Claims Data'!$B$10:$B$9996="TPD")*'Claims Data'!$L$10:$L$9996*'Claims Data'!$H$10:$H$9996)} -> 98000 | H12: {=SUMPRODUCT(('Claims Data'!$I$10:$I$9996=$D12)*('Claims Data'!$K$10:$K$9996=H$8)*('Claims Data'!$B$10:$B$9996="TPD")*'Claims Data'!$L$10:$L$9996*'Claims Data'!$H$10:$H$9996)} -> 251000 | I12: {=SUMPRODUCT(('Claims Data'!$I$10:$I$9996=$D12)*('Claims Data'!$K$10:$K$9996=I$8)*('Claims Data'!$B$10:$B$9996="TPD")*'Claims Data'!$L$10:$L$9996*'Claims Data'!$H$10:$H$9996)} -> 378000 | J12: {=SUMPRODUCT(('Claims Data'!$I$10:$I$9996=$D12)*('Claims Data'!$K$10:$K$9996=J$8)*('Claims Data'!$B$10:$B$9996="TPD")*'Claims Data'!$L$10:$L$9996*'Claims Data'!$H$10:$H$9996)} -> 118000 | K12: {=SUMPRODUCT(('Claims Data'!$I$10:$I$9996=$D12)*('Claims Data'!$K$10:$K$9996=K$8)*('Claims Data'!$B$10:$B$9996="TPD")*'Claims Data'!$L$10:$L$9996*'Claims Data'!$H$10:$H$9996)} -> 68000 | L12: {=SUMPRODUCT(('Claims Data'!$I$10:$I$9996=$D12)*('Claims Data'!$K$10:$K$9996=L$8)*('Claims Data'!$B$10:$B$9996="TPD")*'Claims Data'!$L$10:$L$9996*'Claims Data'!$H$10:$H$9996)} -> 112000 | ... AK12: {=SUMPRODUCT(('Claims Data'!$I$10:$I$9996=$D12)*('Claims Data'!$K$10:$K$9996=AK$8)*('Claims Data'!$B$10:$B$9996="TPD")*'Claims Data'!$L$10:$L$9996*'Claims Data'!$H$10:$H$9996)} -> 25600
C13: =_xlfn.NUMBERVALUE(LEFT(D13,4)) -> 2017 | D13: 2017Q1 | E13: {=SUMPRODUCT(('Claims Data'!$I$10:$I$9996=$D13)*('Claims Data'!$K$10:$K$9996=E$8)*('Claims Data'!$B$10:$B$9996="TPD")*'Claims Data'!$L$10:$L$9996*'Claims Data'!$H$10:$H$9996)} -> 0 | F13: {=SUMPRODUCT(('Claims Data'!$I$10:$I$9996=$D13)*('Claims Data'!$K$10:$K$9996=F$8)*('Claims Data'!$B$10:$B$9996="TPD")*'Claims Data'!$L$10:$L$9996*'Claims Data'!$H$10:$H$9996)} -> 72000 | G13: {=SUMPRODUCT(('Claims Data'!$I$10:$I$9996=$D13)*('Claims Data'!$K$10:$K$9996=G$8)*('Claims Data'!$B$10:$B$9996="TPD")*'Claims Data'!$L$10:$L$9996*'Claims Data'!$H$10:$H$9996)} -> 52000 | H13: {=SUMPRODUCT(('Claims Data'!$I$10:$I$9996=$D13)*('Claims Data'!$K$10:$K$9996=H$8)*('Claims Data'!$B$10:$B$9996="TPD")*'Claims Data'!$L$10:$L$9996*'Claims Data'!$H$10:$H$9996)} -> 446000 | I13: {=SUMPRODUCT(('Claims Data'!$I$10:$I$9996=$D13)*('Claims Data'!$K$10:$K$9996=I$8)*('Claims Data'!$B$10:$B$9996="TPD")*'Claims Data'!$L$10:$L$9996*'Claims Data'!$H$10:$H$9996)} -> 129000 | J13: {=SUMPRODUCT(('Claims Data'!$I$10:$I$9996=$D13)*('Claims Data'!$K$10:$K$9996=J$8)*('Claims Data'!$B$10:$B$9996="TPD")*'Claims Data'!$L$10:$L$9996*'Claims Data'!$H$10:$H$9996)} -> 200000 | K13: {=SUMPRODUCT(('Claims Data'!$I$10:$I$9996=$D13)*('Claims Data'!$K$10:$K$9996=K$8)*('Claims Data'!$B$10:$B$9996="TPD")*'Claims Data'!$L$10:$L$9996*'Claims Data'!$H$10:$H$9996)} -> 119000 | L13: {=SUMPRODUCT(('Claims Data'!$I$10:$I$9996=$D13)*('Claims Data'!$K$10:$K$9996=L$8)*('Claims Data'!$B$10:$B$9996="TPD")*'Claims Data'!$L$10:$L$9996*'Claims Data'!$H$10:$H$9996)} -> 85000 | ... AJ13: {=SUMPRODUCT(('Claims Data'!$I$10:$I$9996=$D13)*('Claims Data'!$K$10:$K$9996=AJ$8)*('Claims Data'!$B$10:$B$9996="TPD")*'Claims Data'!$L$10:$L$9996*'Claims Data'!$H$10:$H$9996)} -> 104000
C14: =_xlfn.NUMBERVALUE(LEFT(D14,4)) -> 2017 | D14: 2017Q2 | E14: {=SUMPRODUCT(('Claims Data'!$I$10:$I$9996=$D14)*('Claims Data'!$K$10:$K$9996=E$8)*('Claims Data'!$B$10:$B$9996="TPD")*'Claims Data'!$L$10:$L$9996*'Claims Data'!$H$10:$H$9996)} -> 72000 | F14: {=SUMPRODUCT(('Claims Data'!$I$10:$I$9996=$D14)*('Claims Data'!$K$10:$K$9996=F$8)*('Claims Data'!$B$10:$B$9996="TPD")*'Claims Data'!$L$10:$L$9996*'Claims Data'!$H$10:$H$9996)} -> 25000 | G14: {=SUMPRODUCT(('Claims Data'!$I$10:$I$9996=$D14)*('Claims Data'!$K$10:$K$9996=G$8)*('Claims Data'!$B$10:$B$9996="TPD")*'Claims Data'!$L$10:$L$9996*'Claims Data'!$H$10:$H$9996)} -> 213000 | H14: {=SUMPRODUCT(('Claims Data'!$I$10:$I$9996=$D14)*('Claims Data'!$K$10:$K$9996=H$8)*('Claims Data'!$B$10:$B$9996="TPD")*'Claims Data'!$L$10:$L$9996*'Claims Data'!$H$10:$H$9996)} -> 464000 | I14: {=SUMPRODUCT(('Claims Data'!$I$10:$I$9996=$D14)*('Claims Data'!$K$10:$K$9996=I$8)*('Claims Data'!$B$10:$B$9996="TPD")*'Claims Data'!$L$10:$L$9996*'Claims Data'!$H$10:$H$9996)} -> 60000 | J14: {=SUMPRODUCT(('Claims Data'!$I$10:$I$9996=$D14)*('Claims Data'!$K$10:$K$9996=J$8)*('Claims Data'!$B$10:$B$9996="TPD")*'Claims Data'!$L$10:$L$9996*'Claims Data'!$H$10:$H$9996)} -> 148000 | K14: {=SUMPRODUCT(('Claims Data'!$I$10:$I$9996=$D14)*('Claims Data'!$K$10:$K$9996=K$8)*('Claims Data'!$B$10:$B$9996="TPD")*'Claims Data'!$L$10:$L$9996*'Claims Data'!$H$10:$H$9996)} -> 241000 | L14: {=SUMPRODUCT(('Claims Data'!$I$10:$I$9996=$D14)*('Claims Data'!$K$10:$K$9996=L$8)*('Claims Data'!$B$10:$B$9996="TPD")*'Claims Data'!$L$10:$L$9996*'Claims Data'!$H$10:$H$9996)} -> 20000 | ... AI14: {=SUMPRODUCT(('Claims Data'!$I$10:$I$9996=$D14)*('Claims Data'!$K$10:$K$9996=AI$8)*('Claims Data'!$B$10:$B$9996="TPD")*'Claims Data'!$L$10:$L$9996*'Claims Data'!$H$10:$H$9996)} -> 84000
C15: =_xlfn.NUMBERVALUE(LEFT(D15,4)) -> 2017 | D15: 2017Q3 | E15: {=SUMPRODUCT(('Claims Data'!$I$10:$I$9996=$D15)*('Claims Data'!$K$10:$K$9996=E$8)*('Claims Data'!$B$10:$B$9996="TPD")*'Claims Data'!$L$10:$L$9996*'Claims Data'!$H$10:$H$9996)} -> 0 | F15: {=SUMPRODUCT(('Claims Data'!$I$10:$I$9996=$D15)*('Claims Data'!$K$10:$K$9996=F$8)*('Claims Data'!$B$10:$B$9996="TPD")*'Claims Data'!$L$10:$L$9996*'Claims Data'!$H$10:$H$9996)} -> 135000 | G15: {=SUMPRODUCT(('Claims Data'!$I$10:$I$9996=$D15)*('Claims Data'!$K$10:$K$9996=G$8)*('Claims Data'!$B$10:$B$9996="TPD")*'Claims Data'!$L$10:$L$9996*'Claims Data'!$H$10:$H$9996)} -> 188000 | H15: {=SUMPRODUCT(('Claims Data'!$I$10:$I$9996=$D15)*('Claims Data'!$K$10:$K$9996=H$8)*('Claims Data'!$B$10:$B$9996="TPD")*'Claims Data'!$L$10:$L$9996*'Claims Data'!$H$10:$H$9996)} -> 175000 | I15: {=SUMPRODUCT(('Claims Data'!$I$10:$I$9996=$D15)*('Claims Data'!$K$10:$K$9996=I$8)*('Claims Data'!$B$10:$B$9996="TPD")*'Claims Data'!$L$10:$L$9996*'Claims Data'!$H$10:$H$9996)} -> 320000 | J15: {=SUMPRODUCT(('Claims Data'!$I$10:$I$9996=$D15)*('Claims Data'!$K$10:$K$9996=J$8)*('Claims Data'!$B$10:$B$9996="TPD")*'Claims Data'!$L$10:$L$9996*'Claims Data'!$H$10:$H$9996)} -> 59000 | K15: {=SUMPRODUCT(('Claims Data'!$I$10:$I$9996=$D15)*('Claims Data'!$K$10:$K$9996=K$8)*('Claims Data'!$B$10:$B$9996="TPD")*'Claims Data'!$L$10:$L$9996*'Claims Data'!$H$10:$H$9996)} -> 60000 | L15: {=SUMPRODUCT(('Claims Data'!$I$10:$I$9996=$D15)*('Claims Data'!$K$10:$K$9996=L$8)*('Claims Data'!$B$10:$B$9996="TPD")*'Claims Data'!$L$10:$L$9996*'Claims Data'!$H$10:$H$9996)} -> 40000 | ... AH15: {=SUMPRODUCT(('Claims Data'!$I$10:$I$9996=$D15)*('Claims Data'!$K$10:$K$9996=AH$8)*('Claims Data'!$B$10:$B$9996="TPD")*'Claims Data'!$L$10:$L$9996*'Claims Data'!$H$10:$H$9996)} -> 70400
C16: =_xlfn.NUMBERVALUE(LEFT(D16,4)) -> 2017 | D16: 2017Q4 | E16: {=SUMPRODUCT(('Claims Data'!$I$10:$I$9996=$D16)*('Claims Data'!$K$10:$K$9996=E$8)*('Claims Data'!$B$10:$B$9996="TPD")*'Claims Data'!$L$10:$L$9996*'Claims Data'!$H$10:$H$9996)} -> 10000 | F16: {=SUMPRODUCT(('Claims Data'!$I$10:$I$9996=$D16)*('Claims Data'!$K$10:$K$9996=F$8)*('Claims Data'!$B$10:$B$9996="TPD")*'Claims Data'!$L$10:$L$9996*'Claims Data'!$H$10:$H$9996)} -> 247000 | G16: {=SUMPRODUCT(('Claims Data'!$I$10:$I$9996=$D16)*('Claims Data'!$K$10:$K$9996=G$8)*('Claims Data'!$B$10:$B$9996="TPD")*'Claims Data'!$L$10:$L$9996*'Claims Data'!$H$10:$H$9996)} -> 17000 | H16: {=SUMPRODUCT(('Claims Data'!$I$10:$I$9996=$D16)*('Claims Data'!$K$10:$K$9996=H$8)*('Claims Data'!$B$10:$B$9996="TPD")*'Claims Data'!$L$10:$L$9996*'Claims Data'!$H$10:$H$9996)} -> 542000 | I16: {=SUMPRODUCT(('Claims Data'!$I$10:$I$9996=$D16)*('Claims Data'!$K$10:$K$9996=I$8)*('Claims Data'!$B$10:$B$9996="TPD")*'Claims Data'!$L$10:$L$9996*'Claims Data'!$H$10:$H$9996)} -> 227000 | J16: {=SUMPRODUCT(('Claims Data'!$I$10:$I$9996=$D16)*('Claims Data'!$K$10:$K$9996=J$8)*('Claims Data'!$B$10:$B$9996="TPD")*'Claims Data'!$L$10:$L$9996*'Claims Data'!$H$10:$H$9996)} -> 122000 | K16: {=SUMPRODUCT(('Claims Data'!$I$10:$I$9996=$D16)*('Claims Data'!$K$10:$K$9996=K$8)*('Claims Data'!$B$10:$B$9996="TPD")*'Claims Data'!$L$10:$L$9996*'Claims Data'!$H$10:$H$9996)} -> 0 | L16: {=SUMPRODUCT(('Claims Data'!$I$10:$I$9996=$D16)*('Claims Data'!$K$10:$K$9996=L$8)*('Claims Data'!$B$10:$B$9996="TPD")*'Claims Data'!$L$10:$L$9996*'Claims Data'!$H$10:$H$9996)} -> 184000 | ... AG16: {=SUMPRODUCT(('Claims Data'!$I$10:$I$9996=$D16)*('Claims Data'!$K$10:$K$9996=AG$8)*('Claims Data'!$B$10:$B$9996="TPD")*'Claims Data'!$L$10:$L$9996*'Claims Data'!$H$10:$H$9996)} -> 0
C17: =_xlfn.NUMBERVALUE(LEFT(D17,4)) -> 2018 | D17: 2018Q1 | E17: {=SUMPRODUCT(('Claims Data'!$I$10:$I$9996=$D17)*('Claims Data'!$K$10:$K$9996=E$8)*('Claims Data'!$B$10:$B$9996="TPD")*'Claims Data'!$L$10:$L$9996*'Claims Data'!$H$10:$H$9996)} -> 0 | F17: {=SUMPRODUCT(('Claims Data'!$I$10:$I$9996=$D17)*('Claims Data'!$K$10:$K$9996=F$8)*('Claims Data'!$B$10:$B$9996="TPD")*'Claims Data'!$L$10:$L$9996*'Claims Data'!$H$10:$H$9996)} -> 113000 | G17: {=SUMPRODUCT(('Claims Data'!$I$10:$I$9996=$D17)*('Claims Data'!$K$10:$K$9996=G$8)*('Claims Data'!$B$10:$B$9996="TPD")*'Claims Data'!$L$10:$L$9996*'Claims Data'!$H$10:$H$9996)} -> 304000 | H17: {=SUMPRODUCT(('Claims Data'!$I$10:$I$9996=$D17)*('Claims Data'!$K$10:$K$9996=H$8)*('Claims Data'!$B$10:$B$9996="TPD")*'Claims Data'!$L$10:$L$9996*'Claims Data'!$H$10:$H$9996)} -> 340000 | I17: {=SUMPRODUCT(('Claims Data'!$I$10:$I$9996=$D17)*('Claims Data'!$K$10:$K$9996=I$8)*('Claims Data'!$B$10:$B$9996="TPD")*'Claims Data'!$L$10:$L$9996*'Claims Data'!$H$10:$H$9996)} -> 214000 | J17: {=SUMPRODUCT(('Claims Data'!$I$10:$I$9996=$D17)*('Claims Data'!$K$10:$K$9996=J$8)*('Claims Data'!$B$10:$B$9996="TPD")*'Claims Data'!$L$10:$L$9996*'Claims Data'!$H$10:$H$9996)} -> 154000 | K17: {=SUMPRODUCT(('Claims Data'!$I$10:$I$9996=$D17)*('Claims Data'!$K$10:$K$9996=K$8)*('Claims Data'!$B$10:$B$9996="TPD")*'Claims Data'!$L$10:$L$9996*'Claims Data'!$H$10:$H$9996)} -> 169000 | L17: {=SUMPRODUCT(('Claims Data'!$I$10:$I$9996=$D17)*('Claims Data'!$K$10:$K$9996=L$8)*('Claims Data'!$B$10:$B$9996="TPD")*'Claims Data'!$L$10:$L$9996*'Claims Data'!$H$10:$H$9996)} -> 38000 | ... AF17: {=SUMPRODUCT(('Claims Data'!$I$10:$I$9996=$D17)*('Claims Data'!$K$10:$K$9996=AF$8)*('Claims Data'!$B$10:$B$9996="TPD")*'Claims Data'!$L$10:$L$9996*'Claims Data'!$H$10:$H$9996)} -> 38000
C18: =_xlfn.NUMBERVALUE(LEFT(D18,4)) -> 2018 | D18: 2018Q2 | E18: {=SUMPRODUCT(('Claims Data'!$I$10:$I$9996=$D18)*('Claims Data'!$K$10:$K$9996=E$8)*('Claims Data'!$B$10:$B$9996="TPD")*'Claims Data'!$L$10:$L$9996*'Claims Data'!$H$10:$H$9996)} -> 0 | F18: {=SUMPRODUCT(('Claims Data'!$I$10:$I$9996=$D18)*('Claims Data'!$K$10:$K$9996=F$8)*('Claims Data'!$B$10:$B$9996="TPD")*'Claims Data'!$L$10:$L$9996*'Claims Data'!$H$10:$H$9996)} -> 0 | G18: {=SUMPRODUCT(('Claims Data'!$I$10:$I$9996=$D18)*('Claims Data'!$K$10:$K$9996=G$8)*('Claims Data'!$B$10:$B$9996="TPD")*'Claims Data'!$L$10:$L$9996*'Claims Data'!$H$10:$H$9996)} -> 142000 | H18: {=SUMPRODUCT(('Claims Data'!$I$10:$I$9996=$D18)*('Claims Data'!$K$10:$K$9996=H$8)*('Claims Data'!$B$10:$B$9996="TPD")*'Claims Data'!$L$10:$L$9996*'Claims Data'!$H$10:$H$9996)} -> 415000 | I18: {=SUMPRODUCT(('Claims Data'!$I$10:$I$9996=$D18)*('Claims Data'!$K$10:$K$9996=I$8)*('Claims Data'!$B$10:$B$9996="TPD")*'Claims Data'!$L$10:$L$9996*'Claims Data'!$H$10:$H$9996)} -> 69000 | J18: {=SUMPRODUCT(('Claims Data'!$I$10:$I$9996=$D18)*('Claims Data'!$K$10:$K$9996=J$8)*('Claims Data'!$B$10:$B$9996="TPD")*'Claims Data'!$L$10:$L$9996*'Claims Data'!$H$10:$H$9996)} -> 160000 | K18: {=SUMPRODUCT(('Claims Data'!$I$10:$I$9996=$D18)*('Claims Data'!$K$10:$K$9996=K$8)*('Claims Data'!$B$10:$B$9996="TPD")*'Claims Data'!$L$10:$L$9996*'Claims Data'!$H$10:$H$9996)} -> 439000 | L18: {=SUMPRODUCT(('Claims Data'!$I$10:$I$9996=$D18)*('Claims Data'!$K$10:$K$9996=L$8)*('Claims Data'!$B$10:$B$9996="TPD")*'Claims Data'!$L$10:$L$9996*'Claims Data'!$H$10:$H$9996)} -> 172000 | ... AE18: {=SUMPRODUCT(('Claims Data'!$I$10:$I$9996=$D18)*('Claims Data'!$K$10:$K$9996=AE$8)*('Claims Data'!$B$10:$B$9996="TPD")*'Claims Data'!$L$10:$L$9996*'Claims Data'!$H$10:$H$9996)} -> 122400
C19: =_xlfn.NUMBERVALUE(LEFT(D19,4)) -> 2018 | D19: 2018Q3 | E19: {=SUMPRODUCT(('Claims Data'!$I$10:$I$9996=$D19)*('Claims Data'!$K$10:$K$9996=E$8)*('Claims Data'!$B$10:$B$9996="TPD")*'Claims Data'!$L$10:$L$9996*'Claims Data'!$H$10:$H$9996)} -> 0 | F19: {=SUMPRODUCT(('Claims Data'!$I$10:$I$9996=$D19)*('Claims Data'!$K$10:$K$9996=F$8)*('Claims Data'!$B$10:$B$9996="TPD")*'Claims Data'!$L$10:$L$9996*'Claims Data'!$H$10:$H$9996)} -> 108000 | G19: {=SUMPRODUCT(('Claims Data'!$I$10:$I$9996=$D19)*('Claims Data'!$K$10:$K$9996=G$8)*('Claims Data'!$B$10:$B$9996="TPD")*'Claims Data'!$L$10:$L$9996*'Claims Data'!$H$10:$H$9996)} -> 189000 | H19: {=SUMPRODUCT(('Claims Data'!$I$10:$I$9996=$D19)*('Claims Data'!$K$10:$K$9996=H$8)*('Claims Data'!$B$10:$B$9996="TPD")*'Claims Data'!$L$10:$L$9996*'Claims Data'!$H$10:$H$9996)} -> 255000 | I19: {=SUMPRODUCT(('Claims Data'!$I$10:$I$9996=$D19)*('Claims Data'!$K$10:$K$9996=I$8)*('Claims Data'!$B$10:$B$9996="TPD")*'Claims Data'!$L$10:$L$9996*'Claims Data'!$H$10:$H$9996)} -> 354000 | J19: {=SUMPRODUCT(('Claims Data'!$I$10:$I$9996=$D19)*('Claims Data'!$K$10:$K$9996=J$8)*('Claims Data'!$B$10:$B$9996="TPD")*'Claims Data'!$L$10:$L$9996*'Claims Data'!$H$10:$H$9996)} -> 155000 | K19: {=SUMPRODUCT(('Claims Data'!$I$10:$I$9996=$D19)*('Claims Data'!$K$10:$K$9996=K$8)*('Claims Data'!$B$10:$B$9996="TPD")*'Claims Data'!$L$10:$L$9996*'Claims Data'!$H$10:$H$9996)} -> 145000 | L19: {=SUMPRODUCT(('Claims Data'!$I$10:$I$9996=$D19)*('Claims Data'!$K$10:$K$9996=L$8)*('Claims Data'!$B$10:$B$9996="TPD")*'Claims Data'!$L$10:$L$9996*'Claims Data'!$H$10:$H$9996)} -> 199000 | ... AD19: {=SUMPRODUCT(('Claims Data'!$I$10:$I$9996=$D19)*('Claims Data'!$K$10:$K$9996=AD$8)*('Claims Data'!$B$10:$B$9996="TPD")*'Claims Data'!$L$10:$L$9996*'Claims Data'!$H$10:$H$9996)} -> 47000
C20: =_xlfn.NUMBERVALUE(LEFT(D20,4)) -> 2018 | D20: 2018Q4 | E20: {=SUMPRODUCT(('Claims Data'!$I$10:$I$9996=$D20)*('Claims Data'!$K$10:$K$9996=E$8)*('Claims Data'!$B$10:$B$9996="TPD")*'Claims Data'!$L$10:$L$9996*'Claims Data'!$H$10:$H$9996)} -> 0 | F20: {=SUMPRODUCT(('Claims Data'!$I$10:$I$9996=$D20)*('Claims Data'!$K$10:$K$9996=F$8)*('Claims Data'!$B$10:$B$9996="TPD")*'Claims Data'!$L$10:$L$9996*'Claims Data'!$H$10:$H$9996)} -> 37000 | G20: {=SUMPRODUCT(('Claims Data'!$I$10:$I$9996=$D20)*('Claims Data'!$K$10:$K$9996=G$8)*('Claims Data'!$B$10:$B$9996="TPD")*'Claims Data'!$L$10:$L$9996*'Claims Data'!$H$10:$H$9996)} -> 353000 | H20: {=SUMPRODUCT(('Claims Data'!$I$10:$I$9996=$D20)*('Claims Data'!$K$10:$K$9996=H$8)*('Claims Data'!$B$10:$B$9996="TPD")*'Claims Data'!$L$10:$L$9996*'Claims Data'!$H$10:$H$9996)} -> 318000 | I20: {=SUMPRODUCT(('Claims Data'!$I$10:$I$9996=$D20)*('Claims Data'!$K$10:$K$9996=I$8)*('Claims Data'!$B$10:$B$9996="TPD")*'Claims Data'!$L$10:$L$9996*'Claims Data'!$H$10:$H$9996)} -> 209000 | J20: {=SUMPRODUCT(('Claims Data'!$I$10:$I$9996=$D20)*('Claims Data'!$K$10:$K$9996=J$8)*('Claims Data'!$B$10:$B$9996="TPD")*'Claims Data'!$L$10:$L$9996*'Claims Data'!$H$10:$H$9996)} -> 272000 | K20: {=SUMPRODUCT(('Claims Data'!$I$10:$I$9996=$D20)*('Claims Data'!$K$10:$K$9996=K$8)*('Claims Data'!$B$10:$B$9996="TPD")*'Claims Data'!$L$10:$L$9996*'Claims Data'!$H$10:$H$9996)} -> 0 | L20: {=SUMPRODUCT(('Claims Data'!$I$10:$I$9996=$D20)*('Claims Data'!$K$10:$K$9996=L$8)*('Claims Data'!$B$10:$B$9996="TPD")*'Claims Data'!$L$10:$L$9996*'Claims Data'!$H$10:$H$9996)} -> 198000 | ... AC20: {=SUMPRODUCT(('Claims Data'!$I$10:$I$9996=$D20)*('Claims Data'!$K$10:$K$9996=AC$8)*('Claims Data'!$B$10:$B$9996="TPD")*'Claims Data'!$L$10:$L$9996*'Claims Data'!$H$10:$H$9996)} -> 100000
C21: =_xlfn.NUMBERVALUE(LEFT(D21,4)) -> 2019 | D21: 2019Q1 | E21: {=SUMPRODUCT(('Claims Data'!$I$10:$I$9996=$D21)*('Claims Data'!$K$10:$K$9996=E$8)*('Claims Data'!$B$10:$B$9996="TPD")*'Claims Data'!$L$10:$L$9996*'Claims Data'!$H$10:$H$9996)} -> 0 | F21: {=SUMPRODUCT(('Claims Data'!$I$10:$I$9996=$D21)*('Claims Data'!$K$10:$K$9996=F$8)*('Claims Data'!$B$10:$B$9996="TPD")*'Claims Data'!$L$10:$L$9996*'Claims Data'!$H$10:$H$9996)} -> 277000 | G21: {=SUMPRODUCT(('Claims Data'!$I$10:$I$9996=$D21)*('Claims Data'!$K$10:$K$9996=G$8)*('Claims Data'!$B$10:$B$9996="TPD")*'Claims Data'!$L$10:$L$9996*'Claims Data'!$H$10:$H$9996)} -> 149000 | H21: {=SUMPRODUCT(('Claims Data'!$I$10:$I$9996=$D21)*('Claims Data'!$K$10:$K$9996=H$8)*('Claims Data'!$B$10:$B$9996="TPD")*'Claims Data'!$L$10:$L$9996*'Claims Data'!$H$10:$H$9996)} -> 540000 | I21: {=SUMPRODUCT(('Claims Data'!$I$10:$I$9996=$D21)*('Claims Data'!$K$10:$K$9996=I$8)*('Claims Data'!$B$10:$B$9996="TPD")*'Claims Data'!$L$10:$L$9996*'Claims Data'!$H$10:$H$9996)} -> 448000 | J21: {=SUMPRODUCT(('Claims Data'!$I$10:$I$9996=$D21)*('Claims Data'!$K$10:$K$9996=J$8)*('Claims Data'!$B$10:$B$9996="TPD")*'Claims Data'!$L$10:$L$9996*'Claims Data'!$H$10:$H$9996)} -> 205000 | K21: {=SUMPRODUCT(('Claims Data'!$I$10:$I$9996=$D21)*('Claims Data'!$K$10:$K$9996=K$8)*('Claims Data'!$B$10:$B$9996="TPD")*'Claims Data'!$L$10:$L$9996*'Claims Data'!$H$10:$H$9996)} -> 171000 | L21: {=SUMPRODUCT(('Claims Data'!$I$10:$I$9996=$D21)*('Claims Data'!$K$10:$K$9996=L$8)*('Claims Data'!$B$10:$B$9996="TPD")*'Claims Data'!$L$10:$L$9996*'Claims Data'!$H$10:$H$9996)} -> 298000 | ... AB21: {=SUMPRODUCT(('Claims Data'!$I$10:$I$9996=$D21)*('Claims Data'!$K$10:$K$9996=AB$8)*('Claims Data'!$B$10:$B$9996="TPD")*'Claims Data'!$L$10:$L$9996*'Claims Data'!$H$10:$H$9996)} -> 69600
C22: =_xlfn.NUMBERVALUE(LEFT(D22,4)) -> 2019 | D22: 2019Q2 | E22: {=SUMPRODUCT(('Claims Data'!$I$10:$I$9996=$D22)*('Claims Data'!$K$10:$K$9996=E$8)*('Claims Data'!$B$10:$B$9996="TPD")*'Claims Data'!$L$10:$L$9996*'Claims Data'!$H$10:$H$9996)} -> 44000 | F22: {=SUMPRODUCT(('Claims Data'!$I$10:$I$9996=$D22)*('Claims Data'!$K$10:$K$9996=F$8)*('Claims Data'!$B$10:$B$9996="TPD")*'Claims Data'!$L$10:$L$9996*'Claims Data'!$H$10:$H$9996)} -> 342000 | G22: {=SUMPRODUCT(('Claims Data'!$I$10:$I$9996=$D22)*('Claims Data'!$K$10:$K$9996=G$8)*('Claims Data'!$B$10:$B$9996="TPD")*'Claims Data'!$L$10:$L$9996*'Claims Data'!$H$10:$H$9996)} -> 79000 | H22: {=SUMPRODUCT(('Claims Data'!$I$10:$I$9996=$D22)*('Claims Data'!$K$10:$K$9996=H$8)*('Claims Data'!$B$10:$B$9996="TPD")*'Claims Data'!$L$10:$L$9996*'Claims Data'!$H$10:$H$9996)} -> 559000 | I22: {=SUMPRODUCT(('Claims Data'!$I$10:$I$9996=$D22)*('Claims Data'!$K$10:$K$9996=I$8)*('Claims Data'!$B$10:$B$9996="TPD")*'Claims Data'!$L$10:$L$9996*'Claims Data'!$H$10:$H$9996)} -> 109000 | J22: {=SUMPRODUCT(('Claims Data'!$I$10:$I$9996=$D22)*('Claims Data'!$K$10:$K$9996=J$8)*('Claims Data'!$B$10:$B$9996="TPD")*'Claims Data'!$L$10:$L$9996*'Claims Data'!$H$10:$H$9996)} -> 271000 | K22: {=SUMPRODUCT(('Claims Data'!$I$10:$I$9996=$D22)*('Claims Data'!$K$10:$K$9996=K$8)*('Claims Data'!$B$10:$B$9996="TPD")*'Claims Data'!$L$10:$L$9996*'Claims Data'!$H$10:$H$9996)} -> 352000 | L22: {=SUMPRODUCT(('Claims Data'!$I$10:$I$9996=$D22)*('Claims Data'!$K$10:$K$9996=L$8)*('Claims Data'!$B$10:$B$9996="TPD")*'Claims Data'!$L$10:$L$9996*'Claims Data'!$H$10:$H$9996)} -> 279000 | ... AA22: {=SUMPRODUCT(('Claims Data'!$I$10:$I$9996=$D22)*('Claims Data'!$K$10:$K$9996=AA$8)*('Claims Data'!$B$10:$B$9996="TPD")*'Claims Data'!$L$10:$L$9996*'Claims Data'!$H$10:$H$9996)} -> 255600
C23: =_xlfn.NUMBERVALUE(LEFT(D23,4)) -> 2019 | D23: 2019Q3 | E23: {=SUMPRODUCT(('Claims Data'!$I$10:$I$9996=$D23)*('Claims Data'!$K$10:$K$9996=E$8)*('Claims Data'!$B$10:$B$9996="TPD")*'Claims Data'!$L$10:$L$9996*'Claims Data'!$H$10:$H$9996)} -> 40000 | F23: {=SUMPRODUCT(('Claims Data'!$I$10:$I$9996=$D23)*('Claims Data'!$K$10:$K$9996=F$8)*('Claims Data'!$B$10:$B$9996="TPD")*'Claims Data'!$L$10:$L$9996*'Claims Data'!$H$10:$H$9996)} -> 94000 | G23: {=SUMPRODUCT(('Claims Data'!$I$10:$I$9996=$D23)*('Claims Data'!$K$10:$K$9996=G$8)*('Claims Data'!$B$10:$B$9996="TPD")*'Claims Data'!$L$10:$L$9996*'Claims Data'!$H$10:$H$9996)} -> 350000 | H23: {=SUMPRODUCT(('Claims Data'!$I$10:$I$9996=$D23)*('Claims Data'!$K$10:$K$9996=H$8)*('Claims Data'!$B$10:$B$9996="TPD")*'Claims Data'!$L$10:$L$9996*'Claims Data'!$H$10:$H$9996)} -> 366000 | I23: {=SUMPRODUCT(('Claims Data'!$I$10:$I$9996=$D23)*('Claims Data'!$K$10:$K$9996=I$8)*('Claims Data'!$B$10:$B$9996="TPD")*'Claims Data'!$L$10:$L$9996*'Claims Data'!$H$10:$H$9996)} -> 423000 | J23: {=SUMPRODUCT(('Claims Data'!$I$10:$I$9996=$D23)*('Claims Data'!$K$10:$K$9996=J$8)*('Claims Data'!$B$10:$B$9996="TPD")*'Claims Data'!$L$10:$L$9996*'Claims Data'!$H$10:$H$9996)} -> 224000 | K23: {=SUMPRODUCT(('Claims Data'!$I$10:$I$9996=$D23)*('Claims Data'!$K$10:$K$9996=K$8)*('Claims Data'!$B$10:$B$9996="TPD")*'Claims Data'!$L$10:$L$9996*'Claims Data'!$H$10:$H$9996)} -> 398000 | L23: {=SUMPRODUCT(('Claims Data'!$I$10:$I$9996=$D23)*('Claims Data'!$K$10:$K$9996=L$8)*('Claims Data'!$B$10:$B$9996="TPD")*'Claims Data'!$L$10:$L$9996*'Claims Data'!$H$10:$H$9996)} -> 225000 | ... Z23: {=SUMPRODUCT(('Claims Data'!$I$10:$I$9996=$D23)*('Claims Data'!$K$10:$K$9996=Z$8)*('Claims Data'!$B$10:$B$9996="TPD")*'Claims Data'!$L$10:$L$9996*'Claims Data'!$H$10:$H$9996)} -> 386000
C24: =_xlfn.NUMBERVALUE(LEFT(D24,4)) -> 2019 | D24: 2019Q4 | E24: {=SUMPRODUCT(('Claims Data'!$I$10:$I$9996=$D24)*('Claims Data'!$K$10:$K$9996=E$8)*('Claims Data'!$B$10:$B$9996="TPD")*'Claims Data'!$L$10:$L$9996*'Claims Data'!$H$10:$H$9996)} -> 22000 | F24: {=SUMPRODUCT(('Claims Data'!$I$10:$I$9996=$D24)*('Claims Data'!$K$10:$K$9996=F$8)*('Claims Data'!$B$10:$B$9996="TPD")*'Claims Data'!$L$10:$L$9996*'Claims Data'!$H$10:$H$9996)} -> 407000 | G24: {=SUMPRODUCT(('Claims Data'!$I$10:$I$9996=$D24)*('Claims Data'!$K$10:$K$9996=G$8)*('Claims Data'!$B$10:$B$9996="TPD")*'Claims Data'!$L$10:$L$9996*'Claims Data'!$H$10:$H$9996)} -> 318000 | H24: {=SUMPRODUCT(('Claims Data'!$I$10:$I$9996=$D24)*('Claims Data'!$K$10:$K$9996=H$8)*('Claims Data'!$B$10:$B$9996="TPD")*'Claims Data'!$L$10:$L$9996*'Claims Data'!$H$10:$H$9996)} -> 630000 | I24: {=SUMPRODUCT(('Claims Data'!$I$10:$I$9996=$D24)*('Claims Data'!$K$10:$K$9996=I$8)*('Claims Data'!$B$10:$B$9996="TPD")*'Claims Data'!$L$10:$L$9996*'Claims Data'!$H$10:$H$9996)} -> 386000 | J24: {=SUMPRODUCT(('Claims Data'!$I$10:$I$9996=$D24)*('Claims Data'!$K$10:$K$9996=J$8)*('Claims Data'!$B$10:$B$9996="TPD")*'Claims Data'!$L$10:$L$9996*'Claims Data'!$H$10:$H$9996)} -> 303000 | K24: {=SUMPRODUCT(('Claims Data'!$I$10:$I$9996=$D24)*('Claims Data'!$K$10:$K$9996=K$8)*('Claims Data'!$B$10:$B$9996="TPD")*'Claims Data'!$L$10:$L$9996*'Claims Data'!$H$10:$H$9996)} -> 132000 | L24: {=SUMPRODUCT(('Claims Data'!$I$10:$I$9996=$D24)*('Claims Data'!$K$10:$K$9996=L$8)*('Claims Data'!$B$10:$B$9996="TPD")*'Claims Data'!$L$10:$L$9996*'Claims Data'!$H$10:$H$9996)} -> 49000 | ... Y24: {=SUMPRODUCT(('Claims Data'!$I$10:$I$9996=$D24)*('Claims Data'!$K$10:$K$9996=Y$8)*('Claims Data'!$B$10:$B$9996="TPD")*'Claims Data'!$L$10:$L$9996*'Claims Data'!$H$10:$H$9996)} -> 255000
C25: =_xlfn.NUMBERVALUE(LEFT(D25,4)) -> 2020 | D25: 2020Q1 | E25: {=SUMPRODUCT(('Claims Data'!$I$10:$I$9996=$D25)*('Claims Data'!$K$10:$K$9996=E$8)*('Claims Data'!$B$10:$B$9996="TPD")*'Claims Data'!$L$10:$L$9996*'Claims Data'!$H$10:$H$9996)} -> 235000 | F25: {=SUMPRODUCT(('Claims Data'!$I$10:$I$9996=$D25)*('Claims Data'!$K$10:$K$9996=F$8)*('Claims Data'!$B$10:$B$9996="TPD")*'Claims Data'!$L$10:$L$9996*'Claims Data'!$H$10:$H$9996)} -> 315000 | G25: {=SUMPRODUCT(('Claims Data'!$I$10:$I$9996=$D25)*('Claims Data'!$K$10:$K$9996=G$8)*('Claims Data'!$B$10:$B$9996="TPD")*'Claims Data'!$L$10:$L$9996*'Claims Data'!$H$10:$H$9996)} -> 298000 | H25: {=SUMPRODUCT(('Claims Data'!$I$10:$I$9996=$D25)*('Claims Data'!$K$10:$K$9996=H$8)*('Claims Data'!$B$10:$B$9996="TPD")*'Claims Data'!$L$10:$L$9996*'Claims Data'!$H$10:$H$9996)} -> 340000 | I25: {=SUMPRODUCT(('Claims Data'!$I$10:$I$9996=$D25)*('Claims Data'!$K$10:$K$9996=I$8)*('Claims Data'!$B$10:$B$9996="TPD")*'Claims Data'!$L$10:$L$9996*'Claims Data'!$H$10:$H$9996)} -> 376000 | J25: {=SUMPRODUCT(('Claims Data'!$I$10:$I$9996=$D25)*('Claims Data'!$K$10:$K$9996=J$8)*('Claims Data'!$B$10:$B$9996="TPD")*'Claims Data'!$L$10:$L$9996*'Claims Data'!$H$10:$H$9996)} -> 161000 | K25: {=SUMPRODUCT(('Claims Data'!$I$10:$I$9996=$D25)*('Claims Data'!$K$10:$K$9996=K$8)*('Claims Data'!$B$10:$B$9996="TPD")*'Claims Data'!$L$10:$L$9996*'Claims Data'!$H$10:$H$9996)} -> 320000 | L25: {=SUMPRODUCT(('Claims Data'!$I$10:$I$9996=$D25)*('Claims Data'!$K$10:$K$9996=L$8)*('Claims Data'!$B$10:$B$9996="TPD")*'Claims Data'!$L$10:$L$9996*'Claims Data'!$H$10:$H$9996)} -> 428000 | ... X25: {=SUMPRODUCT(('Claims Data'!$I$10:$I$9996=$D25)*('Claims Data'!$K$10:$K$9996=X$8)*('Claims Data'!$B$10:$B$9996="TPD")*'Claims Data'!$L$10:$L$9996*'Claims Data'!$H$10:$H$9996)} -> 54400
C26: =_xlfn.NUMBERVALUE(LEFT(D26,4)) -> 2020 | D26: 2020Q2 | E26: {=SUMPRODUCT(('Claims Data'!$I$10:$I$9996=$D26)*('Claims Data'!$K$10:$K$9996=E$8)*('Claims Data'!$B$10:$B$9996="TPD")*'Claims Data'!$L$10:$L$9996*'Claims Data'!$H$10:$H$9996)} -> 173000 | F26: {=SUMPRODUCT(('Claims Data'!$I$10:$I$9996=$D26)*('Claims Data'!$K$10:$K$9996=F$8)*('Claims Data'!$B$10:$B$9996="TPD")*'Claims Data'!$L$10:$L$9996*'Claims Data'!$H$10:$H$9996)} -> 62000 | G26: {=SUMPRODUCT(('Claims Data'!$I$10:$I$9996=$D26)*('Claims Data'!$K$10:$K$9996=G$8)*('Claims Data'!$B$10:$B$9996="TPD")*'Claims Data'!$L$10:$L$9996*'Claims Data'!$H$10:$H$9996)} -> 314000 | H26: {=SUMPRODUCT(('Claims Data'!$I$10:$I$9996=$D26)*('Claims Data'!$K$10:$K$9996=H$8)*('Claims Data'!$B$10:$B$9996="TPD")*'Claims Data'!$L$10:$L$9996*'Claims Data'!$H$10:$H$9996)} -> 403000 | I26: {=SUMPRODUCT(('Claims Data'!$I$10:$I$9996=$D26)*('Claims Data'!$K$10:$K$9996=I$8)*('Claims Data'!$B$10:$B$9996="TPD")*'Claims Data'!$L$10:$L$9996*'Claims Data'!$H$10:$H$9996)} -> 549000 | J26: {=SUMPRODUCT(('Claims Data'!$I$10:$I$9996=$D26)*('Claims Data'!$K$10:$K$9996=J$8)*('Claims Data'!$B$10:$B$9996="TPD")*'Claims Data'!$L$10:$L$9996*'Claims Data'!$H$10:$H$9996)} -> 228000 | K26: {=SUMPRODUCT(('Claims Data'!$I$10:$I$9996=$D26)*('Claims Data'!$K$10:$K$9996=K$8)*('Claims Data'!$B$10:$B$9996="TPD")*'Claims Data'!$L$10:$L$9996*'Claims Data'!$H$10:$H$9996)} -> 197000 | L26: {=SUMPRODUCT(('Claims Data'!$I$10:$I$9996=$D26)*('Claims Data'!$K$10:$K$9996=L$8)*('Claims Data'!$B$10:$B$9996="TPD")*'Claims Data'!$L$10:$L$9996*'Claims Data'!$H$10:$H$9996)} -> 10000 | ... W26: {=SUMPRODUCT(('Claims Data'!$I$10:$I$9996=$D26)*('Claims Data'!$K$10:$K$9996=W$8)*('Claims Data'!$B$10:$B$9996="TPD")*'Claims Data'!$L$10:$L$9996*'Claims Data'!$H$10:$H$9996)} -> 0
C27: =_xlfn.NUMBERVALUE(LEFT(D27,4)) -> 2020 | D27: 2020Q3 | E27: {=SUMPRODUCT(('Claims Data'!$I$10:$I$9996=$D27)*('Claims Data'!$K$10:$K$9996=E$8)*('Claims Data'!$B$10:$B$9996="TPD")*'Claims Data'!$L$10:$L$9996*'Claims Data'!$H$10:$H$9996)} -> 240000 | F27: {=SUMPRODUCT(('Claims Data'!$I$10:$I$9996=$D27)*('Claims Data'!$K$10:$K$9996=F$8)*('Claims Data'!$B$10:$B$9996="TPD")*'Claims Data'!$L$10:$L$9996*'Claims Data'!$H$10:$H$9996)} -> 170000 | G27: {=SUMPRODUCT(('Claims Data'!$I$10:$I$9996=$D27)*('Claims Data'!$K$10:$K$9996=G$8)*('Claims Data'!$B$10:$B$9996="TPD")*'Claims Data'!$L$10:$L$9996*'Claims Data'!$H$10:$H$9996)} -> 745000 | H27: {=SUMPRODUCT(('Claims Data'!$I$10:$I$9996=$D27)*('Claims Data'!$K$10:$K$9996=H$8)*('Claims Data'!$B$10:$B$9996="TPD")*'Claims Data'!$L$10:$L$9996*'Claims Data'!$H$10:$H$9996)} -> 417000 | I27: {=SUMPRODUCT(('Claims Data'!$I$10:$I$9996=$D27)*('Claims Data'!$K$10:$K$9996=I$8)*('Claims Data'!$B$10:$B$9996="TPD")*'Claims Data'!$L$10:$L$9996*'Claims Data'!$H$10:$H$9996)} -> 393000 | J27: {=SUMPRODUCT(('Claims Data'!$I$10:$I$9996=$D27)*('Claims Data'!$K$10:$K$9996=J$8)*('Claims Data'!$B$10:$B$9996="TPD")*'Claims Data'!$L$10:$L$9996*'Claims Data'!$H$10:$H$9996)} -> 180000 | K27: {=SUMPRODUCT(('Claims Data'!$I$10:$I$9996=$D27)*('Claims Data'!$K$10:$K$9996=K$8)*('Claims Data'!$B$10:$B$9996="TPD")*'Claims Data'!$L$10:$L$9996*'Claims Data'!$H$10:$H$9996)} -> 200000 | L27: {=SUMPRODUCT(('Claims Data'!$I$10:$I$9996=$D27)*('Claims Data'!$K$10:$K$9996=L$8)*('Claims Data'!$B$10:$B$9996="TPD")*'Claims Data'!$L$10:$L$9996*'Claims Data'!$H$10:$H$9996)} -> 137000 | ... V27: {=SUMPRODUCT(('Claims Data'!$I$10:$I$9996=$D27)*('Claims Data'!$K$10:$K$9996=V$8)*('Claims Data'!$B$10:$B$9996="TPD")*'Claims Data'!$L$10:$L$9996*'Claims Data'!$H$10:$H$9996)} -> 213000
C28: =_xlfn.NUMBERVALUE(LEFT(D28,4)) -> 2020 | D28: 2020Q4 | E28: {=SUMPRODUCT(('Claims Data'!$I$10:$I$9996=$D28)*('Claims Data'!$K$10:$K$9996=E$8)*('Claims Data'!$B$10:$B$9996="TPD")*'Claims Data'!$L$10:$L$9996*'Claims Data'!$H$10:$H$9996)} -> 59000 | F28: {=SUMPRODUCT(('Claims Data'!$I$10:$I$9996=$D28)*('Claims Data'!$K$10:$K$9996=F$8)*('Claims Data'!$B$10:$B$9996="TPD")*'Claims Data'!$L$10:$L$9996*'Claims Data'!$H$10:$H$9996)} -> 168000 | G28: {=SUMPRODUCT(('Claims Data'!$I$10:$I$9996=$D28)*('Claims Data'!$K$10:$K$9996=G$8)*('Claims Data'!$B$10:$B$9996="TPD")*'Claims Data'!$L$10:$L$9996*'Claims Data'!$H$10:$H$9996)} -> 482000 | H28: {=SUMPRODUCT(('Claims Data'!$I$10:$I$9996=$D28)*('Claims Data'!$K$10:$K$9996=H$8)*('Claims Data'!$B$10:$B$9996="TPD")*'Claims Data'!$L$10:$L$9996*'Claims Data'!$H$10:$H$9996)} -> 720000 | I28: {=SUMPRODUCT(('Claims Data'!$I$10:$I$9996=$D28)*('Claims Data'!$K$10:$K$9996=I$8)*('Claims Data'!$B$10:$B$9996="TPD")*'Claims Data'!$L$10:$L$9996*'Claims Data'!$H$10:$H$9996)} -> 471000 | J28: {=SUMPRODUCT(('Claims Data'!$I$10:$I$9996=$D28)*('Claims Data'!$K$10:$K$9996=J$8)*('Claims Data'!$B$10:$B$9996="TPD")*'Claims Data'!$L$10:$L$9996*'Claims Data'!$H$10:$H$9996)} -> 126000 | K28: {=SUMPRODUCT(('Claims Data'!$I$10:$I$9996=$D28)*('Claims Data'!$K$10:$K$9996=K$8)*('Claims Data'!$B$10:$B$9996="TPD")*'Claims Data'!$L$10:$L$9996*'Claims Data'!$H$10:$H$9996)} -> 206000 | L28: {=SUMPRODUCT(('Claims Data'!$I$10:$I$9996=$D28)*('Claims Data'!$K$10:$K$9996=L$8)*('Claims Data'!$B$10:$B$9996="TPD")*'Claims Data'!$L$10:$L$9996*'Claims Data'!$H$10:$H$9996)} -> 229000 | ... U28: {=SUMPRODUCT(('Claims Data'!$I$10:$I$9996=$D28)*('Claims Data'!$K$10:$K$9996=U$8)*('Claims Data'!$B$10:$B$9996="TPD")*'Claims Data'!$L$10:$L$9996*'Claims Data'!$H$10:$H$9996)} -> 138400
C29: =_xlfn.NUMBERVALUE(LEFT(D29,4)) -> 2021 | D29: 2021Q1 | E29: {=SUMPRODUCT(('Claims Data'!$I$10:$I$9996=$D29)*('Claims Data'!$K$10:$K$9996=E$8)*('Claims Data'!$B$10:$B$9996="TPD")*'Claims Data'!$L$10:$L$9996*'Claims Data'!$H$10:$H$9996)} -> 0 | F29: {=SUMPRODUCT(('Claims Data'!$I$10:$I$9996=$D29)*('Claims Data'!$K$10:$K$9996=F$8)*('Claims Data'!$B$10:$B$9996="TPD")*'Claims Data'!$L$10:$L$9996*'Claims Data'!$H$10:$H$9996)} -> 81000 | G29: {=SUMPRODUCT(('Claims Data'!$I$10:$I$9996=$D29)*('Claims Data'!$K$10:$K$9996=G$8)*('Claims Data'!$B$10:$B$9996="TPD")*'Claims Data'!$L$10:$L$9996*'Claims Data'!$H$10:$H$9996)} -> 508000 | H29: {=SUMPRODUCT(('Claims Data'!$I$10:$I$9996=$D29)*('Claims Data'!$K$10:$K$9996=H$8)*('Claims Data'!$B$10:$B$9996="TPD")*'Claims Data'!$L$10:$L$9996*'Claims Data'!$H$10:$H$9996)} -> 718000 | I29: {=SUMPRODUCT(('Claims Data'!$I$10:$I$9996=$D29)*('Claims Data'!$K$10:$K$9996=I$8)*('Claims Data'!$B$10:$B$9996="TPD")*'Claims Data'!$L$10:$L$9996*'Claims Data'!$H$10:$H$9996)} -> 333000 | J29: {=SUMPRODUCT(('Claims Data'!$I$10:$I$9996=$D29)*('Claims Data'!$K$10:$K$9996=J$8)*('Claims Data'!$B$10:$B$9996="TPD")*'Claims Data'!$L$10:$L$9996*'Claims Data'!$H$10:$H$9996)} -> 350000 | K29: {=SUMPRODUCT(('Claims Data'!$I$10:$I$9996=$D29)*('Claims Data'!$K$10:$K$9996=K$8)*('Claims Data'!$B$10:$B$9996="TPD")*'Claims Data'!$L$10:$L$9996*'Claims Data'!$H$10:$H$9996)} -> 0 | L29: {=SUMPRODUCT(('Claims Data'!$I$10:$I$9996=$D29)*('Claims Data'!$K$10:$K$9996=L$8)*('Claims Data'!$B$10:$B$9996="TPD")*'Claims Data'!$L$10:$L$9996*'Claims Data'!$H$10:$H$9996)} -> 112000 | ... T29: {=SUMPRODUCT(('Claims Data'!$I$10:$I$9996=$D29)*('Claims Data'!$K$10:$K$9996=T$8)*('Claims Data'!$B$10:$B$9996="TPD")*'Claims Data'!$L$10:$L$9996*'Claims Data'!$H$10:$H$9996)} -> 179200
C30: =_xlfn.NUMBERVALUE(LEFT(D30,4)) -> 2021 | D30: 2021Q2 | E30: {=SUMPRODUCT(('Claims Data'!$I$10:$I$9996=$D30)*('Claims Data'!$K$10:$K$9996=E$8)*('Claims Data'!$B$10:$B$9996="TPD")*'Claims Data'!$L$10:$L$9996*'Claims Data'!$H$10:$H$9996)} -> 0 | F30: {=SUMPRODUCT(('Claims Data'!$I$10:$I$9996=$D30)*('Claims Data'!$K$10:$K$9996=F$8)*('Claims Data'!$B$10:$B$9996="TPD")*'Claims Data'!$L$10:$L$9996*'Claims Data'!$H$10:$H$9996)} -> 52000 | G30: {=SUMPRODUCT(('Claims Data'!$I$10:$I$9996=$D30)*('Claims Data'!$K$10:$K$9996=G$8)*('Claims Data'!$B$10:$B$9996="TPD")*'Claims Data'!$L$10:$L$9996*'Claims Data'!$H$10:$H$9996)} -> 488000 | H30: {=SUMPRODUCT(('Claims Data'!$I$10:$I$9996=$D30)*('Claims Data'!$K$10:$K$9996=H$8)*('Claims Data'!$B$10:$B$9996="TPD")*'Claims Data'!$L$10:$L$9996*'Claims Data'!$H$10:$H$9996)} -> 82000 | I30: {=SUMPRODUCT(('Claims Data'!$I$10:$I$9996=$D30)*('Claims Data'!$K$10:$K$9996=I$8)*('Claims Data'!$B$10:$B$9996="TPD")*'Claims Data'!$L$10:$L$9996*'Claims Data'!$H$10:$H$9996)} -> 94000 | J30: {=SUMPRODUCT(('Claims Data'!$I$10:$I$9996=$D30)*('Claims Data'!$K$10:$K$9996=J$8)*('Claims Data'!$B$10:$B$9996="TPD")*'Claims Data'!$L$10:$L$9996*'Claims Data'!$H$10:$H$9996)} -> 452000 | K30: {=SUMPRODUCT(('Claims Data'!$I$10:$I$9996=$D30)*('Claims Data'!$K$10:$K$9996=K$8)*('Claims Data'!$B$10:$B$9996="TPD")*'Claims Data'!$L$10:$L$9996*'Claims Data'!$H$10:$H$9996)} -> 190000 | L30: {=SUMPRODUCT(('Claims Data'!$I$10:$I$9996=$D30)*('Claims Data'!$K$10:$K$9996=L$8)*('Claims Data'!$B$10:$B$9996="TPD")*'Claims Data'!$L$10:$L$9996*'Claims Data'!$H$10:$H$9996)} -> 228000 | ... S30: {=SUMPRODUCT(('Claims Data'!$I$10:$I$9996=$D30)*('Claims Data'!$K$10:$K$9996=S$8)*('Claims Data'!$B$10:$B$9996="TPD")*'Claims Data'!$L$10:$L$9996*'Claims Data'!$H$10:$H$9996)} -> 577600
C31: =_xlfn.NUMBERVALUE(LEFT(D31,4)) -> 2021 | D31: 2021Q3 | E31: {=SUMPRODUCT(('Claims Data'!$I$10:$I$9996=$D31)*('Claims Data'!$K$10:$K$9996=E$8)*('Claims Data'!$B$10:$B$9996="TPD")*'Claims Data'!$L$10:$L$9996*'Claims Data'!$H$10:$H$9996)} -> 122000 | F31: {=SUMPRODUCT(('Claims Data'!$I$10:$I$9996=$D31)*('Claims Data'!$K$10:$K$9996=F$8)*('Claims Data'!$B$10:$B$9996="TPD")*'Claims Data'!$L$10:$L$9996*'Claims Data'!$H$10:$H$9996)} -> 225000 | G31: {=SUMPRODUCT(('Claims Data'!$I$10:$I$9996=$D31)*('Claims Data'!$K$10:$K$9996=G$8)*('Claims Data'!$B$10:$B$9996="TPD")*'Claims Data'!$L$10:$L$9996*'Claims Data'!$H$10:$H$9996)} -> 173000 | H31: {=SUMPRODUCT(('Claims Data'!$I$10:$I$9996=$D31)*('Claims Data'!$K$10:$K$9996=H$8)*('Claims Data'!$B$10:$B$9996="TPD")*'Claims Data'!$L$10:$L$9996*'Claims Data'!$H$10:$H$9996)} -> 230000 | I31: {=SUMPRODUCT(('Claims Data'!$I$10:$I$9996=$D31)*('Claims Data'!$K$10:$K$9996=I$8)*('Claims Data'!$B$10:$B$9996="TPD")*'Claims Data'!$L$10:$L$9996*'Claims Data'!$H$10:$H$9996)} -> 699000 | J31: {=SUMPRODUCT(('Claims Data'!$I$10:$I$9996=$D31)*('Claims Data'!$K$10:$K$9996=J$8)*('Claims Data'!$B$10:$B$9996="TPD")*'Claims Data'!$L$10:$L$9996*'Claims Data'!$H$10:$H$9996)} -> 504000 | K31: {=SUMPRODUCT(('Claims Data'!$I$10:$I$9996=$D31)*('Claims Data'!$K$10:$K$9996=K$8)*('Claims Data'!$B$10:$B$9996="TPD")*'Claims Data'!$L$10:$L$9996*'Claims Data'!$H$10:$H$9996)} -> 504000 | L31: {=SUMPRODUCT(('Claims Data'!$I$10:$I$9996=$D31)*('Claims Data'!$K$10:$K$9996=L$8)*('Claims Data'!$B$10:$B$9996="TPD")*'Claims Data'!$L$10:$L$9996*'Claims Data'!$H$10:$H$9996)} -> 88000 | ... R31: {=SUMPRODUCT(('Claims Data'!$I$10:$I$9996=$D31)*('Claims Data'!$K$10:$K$9996=R$8)*('Claims Data'!$B$10:$B$9996="TPD")*'Claims Data'!$L$10:$L$9996*'Claims Data'!$H$10:$H$9996)} -> 246200
C32: =_xlfn.NUMBERVALUE(LEFT(D32,4)) -> 2021 | D32: 2021Q4 | E32: {=SUMPRODUCT(('Claims Data'!$I$10:$I$9996=$D32)*('Claims Data'!$K$10:$K$9996=E$8)*('Claims Data'!$B$10:$B$9996="TPD")*'Claims Data'!$L$10:$L$9996*'Claims Data'!$H$10:$H$9996)} -> 0 | F32: {=SUMPRODUCT(('Claims Data'!$I$10:$I$9996=$D32)*('Claims Data'!$K$10:$K$9996=F$8)*('Claims Data'!$B$10:$B$9996="TPD")*'Claims Data'!$L$10:$L$9996*'Claims Data'!$H$10:$H$9996)} -> 86000 | G32: {=SUMPRODUCT(('Claims Data'!$I$10:$I$9996=$D32)*('Claims Data'!$K$10:$K$9996=G$8)*('Claims Data'!$B$10:$B$9996="TPD")*'Claims Data'!$L$10:$L$9996*'Claims Data'!$H$10:$H$9996)} -> 366000 | H32: {=SUMPRODUCT(('Claims Data'!$I$10:$I$9996=$D32)*('Claims Data'!$K$10:$K$9996=H$8)*('Claims Data'!$B$10:$B$9996="TPD")*'Claims Data'!$L$10:$L$9996*'Claims Data'!$H$10:$H$9996)} -> 651000 | I32: {=SUMPRODUCT(('Claims Data'!$I$10:$I$9996=$D32)*('Claims Data'!$K$10:$K$9996=I$8)*('Claims Data'!$B$10:$B$9996="TPD")*'Claims Data'!$L$10:$L$9996*'Claims Data'!$H$10:$H$9996)} -> 232000 | J32: {=SUMPRODUCT(('Claims Data'!$I$10:$I$9996=$D32)*('Claims Data'!$K$10:$K$9996=J$8)*('Claims Data'!$B$10:$B$9996="TPD")*'Claims Data'!$L$10:$L$9996*'Claims Data'!$H$10:$H$9996)} -> 620000 | K32: {=SUMPRODUCT(('Claims Data'!$I$10:$I$9996=$D32)*('Claims Data'!$K$10:$K$9996=K$8)*('Claims Data'!$B$10:$B$9996="TPD")*'Claims Data'!$L$10:$L$9996*'Claims Data'!$H$10:$H$9996)} -> 246000 | L32: {=SUMPRODUCT(('Claims Data'!$I$10:$I$9996=$D32)*('Claims Data'!$K$10:$K$9996=L$8)*('Claims Data'!$B$10:$B$9996="TPD")*'Claims Data'!$L$10:$L$9996*'Claims Data'!$H$10:$H$9996)} -> 218000 | ... Q32: {=SUMPRODUCT(('Claims Data'!$I$10:$I$9996=$D32)*('Claims Data'!$K$10:$K$9996=Q$8)*('Claims Data'!$B$10:$B$9996="TPD")*'Claims Data'!$L$10:$L$9996*'Claims Data'!$H$10:$H$9996)} -> 250400
C33: =_xlfn.NUMBERVALUE(LEFT(D33,4)) -> 2022 | D33: 2022Q1 | E33: {=SUMPRODUCT(('Claims Data'!$I$10:$I$9996=$D33)*('Claims Data'!$K$10:$K$9996=E$8)*('Claims Data'!$B$10:$B$9996="TPD")*'Claims Data'!$L$10:$L$9996*'Claims Data'!$H$10:$H$9996)} -> 20000 | F33: {=SUMPRODUCT(('Claims Data'!$I$10:$I$9996=$D33)*('Claims Data'!$K$10:$K$9996=F$8)*('Claims Data'!$B$10:$B$9996="TPD")*'Claims Data'!$L$10:$L$9996*'Claims Data'!$H$10:$H$9996)} -> 0 | G33: {=SUMPRODUCT(('Claims Data'!$I$10:$I$9996=$D33)*('Claims Data'!$K$10:$K$9996=G$8)*('Claims Data'!$B$10:$B$9996="TPD")*'Claims Data'!$L$10:$L$9996*'Claims Data'!$H$10:$H$9996)} -> 159000 | H33: {=SUMPRODUCT(('Claims Data'!$I$10:$I$9996=$D33)*('Claims Data'!$K$10:$K$9996=H$8)*('Claims Data'!$B$10:$B$9996="TPD")*'Claims Data'!$L$10:$L$9996*'Claims Data'!$H$10:$H$9996)} -> 330000 | I33: {=SUMPRODUCT(('Claims Data'!$I$10:$I$9996=$D33)*('Claims Data'!$K$10:$K$9996=I$8)*('Claims Data'!$B$10:$B$9996="TPD")*'Claims Data'!$L$10:$L$9996*'Claims Data'!$H$10:$H$9996)} -> 516000 | J33: {=SUMPRODUCT(('Claims Data'!$I$10:$I$9996=$D33)*('Claims Data'!$K$10:$K$9996=J$8)*('Claims Data'!$B$10:$B$9996="TPD")*'Claims Data'!$L$10:$L$9996*'Claims Data'!$H$10:$H$9996)} -> 236000 | K33: {=SUMPRODUCT(('Claims Data'!$I$10:$I$9996=$D33)*('Claims Data'!$K$10:$K$9996=K$8)*('Claims Data'!$B$10:$B$9996="TPD")*'Claims Data'!$L$10:$L$9996*'Claims Data'!$H$10:$H$9996)} -> 157000 | L33: {=SUMPRODUCT(('Claims Data'!$I$10:$I$9996=$D33)*('Claims Data'!$K$10:$K$9996=L$8)*('Claims Data'!$B$10:$B$9996="TPD")*'Claims Data'!$L$10:$L$9996*'Claims Data'!$H$10:$H$9996)} -> 146800 | ... P33: {=SUMPRODUCT(('Claims Data'!$I$10:$I$9996=$D33)*('Claims Data'!$K$10:$K$9996=P$8)*('Claims Data'!$B$10:$B$9996="TPD")*'Claims Data'!$L$10:$L$9996*'Claims Data'!$H$10:$H$9996)} -> 77600
C34: =_xlfn.NUMBERVALUE(LEFT(D34,4)) -> 2022 | D34: 2022Q2 | E34: {=SUMPRODUCT(('Claims Data'!$I$10:$I$9996=$D34)*('Claims Data'!$K$10:$K$9996=E$8)*('Claims Data'!$B$10:$B$9996="TPD")*'Claims Data'!$L$10:$L$9996*'Claims Data'!$H$10:$H$9996)} -> 0 | F34: {=SUMPRODUCT(('Claims Data'!$I$10:$I$9996=$D34)*('Claims Data'!$K$10:$K$9996=F$8)*('Claims Data'!$B$10:$B$9996="TPD")*'Claims Data'!$L$10:$L$9996*'Claims Data'!$H$10:$H$9996)} -> 226000 | G34: {=SUMPRODUCT(('Claims Data'!$I$10:$I$9996=$D34)*('Claims Data'!$K$10:$K$9996=G$8)*('Claims Data'!$B$10:$B$9996="TPD")*'Claims Data'!$L$10:$L$9996*'Claims Data'!$H$10:$H$9996)} -> 298000 | H34: {=SUMPRODUCT(('Claims Data'!$I$10:$I$9996=$D34)*('Claims Data'!$K$10:$K$9996=H$8)*('Claims Data'!$B$10:$B$9996="TPD")*'Claims Data'!$L$10:$L$9996*'Claims Data'!$H$10:$H$9996)} -> 479000 | I34: {=SUMPRODUCT(('Claims Data'!$I$10:$I$9996=$D34)*('Claims Data'!$K$10:$K$9996=I$8)*('Claims Data'!$B$10:$B$9996="TPD")*'Claims Data'!$L$10:$L$9996*'Claims Data'!$H$10:$H$9996)} -> 256000 | J34: {=SUMPRODUCT(('Claims Data'!$I$10:$I$9996=$D34)*('Claims Data'!$K$10:$K$9996=J$8)*('Claims Data'!$B$10:$B$9996="TPD")*'Claims Data'!$L$10:$L$9996*'Claims Data'!$H$10:$H$9996)} -> 287000 | K34: {=SUMPRODUCT(('Claims Data'!$I$10:$I$9996=$D34)*('Claims Data'!$K$10:$K$9996=K$8)*('Claims Data'!$B$10:$B$9996="TPD")*'Claims Data'!$L$10:$L$9996*'Claims Data'!$H$10:$H$9996)} -> 212600 | L34: {=SUMPRODUCT(('Claims Data'!$I$10:$I$9996=$D34)*('Claims Data'!$K$10:$K$9996=L$8)*('Claims Data'!$B$10:$B$9996="TPD")*'Claims Data'!$L$10:$L$9996*'Claims Data'!$H$10:$H$9996)} -> 941800 | ... O34: {=SUMPRODUCT(('Claims Data'!$I$10:$I$9996=$D34)*('Claims Data'!$K$10:$K$9996=O$8)*('Claims Data'!$B$10:$B$9996="TPD")*'Claims Data'!$L$10:$L$9996*'Claims Data'!$H$10:$H$9996)} -> 334400
C35: =_xlfn.NUMBERVALUE(LEFT(D35,4)) -> 2022 | D35: 2022Q3 | E35: {=SUMPRODUCT(('Claims Data'!$I$10:$I$9996=$D35)*('Claims Data'!$K$10:$K$9996=E$8)*('Claims Data'!$B$10:$B$9996="TPD")*'Claims Data'!$L$10:$L$9996*'Claims Data'!$H$10:$H$9996)} -> 0 | F35: {=SUMPRODUCT(('Claims Data'!$I$10:$I$9996=$D35)*('Claims Data'!$K$10:$K$9996=F$8)*('Claims Data'!$B$10:$B$9996="TPD")*'Claims Data'!$L$10:$L$9996*'Claims Data'!$H$10:$H$9996)} -> 10000 | G35: {=SUMPRODUCT(('Claims Data'!$I$10:$I$9996=$D35)*('Claims Data'!$K$10:$K$9996=G$8)*('Claims Data'!$B$10:$B$9996="TPD")*'Claims Data'!$L$10:$L$9996*'Claims Data'!$H$10:$H$9996)} -> 510200 | H35: {=SUMPRODUCT(('Claims Data'!$I$10:$I$9996=$D35)*('Claims Data'!$K$10:$K$9996=H$8)*('Claims Data'!$B$10:$B$9996="TPD")*'Claims Data'!$L$10:$L$9996*'Claims Data'!$H$10:$H$9996)} -> 330000 | I35: {=SUMPRODUCT(('Claims Data'!$I$10:$I$9996=$D35)*('Claims Data'!$K$10:$K$9996=I$8)*('Claims Data'!$B$10:$B$9996="TPD")*'Claims Data'!$L$10:$L$9996*'Claims Data'!$H$10:$H$9996)} -> 217000 | J35: {=SUMPRODUCT(('Claims Data'!$I$10:$I$9996=$D35)*('Claims Data'!$K$10:$K$9996=J$8)*('Claims Data'!$B$10:$B$9996="TPD")*'Claims Data'!$L$10:$L$9996*'Claims Data'!$H$10:$H$9996)} -> 258000 | K35: {=SUMPRODUCT(('Claims Data'!$I$10:$I$9996=$D35)*('Claims Data'!$K$10:$K$9996=K$8)*('Claims Data'!$B$10:$B$9996="TPD")*'Claims Data'!$L$10:$L$9996*'Claims Data'!$H$10:$H$9996)} -> 441800 | L35: {=SUMPRODUCT(('Claims Data'!$I$10:$I$9996=$D35)*('Claims Data'!$K$10:$K$9996=L$8)*('Claims Data'!$B$10:$B$9996="TPD")*'Claims Data'!$L$10:$L$9996*'Claims Data'!$H$10:$H$9996)} -> 216000 | ... N35: {=SUMPRODUCT(('Claims Data'!$I$10:$I$9996=$D35)*('Claims Data'!$K$10:$K$9996=N$8)*('Claims Data'!$B$10:$B$9996="TPD")*'Claims Data'!$L$10:$L$9996*'Claims Data'!$H$10:$H$9996)} -> 550200
C36: =_xlfn.NUMBERVALUE(LEFT(D36,4)) -> 2022 | D36: 2022Q4 | E36: {=SUMPRODUCT(('Claims Data'!$I$10:$I$9996=$D36)*('Claims Data'!$K$10:$K$9996=E$8)*('Claims Data'!$B$10:$B$9996="TPD")*'Claims Data'!$L$10:$L$9996*'Claims Data'!$H$10:$H$9996)} -> 122000 | F36: {=SUMPRODUCT(('Claims Data'!$I$10:$I$9996=$D36)*('Claims Data'!$K$10:$K$9996=F$8)*('Claims Data'!$B$10:$B$9996="TPD")*'Claims Data'!$L$10:$L$9996*'Claims Data'!$H$10:$H$9996)} -> 241000 | G36: {=SUMPRODUCT(('Claims Data'!$I$10:$I$9996=$D36)*('Claims Data'!$K$10:$K$9996=G$8)*('Claims Data'!$B$10:$B$9996="TPD")*'Claims Data'!$L$10:$L$9996*'Claims Data'!$H$10:$H$9996)} -> 99000 | H36: {=SUMPRODUCT(('Claims Data'!$I$10:$I$9996=$D36)*('Claims Data'!$K$10:$K$9996=H$8)*('Claims Data'!$B$10:$B$9996="TPD")*'Claims Data'!$L$10:$L$9996*'Claims Data'!$H$10:$H$9996)} -> 533800 | I36: {=SUMPRODUCT(('Claims Data'!$I$10:$I$9996=$D36)*('Claims Data'!$K$10:$K$9996=I$8)*('Claims Data'!$B$10:$B$9996="TPD")*'Claims Data'!$L$10:$L$9996*'Claims Data'!$H$10:$H$9996)} -> 454200 | J36: {=SUMPRODUCT(('Claims Data'!$I$10:$I$9996=$D36)*('Claims Data'!$K$10:$K$9996=J$8)*('Claims Data'!$B$10:$B$9996="TPD")*'Claims Data'!$L$10:$L$9996*'Claims Data'!$H$10:$H$9996)} -> 220000 | K36: {=SUMPRODUCT(('Claims Data'!$I$10:$I$9996=$D36)*('Claims Data'!$K$10:$K$9996=K$8)*('Claims Data'!$B$10:$B$9996="TPD")*'Claims Data'!$L$10:$L$9996*'Claims Data'!$H$10:$H$9996)} -> 294000 | L36: {=SUMPRODUCT(('Claims Data'!$I$10:$I$9996=$D36)*('Claims Data'!$K$10:$K$9996=L$8)*('Claims Data'!$B$10:$B$9996="TPD")*'Claims Data'!$L$10:$L$9996*'Claims Data'!$H$10:$H$9996)} -> 646800 | M36: {=SUMPRODUCT(('Claims Data'!$I$10:$I$9996=$D36)*('Claims Data'!$K$10:$K$9996=M$8)*('Claims Data'!$B$10:$B$9996="TPD")*'Claims Data'!$L$10:$L$9996*'Claims Data'!$H$10:$H$9996)} -> 768400
C37: =_xlfn.NUMBERVALUE(LEFT(D37,4)) -> 2023 | D37: 2023Q1 | E37: {=SUMPRODUCT(('Claims Data'!$I$10:$I$9996=$D37)*('Claims Data'!$K$10:$K$9996=E$8)*('Claims Data'!$B$10:$B$9996="TPD")*'Claims Data'!$L$10:$L$9996*'Claims Data'!$H$10:$H$9996)} -> 0 | F37: {=SUMPRODUCT(('Claims Data'!$I$10:$I$9996=$D37)*('Claims Data'!$K$10:$K$9996=F$8)*('Claims Data'!$B$10:$B$9996="TPD")*'Claims Data'!$L$10:$L$9996*'Claims Data'!$H$10:$H$9996)} -> 96000 | G37: {=SUMPRODUCT(('Claims Data'!$I$10:$I$9996=$D37)*('Claims Data'!$K$10:$K$9996=G$8)*('Claims Data'!$B$10:$B$9996="TPD")*'Claims Data'!$L$10:$L$9996*'Claims Data'!$H$10:$H$9996)} -> 222000 | H37: {=SUMPRODUCT(('Claims Data'!$I$10:$I$9996=$D37)*('Claims Data'!$K$10:$K$9996=H$8)*('Claims Data'!$B$10:$B$9996="TPD")*'Claims Data'!$L$10:$L$9996*'Claims Data'!$H$10:$H$9996)} -> 360200 | I37: {=SUMPRODUCT(('Claims Data'!$I$10:$I$9996=$D37)*('Claims Data'!$K$10:$K$9996=I$8)*('Claims Data'!$B$10:$B$9996="TPD")*'Claims Data'!$L$10:$L$9996*'Claims Data'!$H$10:$H$9996)} -> 533600 | J37: {=SUMPRODUCT(('Claims Data'!$I$10:$I$9996=$D37)*('Claims Data'!$K$10:$K$9996=J$8)*('Claims Data'!$B$10:$B$9996="TPD")*'Claims Data'!$L$10:$L$9996*'Claims Data'!$H$10:$H$9996)} -> 415800 | K37: {=SUMPRODUCT(('Claims Data'!$I$10:$I$9996=$D37)*('Claims Data'!$K$10:$K$9996=K$8)*('Claims Data'!$B$10:$B$9996="TPD")*'Claims Data'!$L$10:$L$9996*'Claims Data'!$H$10:$H$9996)} -> 456800 | L37: {=SUMPRODUCT(('Claims Data'!$I$10:$I$9996=$D37)*('Claims Data'!$K$10:$K$9996=L$8)*('Claims Data'!$B$10:$B$9996="TPD")*'Claims Data'!$L$10:$L$9996*'Claims Data'!$H$10:$H$9996)} -> 383200
C38: =_xlfn.NUMBERVALUE(LEFT(D38,4)) -> 2023 | D38: 2023Q2 | E38: {=SUMPRODUCT(('Claims Data'!$I$10:$I$9996=$D38)*('Claims Data'!$K$10:$K$9996=E$8)*('Claims Data'!$B$10:$B$9996="TPD")*'Claims Data'!$L$10:$L$9996*'Claims Data'!$H$10:$H$9996)} -> 0 | F38: {=SUMPRODUCT(('Claims Data'!$I$10:$I$9996=$D38)*('Claims Data'!$K$10:$K$9996=F$8)*('Claims Data'!$B$10:$B$9996="TPD")*'Claims Data'!$L$10:$L$9996*'Claims Data'!$H$10:$H$9996)} -> 100000 | G38: {=SUMPRODUCT(('Claims Data'!$I$10:$I$9996=$D38)*('Claims Data'!$K$10:$K$9996=G$8)*('Claims Data'!$B$10:$B$9996="TPD")*'Claims Data'!$L$10:$L$9996*'Claims Data'!$H$10:$H$9996)} -> 243000 | H38: {=SUMPRODUCT(('Claims Data'!$I$10:$I$9996=$D38)*('Claims Data'!$K$10:$K$9996=H$8)*('Claims Data'!$B$10:$B$9996="TPD")*'Claims Data'!$L$10:$L$9996*'Claims Data'!$H$10:$H$9996)} -> 427000 | I38: {=SUMPRODUCT(('Claims Data'!$I$10:$I$9996=$D38)*('Claims Data'!$K$10:$K$9996=I$8)*('Claims Data'!$B$10:$B$9996="TPD")*'Claims Data'!$L$10:$L$9996*'Claims Data'!$H$10:$H$9996)} -> 512800 | J38: {=SUMPRODUCT(('Claims Data'!$I$10:$I$9996=$D38)*('Claims Data'!$K$10:$K$9996=J$8)*('Claims Data'!$B$10:$B$9996="TPD")*'Claims Data'!$L$10:$L$9996*'Claims Data'!$H$10:$H$9996)} -> 496400 | K38: {=SUMPRODUCT(('Claims Data'!$I$10:$I$9996=$D38)*('Claims Data'!$K$10:$K$9996=K$8)*('Claims Data'!$B$10:$B$9996="TPD")*'Claims Data'!$L$10:$L$9996*'Claims Data'!$H$10:$H$9996)} -> 445800
C39: =_xlfn.NUMBERVALUE(LEFT(D39,4)) -> 2023 | D39: 2023Q3 | E39: {=SUMPRODUCT(('Claims Data'!$I$10:$I$9996=$D39)*('Claims Data'!$K$10:$K$9996=E$8)*('Claims Data'!$B$10:$B$9996="TPD")*'Claims Data'!$L$10:$L$9996*'Claims Data'!$H$10:$H$9996)} -> 34000 | F39: {=SUMPRODUCT(('Claims Data'!$I$10:$I$9996=$D39)*('Claims Data'!$K$10:$K$9996=F$8)*('Claims Data'!$B$10:$B$9996="TPD")*'Claims Data'!$L$10:$L$9996*'Claims Data'!$H$10:$H$9996)} -> 0 | G39: {=SUMPRODUCT(('Claims Data'!$I$10:$I$9996=$D39)*('Claims Data'!$K$10:$K$9996=G$8)*('Claims Data'!$B$10:$B$9996="TPD")*'Claims Data'!$L$10:$L$9996*'Claims Data'!$H$10:$H$9996)} -> 360200 | H39: {=SUMPRODUCT(('Claims Data'!$I$10:$I$9996=$D39)*('Claims Data'!$K$10:$K$9996=H$8)*('Claims Data'!$B$10:$B$9996="TPD")*'Claims Data'!$L$10:$L$9996*'Claims Data'!$H$10:$H$9996)} -> 643400 | I39: {=SUMPRODUCT(('Claims Data'!$I$10:$I$9996=$D39)*('Claims Data'!$K$10:$K$9996=I$8)*('Claims Data'!$B$10:$B$9996="TPD")*'Claims Data'!$L$10:$L$9996*'Claims Data'!$H$10:$H$9996)} -> 419200 | J39: {=SUMPRODUCT(('Claims Data'!$I$10:$I$9996=$D39)*('Claims Data'!$K$10:$K$9996=J$8)*('Claims Data'!$B$10:$B$9996="TPD")*'Claims Data'!$L$10:$L$9996*'Claims Data'!$H$10:$H$9996)} -> 484000
C40: =_xlfn.NUMBERVALUE(LEFT(D40,4)) -> 2023 | D40: 2023Q4 | E40: {=SUMPRODUCT(('Claims Data'!$I$10:$I$9996=$D40)*('Claims Data'!$K$10:$K$9996=E$8)*('Claims Data'!$B$10:$B$9996="TPD")*'Claims Data'!$L$10:$L$9996*'Claims Data'!$H$10:$H$9996)} -> 0 | F40: {=SUMPRODUCT(('Claims Data'!$I$10:$I$9996=$D40)*('Claims Data'!$K$10:$K$9996=F$8)*('Claims Data'!$B$10:$B$9996="TPD")*'Claims Data'!$L$10:$L$9996*'Claims Data'!$H$10:$H$9996)} -> 0 | G40: {=SUMPRODUCT(('Claims Data'!$I$10:$I$9996=$D40)*('Claims Data'!$K$10:$K$9996=G$8)*('Claims Data'!$B$10:$B$9996="TPD")*'Claims Data'!$L$10:$L$9996*'Claims Data'!$H$10:$H$9996)} -> 184000 | H40: {=SUMPRODUCT(('Claims Data'!$I$10:$I$9996=$D40)*('Claims Data'!$K$10:$K$9996=H$8)*('Claims Data'!$B$10:$B$9996="TPD")*'Claims Data'!$L$10:$L$9996*'Claims Data'!$H$10:$H$9996)} -> 449600 | I40: {=SUMPRODUCT(('Claims Data'!$I$10:$I$9996=$D40)*('Claims Data'!$K$10:$K$9996=I$8)*('Claims Data'!$B$10:$B$9996="TPD")*'Claims Data'!$L$10:$L$9996*'Claims Data'!$H$10:$H$9996)} -> 548800
C41: =_xlfn.NUMBERVALUE(LEFT(D41,4)) -> 2024 | D41: 2024Q1 | E41: {=SUMPRODUCT(('Claims Data'!$I$10:$I$9996=$D41)*('Claims Data'!$K$10:$K$9996=E$8)*('Claims Data'!$B$10:$B$9996="TPD")*'Claims Data'!$L$10:$L$9996*'Claims Data'!$H$10:$H$9996)} -> 0 | F41: {=SUMPRODUCT(('Claims Data'!$I$10:$I$9996=$D41)*('Claims Data'!$K$10:$K$9996=F$8)*('Claims Data'!$B$10:$B$9996="TPD")*'Claims Data'!$L$10:$L$9996*'Claims Data'!$H$10:$H$9996)} -> 22000 | G41: {=SUMPRODUCT(('Claims Data'!$I$10:$I$9996=$D41)*('Claims Data'!$K$10:$K$9996=G$8)*('Claims Data'!$B$10:$B$9996="TPD")*'Claims Data'!$L$10:$L$9996*'Claims Data'!$H$10:$H$9996)} -> 247600 | H41: {=SUMPRODUCT(('Claims Data'!$I$10:$I$9996=$D41)*('Claims Data'!$K$10:$K$9996=H$8)*('Claims Data'!$B$10:$B$9996="TPD")*'Claims Data'!$L$10:$L$9996*'Claims Data'!$H$10:$H$9996)} -> 666600
C42: =_xlfn.NUMBERVALUE(LEFT(D42,4)) -> 2024 | D42: 2024Q2 | E42: {=SUMPRODUCT(('Claims Data'!$I$10:$I$9996=$D42)*('Claims Data'!$K$10:$K$9996=E$8)*('Claims Data'!$B$10:$B$9996="TPD")*'Claims Data'!$L$10:$L$9996*'Claims Data'!$H$10:$H$9996)} -> 0 | F42: {=SUMPRODUCT(('Claims Data'!$I$10:$I$9996=$D42)*('Claims Data'!$K$10:$K$9996=F$8)*('Claims Data'!$B$10:$B$9996="TPD")*'Claims Data'!$L$10:$L$9996*'Claims Data'!$H$10:$H$9996)} -> 10000 | G42: {=SUMPRODUCT(('Claims Data'!$I$10:$I$9996=$D42)*('Claims Data'!$K$10:$K$9996=G$8)*('Claims Data'!$B$10:$B$9996="TPD")*'Claims Data'!$L$10:$L$9996*'Claims Data'!$H$10:$H$9996)} -> 288800
C43: =_xlfn.NUMBERVALUE(LEFT(D43,4)) -> 2024 | D43: 2024Q3 | E43: {=SUMPRODUCT(('Claims Data'!$I$10:$I$9996=$D43)*('Claims Data'!$K$10:$K$9996=E$8)*('Claims Data'!$B$10:$B$9996="TPD")*'Claims Data'!$L$10:$L$9996*'Claims Data'!$H$10:$H$9996)} -> 19200 | F43: {=SUMPRODUCT(('Claims Data'!$I$10:$I$9996=$D43)*('Claims Data'!$K$10:$K$9996=F$8)*('Claims Data'!$B$10:$B$9996="TPD")*'Claims Data'!$L$10:$L$9996*'Claims Data'!$H$10:$H$9996)} -> 248000
C44: =_xlfn.NUMBERVALUE(LEFT(D44,4)) -> 2024 | D44: 2024Q4 | E44: {=SUMPRODUCT(('Claims Data'!$I$10:$I$9996=$D44)*('Claims Data'!$K$10:$K$9996=E$8)*('Claims Data'!$B$10:$B$9996="TPD")*'Claims Data'!$L$10:$L$9996*'Claims Data'!$H$10:$H$9996)} -> 63200
C46: Table 7. Cumulative - Number of Claims
E47: Development Quarter
C48: Year | D48: Quarter | E48: 0 | F48: =E48+1 -> 1 | G48: =F48+1 -> 2 | H48: =G48+1 -> 3 | I48: =H48+1 -> 4 | J48: =I48+1 -> 5 | K48: =J48+1 -> 6 | L48: =K48+1 -> 7 | M48: =L48+1 -> 8 | ... AN48: =AM48+1 -> 35
B49: Incurred Year | C49: =_xlfn.NUMBERVALUE(LEFT(D49,4)) -> 2016 | D49: 2016Q1 | E49: {=SUMPRODUCT(('Claims Data'!$I$10:$I$9996=$D49)*('Claims Data'!$K$10:$K$9996<=E$48)*('Claims Data'!$B$10:$B$9996="TPD")*'Claims Data'!$L$10:$L$9996*'Claims Data'!$H$10:$H$9996)} -> 0 | F49: {=SUMPRODUCT(('Claims Data'!$I$10:$I$9996=$D49)*('Claims Data'!$K$10:$K$9996<=F$48)*('Claims Data'!$B$10:$B$9996="TPD")*'Claims Data'!$L$10:$L$9996*'Claims Data'!$H$10:$H$9996)} -> 27000 | G49: {=SUMPRODUCT(('Claims Data'!$I$10:$I$9996=$D49)*('Claims Data'!$K$10:$K$9996<=G$48)*('Claims Data'!$B$10:$B$9996="TPD")*'Claims Data'!$L$10:$L$9996*'Claims Data'!$H$10:$H$9996)} -> 47000 | H49: {=SUMPRODUCT(('Claims Data'!$I$10:$I$9996=$D49)*('Claims Data'!$K$10:$K$9996<=H$48)*('Claims Data'!$B$10:$B$9996="TPD")*'Claims Data'!$L$10:$L$9996*'Claims Data'!$H$10:$H$9996)} -> 192000 | I49: {=SUMPRODUCT(('Claims Data'!$I$10:$I$9996=$D49)*('Claims Data'!$K$10:$K$9996<=I$48)*('Claims Data'!$B$10:$B$9996="TPD")*'Claims Data'!$L$10:$L$9996*'Claims Data'!$H$10:$H$9996)} -> 380000 | J49: {=SUMPRODUCT(('Claims Data'!$I$10:$I$9996=$D49)*('Claims Data'!$K$10:$K$9996<=J$48)*('Claims Data'!$B$10:$B$9996="TPD")*'Claims Data'!$L$10:$L$9996*'Claims Data'!$H$10:$H$9996)} -> 447000 | K49: {=SUMPRODUCT(('Claims Data'!$I$10:$I$9996=$D49)*('Claims Data'!$K$10:$K$9996<=K$48)*('Claims Data'!$B$10:$B$9996="TPD")*'Claims Data'!$L$10:$L$9996*'Claims Data'!$H$10:$H$9996)} -> 541000 | L49: {=SUMPRODUCT(('Claims Data'!$I$10:$I$9996=$D49)*('Claims Data'!$K$10:$K$9996<=L$48)*('Claims Data'!$B$10:$B$9996="TPD")*'Claims Data'!$L$10:$L$9996*'Claims Data'!$H$10:$H$9996)} -> 731000 | ... AN49: {=SUMPRODUCT(('Claims Data'!$I$10:$I$9996=$D49)*('Claims Data'!$K$10:$K$9996<=AN$48)*('Claims Data'!$B$10:$B$9996="TPD")*'Claims Data'!$L$10:$L$9996*'Claims Data'!$H$10:$H$9996)} -> 2290000
C50: =_xlfn.NUMBERVALUE(LEFT(D50,4)) -> 2016 | D50: 2016Q2 | E50: {=SUMPRODUCT(('Claims Data'!$I$10:$I$9996=$D50)*('Claims Data'!$K$10:$K$9996<=E$48)*('Claims Data'!$B$10:$B$9996="TPD")*'Claims Data'!$L$10:$L$9996*'Claims Data'!$H$10:$H$9996)} -> 0 | F50: {=SUMPRODUCT(('Claims Data'!$I$10:$I$9996=$D50)*('Claims Data'!$K$10:$K$9996<=F$48)*('Claims Data'!$B$10:$B$9996="TPD")*'Claims Data'!$L$10:$L$9996*'Claims Data'!$H$10:$H$9996)} -> 0 | G50: {=SUMPRODUCT(('Claims Data'!$I$10:$I$9996=$D50)*('Claims Data'!$K$10:$K$9996<=G$48)*('Claims Data'!$B$10:$B$9996="TPD")*'Claims Data'!$L$10:$L$9996*'Claims Data'!$H$10:$H$9996)} -> 32000 | H50: {=SUMPRODUCT(('Claims Data'!$I$10:$I$9996=$D50)*('Claims Data'!$K$10:$K$9996<=H$48)*('Claims Data'!$B$10:$B$9996="TPD")*'Claims Data'!$L$10:$L$9996*'Claims Data'!$H$10:$H$9996)} -> 32000 | I50: {=SUMPRODUCT(('Claims Data'!$I$10:$I$9996=$D50)*('Claims Data'!$K$10:$K$9996<=I$48)*('Claims Data'!$B$10:$B$9996="TPD")*'Claims Data'!$L$10:$L$9996*'Claims Data'!$H$10:$H$9996)} -> 273000 | J50: {=SUMPRODUCT(('Claims Data'!$I$10:$I$9996=$D50)*('Claims Data'!$K$10:$K$9996<=J$48)*('Claims Data'!$B$10:$B$9996="TPD")*'Claims Data'!$L$10:$L$9996*'Claims Data'!$H$10:$H$9996)} -> 384000 | K50: {=SUMPRODUCT(('Claims Data'!$I$10:$I$9996=$D50)*('Claims Data'!$K$10:$K$9996<=K$48)*('Claims Data'!$B$10:$B$9996="TPD")*'Claims Data'!$L$10:$L$9996*'Claims Data'!$H$10:$H$9996)} -> 411000 | L50: {=SUMPRODUCT(('Claims Data'!$I$10:$I$9996=$D50)*('Claims Data'!$K$10:$K$9996<=L$48)*('Claims Data'!$B$10:$B$9996="TPD")*'Claims Data'!$L$10:$L$9996*'Claims Data'!$H$10:$H$9996)} -> 685000 | ... AM50: {=SUMPRODUCT(('Claims Data'!$I$10:$I$9996=$D50)*('Claims Data'!$K$10:$K$9996<=AM$48)*('Claims Data'!$B$10:$B$9996="TPD")*'Claims Data'!$L$10:$L$9996*'Claims Data'!$H$10:$H$9996)} -> 2079800
C51: =_xlfn.NUMBERVALUE(LEFT(D51,4)) -> 2016 | D51: 2016Q3 | E51: {=SUMPRODUCT(('Claims Data'!$I$10:$I$9996=$D51)*('Claims Data'!$K$10:$K$9996<=E$48)*('Claims Data'!$B$10:$B$9996="TPD")*'Claims Data'!$L$10:$L$9996*'Claims Data'!$H$10:$H$9996)} -> 0 | F51: {=SUMPRODUCT(('Claims Data'!$I$10:$I$9996=$D51)*('Claims Data'!$K$10:$K$9996<=F$48)*('Claims Data'!$B$10:$B$9996="TPD")*'Claims Data'!$L$10:$L$9996*'Claims Data'!$H$10:$H$9996)} -> 143000 | G51: {=SUMPRODUCT(('Claims Data'!$I$10:$I$9996=$D51)*('Claims Data'!$K$10:$K$9996<=G$48)*('Claims Data'!$B$10:$B$9996="TPD")*'Claims Data'!$L$10:$L$9996*'Claims Data'!$H$10:$H$9996)} -> 181000 | H51: {=SUMPRODUCT(('Claims Data'!$I$10:$I$9996=$D51)*('Claims Data'!$K$10:$K$9996<=H$48)*('Claims Data'!$B$10:$B$9996="TPD")*'Claims Data'!$L$10:$L$9996*'Claims Data'!$H$10:$H$9996)} -> 559000 | I51: {=SUMPRODUCT(('Claims Data'!$I$10:$I$9996=$D51)*('Claims Data'!$K$10:$K$9996<=I$48)*('Claims Data'!$B$10:$B$9996="TPD")*'Claims Data'!$L$10:$L$9996*'Claims Data'!$H$10:$H$9996)} -> 1026000 | J51: {=SUMPRODUCT(('Claims Data'!$I$10:$I$9996=$D51)*('Claims Data'!$K$10:$K$9996<=J$48)*('Claims Data'!$B$10:$B$9996="TPD")*'Claims Data'!$L$10:$L$9996*'Claims Data'!$H$10:$H$9996)} -> 1103000 | K51: {=SUMPRODUCT(('Claims Data'!$I$10:$I$9996=$D51)*('Claims Data'!$K$10:$K$9996<=K$48)*('Claims Data'!$B$10:$B$9996="TPD")*'Claims Data'!$L$10:$L$9996*'Claims Data'!$H$10:$H$9996)} -> 1326000 | L51: {=SUMPRODUCT(('Claims Data'!$I$10:$I$9996=$D51)*('Claims Data'!$K$10:$K$9996<=L$48)*('Claims Data'!$B$10:$B$9996="TPD")*'Claims Data'!$L$10:$L$9996*'Claims Data'!$H$10:$H$9996)} -> 1393000 | ... AL51: {=SUMPRODUCT(('Claims Data'!$I$10:$I$9996=$D51)*('Claims Data'!$K$10:$K$9996<=AL$48)*('Claims Data'!$B$10:$B$9996="TPD")*'Claims Data'!$L$10:$L$9996*'Claims Data'!$H$10:$H$9996)} -> 3212000
C52: =_xlfn.NUMBERVALUE(LEFT(D52,4)) -> 2016 | D52: 2016Q4 | E52: {=SUMPRODUCT(('Claims Data'!$I$10:$I$9996=$D52)*('Claims Data'!$K$10:$K$9996<=E$48)*('Claims Data'!$B$10:$B$9996="TPD")*'Claims Data'!$L$10:$L$9996*'Claims Data'!$H$10:$H$9996)} -> 0 | F52: {=SUMPRODUCT(('Claims Data'!$I$10:$I$9996=$D52)*('Claims Data'!$K$10:$K$9996<=F$48)*('Claims Data'!$B$10:$B$9996="TPD")*'Claims Data'!$L$10:$L$9996*'Claims Data'!$H$10:$H$9996)} -> 195000 | G52: {=SUMPRODUCT(('Claims Data'!$I$10:$I$9996=$D52)*('Claims Data'!$K$10:$K$9996<=G$48)*('Claims Data'!$B$10:$B$9996="TPD")*'Claims Data'!$L$10:$L$9996*'Claims Data'!$H$10:$H$9996)} -> 293000 | H52: {=SUMPRODUCT(('Claims Data'!$I$10:$I$9996=$D52)*('Claims Data'!$K$10:$K$9996<=H$48)*('Claims Data'!$B$10:$B$9996="TPD")*'Claims Data'!$L$10:$L$9996*'Claims Data'!$H$10:$H$9996)} -> 544000 | I52: {=SUMPRODUCT(('Claims Data'!$I$10:$I$9996=$D52)*('Claims Data'!$K$10:$K$9996<=I$48)*('Claims Data'!$B$10:$B$9996="TPD")*'Claims Data'!$L$10:$L$9996*'Claims Data'!$H$10:$H$9996)} -> 922000 | J52: {=SUMPRODUCT(('Claims Data'!$I$10:$I$9996=$D52)*('Claims Data'!$K$10:$K$9996<=J$48)*('Claims Data'!$B$10:$B$9996="TPD")*'Claims Data'!$L$10:$L$9996*'Claims Data'!$H$10:$H$9996)} -> 1040000 | K52: {=SUMPRODUCT(('Claims Data'!$I$10:$I$9996=$D52)*('Claims Data'!$K$10:$K$9996<=K$48)*('Claims Data'!$B$10:$B$9996="TPD")*'Claims Data'!$L$10:$L$9996*'Claims Data'!$H$10:$H$9996)} -> 1108000 | L52: {=SUMPRODUCT(('Claims Data'!$I$10:$I$9996=$D52)*('Claims Data'!$K$10:$K$9996<=L$48)*('Claims Data'!$B$10:$B$9996="TPD")*'Claims Data'!$L$10:$L$9996*'Claims Data'!$H$10:$H$9996)} -> 1220000 | ... AK52: {=SUMPRODUCT(('Claims Data'!$I$10:$I$9996=$D52)*('Claims Data'!$K$10:$K$9996<=AK$48)*('Claims Data'!$B$10:$B$9996="TPD")*'Claims Data'!$L$10:$L$9996*'Claims Data'!$H$10:$H$9996)} -> 2669600
C53: =_xlfn.NUMBERVALUE(LEFT(D53,4)) -> 2017 | D53: 2017Q1 | E53: {=SUMPRODUCT(('Claims Data'!$I$10:$I$9996=$D53)*('Claims Data'!$K$10:$K$9996<=E$48)*('Claims Data'!$B$10:$B$9996="TPD")*'Claims Data'!$L$10:$L$9996*'Claims Data'!$H$10:$H$9996)} -> 0 | F53: {=SUMPRODUCT(('Claims Data'!$I$10:$I$9996=$D53)*('Claims Data'!$K$10:$K$9996<=F$48)*('Claims Data'!$B$10:$B$9996="TPD")*'Claims Data'!$L$10:$L$9996*'Claims Data'!$H$10:$H$9996)} -> 72000 | G53: {=SUMPRODUCT(('Claims Data'!$I$10:$I$9996=$D53)*('Claims Data'!$K$10:$K$9996<=G$48)*('Claims Data'!$B$10:$B$9996="TPD")*'Claims Data'!$L$10:$L$9996*'Claims Data'!$H$10:$H$9996)} -> 124000 | H53: {=SUMPRODUCT(('Claims Data'!$I$10:$I$9996=$D53)*('Claims Data'!$K$10:$K$9996<=H$48)*('Claims Data'!$B$10:$B$9996="TPD")*'Claims Data'!$L$10:$L$9996*'Claims Data'!$H$10:$H$9996)} -> 570000 | I53: {=SUMPRODUCT(('Claims Data'!$I$10:$I$9996=$D53)*('Claims Data'!$K$10:$K$9996<=I$48)*('Claims Data'!$B$10:$B$9996="TPD")*'Claims Data'!$L$10:$L$9996*'Claims Data'!$H$10:$H$9996)} -> 699000 | J53: {=SUMPRODUCT(('Claims Data'!$I$10:$I$9996=$D53)*('Claims Data'!$K$10:$K$9996<=J$48)*('Claims Data'!$B$10:$B$9996="TPD")*'Claims Data'!$L$10:$L$9996*'Claims Data'!$H$10:$H$9996)} -> 899000 | K53: {=SUMPRODUCT(('Claims Data'!$I$10:$I$9996=$D53)*('Claims Data'!$K$10:$K$9996<=K$48)*('Claims Data'!$B$10:$B$9996="TPD")*'Claims Data'!$L$10:$L$9996*'Claims Data'!$H$10:$H$9996)} -> 1018000 | L53: {=SUMPRODUCT(('Claims Data'!$I$10:$I$9996=$D53)*('Claims Data'!$K$10:$K$9996<=L$48)*('Claims Data'!$B$10:$B$9996="TPD")*'Claims Data'!$L$10:$L$9996*'Claims Data'!$H$10:$H$9996)} -> 1103000 | ... AJ53: {=SUMPRODUCT(('Claims Data'!$I$10:$I$9996=$D53)*('Claims Data'!$K$10:$K$9996<=AJ$48)*('Claims Data'!$B$10:$B$9996="TPD")*'Claims Data'!$L$10:$L$9996*'Claims Data'!$H$10:$H$9996)} -> 3575000
C54: =_xlfn.NUMBERVALUE(LEFT(D54,4)) -> 2017 | D54: 2017Q2 | E54: {=SUMPRODUCT(('Claims Data'!$I$10:$I$9996=$D54)*('Claims Data'!$K$10:$K$9996<=E$48)*('Claims Data'!$B$10:$B$9996="TPD")*'Claims Data'!$L$10:$L$9996*'Claims Data'!$H$10:$H$9996)} -> 72000 | F54: {=SUMPRODUCT(('Claims Data'!$I$10:$I$9996=$D54)*('Claims Data'!$K$10:$K$9996<=F$48)*('Claims Data'!$B$10:$B$9996="TPD")*'Claims Data'!$L$10:$L$9996*'Claims Data'!$H$10:$H$9996)} -> 97000 | G54: {=SUMPRODUCT(('Claims Data'!$I$10:$I$9996=$D54)*('Claims Data'!$K$10:$K$9996<=G$48)*('Claims Data'!$B$10:$B$9996="TPD")*'Claims Data'!$L$10:$L$9996*'Claims Data'!$H$10:$H$9996)} -> 310000 | H54: {=SUMPRODUCT(('Claims Data'!$I$10:$I$9996=$D54)*('Claims Data'!$K$10:$K$9996<=H$48)*('Claims Data'!$B$10:$B$9996="TPD")*'Claims Data'!$L$10:$L$9996*'Claims Data'!$H$10:$H$9996)} -> 774000 | I54: {=SUMPRODUCT(('Claims Data'!$I$10:$I$9996=$D54)*('Claims Data'!$K$10:$K$9996<=I$48)*('Claims Data'!$B$10:$B$9996="TPD")*'Claims Data'!$L$10:$L$9996*'Claims Data'!$H$10:$H$9996)} -> 834000 | J54: {=SUMPRODUCT(('Claims Data'!$I$10:$I$9996=$D54)*('Claims Data'!$K$10:$K$9996<=J$48)*('Claims Data'!$B$10:$B$9996="TPD")*'Claims Data'!$L$10:$L$9996*'Claims Data'!$H$10:$H$9996)} -> 982000 | K54: {=SUMPRODUCT(('Claims Data'!$I$10:$I$9996=$D54)*('Claims Data'!$K$10:$K$9996<=K$48)*('Claims Data'!$B$10:$B$9996="TPD")*'Claims Data'!$L$10:$L$9996*'Claims Data'!$H$10:$H$9996)} -> 1223000 | L54: {=SUMPRODUCT(('Claims Data'!$I$10:$I$9996=$D54)*('Claims Data'!$K$10:$K$9996<=L$48)*('Claims Data'!$B$10:$B$9996="TPD")*'Claims Data'!$L$10:$L$9996*'Claims Data'!$H$10:$H$9996)} -> 1243000 | ... AI54: {=SUMPRODUCT(('Claims Data'!$I$10:$I$9996=$D54)*('Claims Data'!$K$10:$K$9996<=AI$48)*('Claims Data'!$B$10:$B$9996="TPD")*'Claims Data'!$L$10:$L$9996*'Claims Data'!$H$10:$H$9996)} -> 3412000
C55: =_xlfn.NUMBERVALUE(LEFT(D55,4)) -> 2017 | D55: 2017Q3 | E55: {=SUMPRODUCT(('Claims Data'!$I$10:$I$9996=$D55)*('Claims Data'!$K$10:$K$9996<=E$48)*('Claims Data'!$B$10:$B$9996="TPD")*'Claims Data'!$L$10:$L$9996*'Claims Data'!$H$10:$H$9996)} -> 0 | F55: {=SUMPRODUCT(('Claims Data'!$I$10:$I$9996=$D55)*('Claims Data'!$K$10:$K$9996<=F$48)*('Claims Data'!$B$10:$B$9996="TPD")*'Claims Data'!$L$10:$L$9996*'Claims Data'!$H$10:$H$9996)} -> 135000 | G55: {=SUMPRODUCT(('Claims Data'!$I$10:$I$9996=$D55)*('Claims Data'!$K$10:$K$9996<=G$48)*('Claims Data'!$B$10:$B$9996="TPD")*'Claims Data'!$L$10:$L$9996*'Claims Data'!$H$10:$H$9996)} -> 323000 | H55: {=SUMPRODUCT(('Claims Data'!$I$10:$I$9996=$D55)*('Claims Data'!$K$10:$K$9996<=H$48)*('Claims Data'!$B$10:$B$9996="TPD")*'Claims Data'!$L$10:$L$9996*'Claims Data'!$H$10:$H$9996)} -> 498000 | I55: {=SUMPRODUCT(('Claims Data'!$I$10:$I$9996=$D55)*('Claims Data'!$K$10:$K$9996<=I$48)*('Claims Data'!$B$10:$B$9996="TPD")*'Claims Data'!$L$10:$L$9996*'Claims Data'!$H$10:$H$9996)} -> 818000 | J55: {=SUMPRODUCT(('Claims Data'!$I$10:$I$9996=$D55)*('Claims Data'!$K$10:$K$9996<=J$48)*('Claims Data'!$B$10:$B$9996="TPD")*'Claims Data'!$L$10:$L$9996*'Claims Data'!$H$10:$H$9996)} -> 877000 | K55: {=SUMPRODUCT(('Claims Data'!$I$10:$I$9996=$D55)*('Claims Data'!$K$10:$K$9996<=K$48)*('Claims Data'!$B$10:$B$9996="TPD")*'Claims Data'!$L$10:$L$9996*'Claims Data'!$H$10:$H$9996)} -> 937000 | L55: {=SUMPRODUCT(('Claims Data'!$I$10:$I$9996=$D55)*('Claims Data'!$K$10:$K$9996<=L$48)*('Claims Data'!$B$10:$B$9996="TPD")*'Claims Data'!$L$10:$L$9996*'Claims Data'!$H$10:$H$9996)} -> 977000 | ... AH55: {=SUMPRODUCT(('Claims Data'!$I$10:$I$9996=$D55)*('Claims Data'!$K$10:$K$9996<=AH$48)*('Claims Data'!$B$10:$B$9996="TPD")*'Claims Data'!$L$10:$L$9996*'Claims Data'!$H$10:$H$9996)} -> 2482400
C56: =_xlfn.NUMBERVALUE(LEFT(D56,4)) -> 2017 | D56: 2017Q4 | E56: {=SUMPRODUCT(('Claims Data'!$I$10:$I$9996=$D56)*('Claims Data'!$K$10:$K$9996<=E$48)*('Claims Data'!$B$10:$B$9996="TPD")*'Claims Data'!$L$10:$L$9996*'Claims Data'!$H$10:$H$9996)} -> 10000 | F56: {=SUMPRODUCT(('Claims Data'!$I$10:$I$9996=$D56)*('Claims Data'!$K$10:$K$9996<=F$48)*('Claims Data'!$B$10:$B$9996="TPD")*'Claims Data'!$L$10:$L$9996*'Claims Data'!$H$10:$H$9996)} -> 257000 | G56: {=SUMPRODUCT(('Claims Data'!$I$10:$I$9996=$D56)*('Claims Data'!$K$10:$K$9996<=G$48)*('Claims Data'!$B$10:$B$9996="TPD")*'Claims Data'!$L$10:$L$9996*'Claims Data'!$H$10:$H$9996)} -> 274000 | H56: {=SUMPRODUCT(('Claims Data'!$I$10:$I$9996=$D56)*('Claims Data'!$K$10:$K$9996<=H$48)*('Claims Data'!$B$10:$B$9996="TPD")*'Claims Data'!$L$10:$L$9996*'Claims Data'!$H$10:$H$9996)} -> 816000 | I56: {=SUMPRODUCT(('Claims Data'!$I$10:$I$9996=$D56)*('Claims Data'!$K$10:$K$9996<=I$48)*('Claims Data'!$B$10:$B$9996="TPD")*'Claims Data'!$L$10:$L$9996*'Claims Data'!$H$10:$H$9996)} -> 1043000 | J56: {=SUMPRODUCT(('Claims Data'!$I$10:$I$9996=$D56)*('Claims Data'!$K$10:$K$9996<=J$48)*('Claims Data'!$B$10:$B$9996="TPD")*'Claims Data'!$L$10:$L$9996*'Claims Data'!$H$10:$H$9996)} -> 1165000 | K56: {=SUMPRODUCT(('Claims Data'!$I$10:$I$9996=$D56)*('Claims Data'!$K$10:$K$9996<=K$48)*('Claims Data'!$B$10:$B$9996="TPD")*'Claims Data'!$L$10:$L$9996*'Claims Data'!$H$10:$H$9996)} -> 1165000 | L56: {=SUMPRODUCT(('Claims Data'!$I$10:$I$9996=$D56)*('Claims Data'!$K$10:$K$9996<=L$48)*('Claims Data'!$B$10:$B$9996="TPD")*'Claims Data'!$L$10:$L$9996*'Claims Data'!$H$10:$H$9996)} -> 1349000 | ... AG56: {=SUMPRODUCT(('Claims Data'!$I$10:$I$9996=$D56)*('Claims Data'!$K$10:$K$9996<=AG$48)*('Claims Data'!$B$10:$B$9996="TPD")*'Claims Data'!$L$10:$L$9996*'Claims Data'!$H$10:$H$9996)} -> 3943000
C57: =_xlfn.NUMBERVALUE(LEFT(D57,4)) -> 2018 | D57: 2018Q1 | E57: {=SUMPRODUCT(('Claims Data'!$I$10:$I$9996=$D57)*('Claims Data'!$K$10:$K$9996<=E$48)*('Claims Data'!$B$10:$B$9996="TPD")*'Claims Data'!$L$10:$L$9996*'Claims Data'!$H$10:$H$9996)} -> 0 | F57: {=SUMPRODUCT(('Claims Data'!$I$10:$I$9996=$D57)*('Claims Data'!$K$10:$K$9996<=F$48)*('Claims Data'!$B$10:$B$9996="TPD")*'Claims Data'!$L$10:$L$9996*'Claims Data'!$H$10:$H$9996)} -> 113000 | G57: {=SUMPRODUCT(('Claims Data'!$I$10:$I$9996=$D57)*('Claims Data'!$K$10:$K$9996<=G$48)*('Claims Data'!$B$10:$B$9996="TPD")*'Claims Data'!$L$10:$L$9996*'Claims Data'!$H$10:$H$9996)} -> 417000 | H57: {=SUMPRODUCT(('Claims Data'!$I$10:$I$9996=$D57)*('Claims Data'!$K$10:$K$9996<=H$48)*('Claims Data'!$B$10:$B$9996="TPD")*'Claims Data'!$L$10:$L$9996*'Claims Data'!$H$10:$H$9996)} -> 757000 | I57: {=SUMPRODUCT(('Claims Data'!$I$10:$I$9996=$D57)*('Claims Data'!$K$10:$K$9996<=I$48)*('Claims Data'!$B$10:$B$9996="TPD")*'Claims Data'!$L$10:$L$9996*'Claims Data'!$H$10:$H$9996)} -> 971000 | J57: {=SUMPRODUCT(('Claims Data'!$I$10:$I$9996=$D57)*('Claims Data'!$K$10:$K$9996<=J$48)*('Claims Data'!$B$10:$B$9996="TPD")*'Claims Data'!$L$10:$L$9996*'Claims Data'!$H$10:$H$9996)} -> 1125000 | K57: {=SUMPRODUCT(('Claims Data'!$I$10:$I$9996=$D57)*('Claims Data'!$K$10:$K$9996<=K$48)*('Claims Data'!$B$10:$B$9996="TPD")*'Claims Data'!$L$10:$L$9996*'Claims Data'!$H$10:$H$9996)} -> 1294000 | L57: {=SUMPRODUCT(('Claims Data'!$I$10:$I$9996=$D57)*('Claims Data'!$K$10:$K$9996<=L$48)*('Claims Data'!$B$10:$B$9996="TPD")*'Claims Data'!$L$10:$L$9996*'Claims Data'!$H$10:$H$9996)} -> 1332000 | ... AF57: {=SUMPRODUCT(('Claims Data'!$I$10:$I$9996=$D57)*('Claims Data'!$K$10:$K$9996<=AF$48)*('Claims Data'!$B$10:$B$9996="TPD")*'Claims Data'!$L$10:$L$9996*'Claims Data'!$H$10:$H$9996)} -> 2853600
C58: =_xlfn.NUMBERVALUE(LEFT(D58,4)) -> 2018 | D58: 2018Q2 | E58: {=SUMPRODUCT(('Claims Data'!$I$10:$I$9996=$D58)*('Claims Data'!$K$10:$K$9996<=E$48)*('Claims Data'!$B$10:$B$9996="TPD")*'Claims Data'!$L$10:$L$9996*'Claims Data'!$H$10:$H$9996)} -> 0 | F58: {=SUMPRODUCT(('Claims Data'!$I$10:$I$9996=$D58)*('Claims Data'!$K$10:$K$9996<=F$48)*('Claims Data'!$B$10:$B$9996="TPD")*'Claims Data'!$L$10:$L$9996*'Claims Data'!$H$10:$H$9996)} -> 0 | G58: {=SUMPRODUCT(('Claims Data'!$I$10:$I$9996=$D58)*('Claims Data'!$K$10:$K$9996<=G$48)*('Claims Data'!$B$10:$B$9996="TPD")*'Claims Data'!$L$10:$L$9996*'Claims Data'!$H$10:$H$9996)} -> 142000 | H58: {=SUMPRODUCT(('Claims Data'!$I$10:$I$9996=$D58)*('Claims Data'!$K$10:$K$9996<=H$48)*('Claims Data'!$B$10:$B$9996="TPD")*'Claims Data'!$L$10:$L$9996*'Claims Data'!$H$10:$H$9996)} -> 557000 | I58: {=SUMPRODUCT(('Claims Data'!$I$10:$I$9996=$D58)*('Claims Data'!$K$10:$K$9996<=I$48)*('Claims Data'!$B$10:$B$9996="TPD")*'Claims Data'!$L$10:$L$9996*'Claims Data'!$H$10:$H$9996)} -> 626000 | J58: {=SUMPRODUCT(('Claims Data'!$I$10:$I$9996=$D58)*('Claims Data'!$K$10:$K$9996<=J$48)*('Claims Data'!$B$10:$B$9996="TPD")*'Claims Data'!$L$10:$L$9996*'Claims Data'!$H$10:$H$9996)} -> 786000 | K58: {=SUMPRODUCT(('Claims Data'!$I$10:$I$9996=$D58)*('Claims Data'!$K$10:$K$9996<=K$48)*('Claims Data'!$B$10:$B$9996="TPD")*'Claims Data'!$L$10:$L$9996*'Claims Data'!$H$10:$H$9996)} -> 1225000 | L58: {=SUMPRODUCT(('Claims Data'!$I$10:$I$9996=$D58)*('Claims Data'!$K$10:$K$9996<=L$48)*('Claims Data'!$B$10:$B$9996="TPD")*'Claims Data'!$L$10:$L$9996*'Claims Data'!$H$10:$H$9996)} -> 1397000 | ... AE58: {=SUMPRODUCT(('Claims Data'!$I$10:$I$9996=$D58)*('Claims Data'!$K$10:$K$9996<=AE$48)*('Claims Data'!$B$10:$B$9996="TPD")*'Claims Data'!$L$10:$L$9996*'Claims Data'!$H$10:$H$9996)} -> 3436400
C59: =_xlfn.NUMBERVALUE(LEFT(D59,4)) -> 2018 | D59: 2018Q3 | E59: {=SUMPRODUCT(('Claims Data'!$I$10:$I$9996=$D59)*('Claims Data'!$K$10:$K$9996<=E$48)*('Claims Data'!$B$10:$B$9996="TPD")*'Claims Data'!$L$10:$L$9996*'Claims Data'!$H$10:$H$9996)} -> 0 | F59: {=SUMPRODUCT(('Claims Data'!$I$10:$I$9996=$D59)*('Claims Data'!$K$10:$K$9996<=F$48)*('Claims Data'!$B$10:$B$9996="TPD")*'Claims Data'!$L$10:$L$9996*'Claims Data'!$H$10:$H$9996)} -> 108000 | G59: {=SUMPRODUCT(('Claims Data'!$I$10:$I$9996=$D59)*('Claims Data'!$K$10:$K$9996<=G$48)*('Claims Data'!$B$10:$B$9996="TPD")*'Claims Data'!$L$10:$L$9996*'Claims Data'!$H$10:$H$9996)} -> 297000 | H59: {=SUMPRODUCT(('Claims Data'!$I$10:$I$9996=$D59)*('Claims Data'!$K$10:$K$9996<=H$48)*('Claims Data'!$B$10:$B$9996="TPD")*'Claims Data'!$L$10:$L$9996*'Claims Data'!$H$10:$H$9996)} -> 552000 | I59: {=SUMPRODUCT(('Claims Data'!$I$10:$I$9996=$D59)*('Claims Data'!$K$10:$K$9996<=I$48)*('Claims Data'!$B$10:$B$9996="TPD")*'Claims Data'!$L$10:$L$9996*'Claims Data'!$H$10:$H$9996)} -> 906000 | J59: {=SUMPRODUCT(('Claims Data'!$I$10:$I$9996=$D59)*('Claims Data'!$K$10:$K$9996<=J$48)*('Claims Data'!$B$10:$B$9996="TPD")*'Claims Data'!$L$10:$L$9996*'Claims Data'!$H$10:$H$9996)} -> 1061000 | K59: {=SUMPRODUCT(('Claims Data'!$I$10:$I$9996=$D59)*('Claims Data'!$K$10:$K$9996<=K$48)*('Claims Data'!$B$10:$B$9996="TPD")*'Claims Data'!$L$10:$L$9996*'Claims Data'!$H$10:$H$9996)} -> 1206000 | L59: {=SUMPRODUCT(('Claims Data'!$I$10:$I$9996=$D59)*('Claims Data'!$K$10:$K$9996<=L$48)*('Claims Data'!$B$10:$B$9996="TPD")*'Claims Data'!$L$10:$L$9996*'Claims Data'!$H$10:$H$9996)} -> 1405000 | ... AD59: {=SUMPRODUCT(('Claims Data'!$I$10:$I$9996=$D59)*('Claims Data'!$K$10:$K$9996<=AD$48)*('Claims Data'!$B$10:$B$9996="TPD")*'Claims Data'!$L$10:$L$9996*'Claims Data'!$H$10:$H$9996)} -> 3710000
C60: =_xlfn.NUMBERVALUE(LEFT(D60,4)) -> 2018 | D60: 2018Q4 | E60: {=SUMPRODUCT(('Claims Data'!$I$10:$I$9996=$D60)*('Claims Data'!$K$10:$K$9996<=E$48)*('Claims Data'!$B$10:$B$9996="TPD")*'Claims Data'!$L$10:$L$9996*'Claims Data'!$H$10:$H$9996)} -> 0 | F60: {=SUMPRODUCT(('Claims Data'!$I$10:$I$9996=$D60)*('Claims Data'!$K$10:$K$9996<=F$48)*('Claims Data'!$B$10:$B$9996="TPD")*'Claims Data'!$L$10:$L$9996*'Claims Data'!$H$10:$H$9996)} -> 37000 | G60: {=SUMPRODUCT(('Claims Data'!$I$10:$I$9996=$D60)*('Claims Data'!$K$10:$K$9996<=G$48)*('Claims Data'!$B$10:$B$9996="TPD")*'Claims Data'!$L$10:$L$9996*'Claims Data'!$H$10:$H$9996)} -> 390000 | H60: {=SUMPRODUCT(('Claims Data'!$I$10:$I$9996=$D60)*('Claims Data'!$K$10:$K$9996<=H$48)*('Claims Data'!$B$10:$B$9996="TPD")*'Claims Data'!$L$10:$L$9996*'Claims Data'!$H$10:$H$9996)} -> 708000 | I60: {=SUMPRODUCT(('Claims Data'!$I$10:$I$9996=$D60)*('Claims Data'!$K$10:$K$9996<=I$48)*('Claims Data'!$B$10:$B$9996="TPD")*'Claims Data'!$L$10:$L$9996*'Claims Data'!$H$10:$H$9996)} -> 917000 | J60: {=SUMPRODUCT(('Claims Data'!$I$10:$I$9996=$D60)*('Claims Data'!$K$10:$K$9996<=J$48)*('Claims Data'!$B$10:$B$9996="TPD")*'Claims Data'!$L$10:$L$9996*'Claims Data'!$H$10:$H$9996)} -> 1189000 | K60: {=SUMPRODUCT(('Claims Data'!$I$10:$I$9996=$D60)*('Claims Data'!$K$10:$K$9996<=K$48)*('Claims Data'!$B$10:$B$9996="TPD")*'Claims Data'!$L$10:$L$9996*'Claims Data'!$H$10:$H$9996)} -> 1189000 | L60: {=SUMPRODUCT(('Claims Data'!$I$10:$I$9996=$D60)*('Claims Data'!$K$10:$K$9996<=L$48)*('Claims Data'!$B$10:$B$9996="TPD")*'Claims Data'!$L$10:$L$9996*'Claims Data'!$H$10:$H$9996)} -> 1387000 | ... AC60: {=SUMPRODUCT(('Claims Data'!$I$10:$I$9996=$D60)*('Claims Data'!$K$10:$K$9996<=AC$48)*('Claims Data'!$B$10:$B$9996="TPD")*'Claims Data'!$L$10:$L$9996*'Claims Data'!$H$10:$H$9996)} -> 3277000
C61: =_xlfn.NUMBERVALUE(LEFT(D61,4)) -> 2019 | D61: 2019Q1 | E61: {=SUMPRODUCT(('Claims Data'!$I$10:$I$9996=$D61)*('Claims Data'!$K$10:$K$9996<=E$48)*('Claims Data'!$B$10:$B$9996="TPD")*'Claims Data'!$L$10:$L$9996*'Claims Data'!$H$10:$H$9996)} -> 0 | F61: {=SUMPRODUCT(('Claims Data'!$I$10:$I$9996=$D61)*('Claims Data'!$K$10:$K$9996<=F$48)*('Claims Data'!$B$10:$B$9996="TPD")*'Claims Data'!$L$10:$L$9996*'Claims Data'!$H$10:$H$9996)} -> 277000 | G61: {=SUMPRODUCT(('Claims Data'!$I$10:$I$9996=$D61)*('Claims Data'!$K$10:$K$9996<=G$48)*('Claims Data'!$B$10:$B$9996="TPD")*'Claims Data'!$L$10:$L$9996*'Claims Data'!$H$10:$H$9996)} -> 426000 | H61: {=SUMPRODUCT(('Claims Data'!$I$10:$I$9996=$D61)*('Claims Data'!$K$10:$K$9996<=H$48)*('Claims Data'!$B$10:$B$9996="TPD")*'Claims Data'!$L$10:$L$9996*'Claims Data'!$H$10:$H$9996)} -> 966000 | I61: {=SUMPRODUCT(('Claims Data'!$I$10:$I$9996=$D61)*('Claims Data'!$K$10:$K$9996<=I$48)*('Claims Data'!$B$10:$B$9996="TPD")*'Claims Data'!$L$10:$L$9996*'Claims Data'!$H$10:$H$9996)} -> 1414000 | J61: {=SUMPRODUCT(('Claims Data'!$I$10:$I$9996=$D61)*('Claims Data'!$K$10:$K$9996<=J$48)*('Claims Data'!$B$10:$B$9996="TPD")*'Claims Data'!$L$10:$L$9996*'Claims Data'!$H$10:$H$9996)} -> 1619000 | K61: {=SUMPRODUCT(('Claims Data'!$I$10:$I$9996=$D61)*('Claims Data'!$K$10:$K$9996<=K$48)*('Claims Data'!$B$10:$B$9996="TPD")*'Claims Data'!$L$10:$L$9996*'Claims Data'!$H$10:$H$9996)} -> 1790000 | L61: {=SUMPRODUCT(('Claims Data'!$I$10:$I$9996=$D61)*('Claims Data'!$K$10:$K$9996<=L$48)*('Claims Data'!$B$10:$B$9996="TPD")*'Claims Data'!$L$10:$L$9996*'Claims Data'!$H$10:$H$9996)} -> 2088000 | ... AB61: {=SUMPRODUCT(('Claims Data'!$I$10:$I$9996=$D61)*('Claims Data'!$K$10:$K$9996<=AB$48)*('Claims Data'!$B$10:$B$9996="TPD")*'Claims Data'!$L$10:$L$9996*'Claims Data'!$H$10:$H$9996)} -> 4424400
C62: =_xlfn.NUMBERVALUE(LEFT(D62,4)) -> 2019 | D62: 2019Q2 | E62: {=SUMPRODUCT(('Claims Data'!$I$10:$I$9996=$D62)*('Claims Data'!$K$10:$K$9996<=E$48)*('Claims Data'!$B$10:$B$9996="TPD")*'Claims Data'!$L$10:$L$9996*'Claims Data'!$H$10:$H$9996)} -> 44000 | F62: {=SUMPRODUCT(('Claims Data'!$I$10:$I$9996=$D62)*('Claims Data'!$K$10:$K$9996<=F$48)*('Claims Data'!$B$10:$B$9996="TPD")*'Claims Data'!$L$10:$L$9996*'Claims Data'!$H$10:$H$9996)} -> 386000 | G62: {=SUMPRODUCT(('Claims Data'!$I$10:$I$9996=$D62)*('Claims Data'!$K$10:$K$9996<=G$48)*('Claims Data'!$B$10:$B$9996="TPD")*'Claims Data'!$L$10:$L$9996*'Claims Data'!$H$10:$H$9996)} -> 465000 | H62: {=SUMPRODUCT(('Claims Data'!$I$10:$I$9996=$D62)*('Claims Data'!$K$10:$K$9996<=H$48)*('Claims Data'!$B$10:$B$9996="TPD")*'Claims Data'!$L$10:$L$9996*'Claims Data'!$H$10:$H$9996)} -> 1024000 | I62: {=SUMPRODUCT(('Claims Data'!$I$10:$I$9996=$D62)*('Claims Data'!$K$10:$K$9996<=I$48)*('Claims Data'!$B$10:$B$9996="TPD")*'Claims Data'!$L$10:$L$9996*'Claims Data'!$H$10:$H$9996)} -> 1133000 | J62: {=SUMPRODUCT(('Claims Data'!$I$10:$I$9996=$D62)*('Claims Data'!$K$10:$K$9996<=J$48)*('Claims Data'!$B$10:$B$9996="TPD")*'Claims Data'!$L$10:$L$9996*'Claims Data'!$H$10:$H$9996)} -> 1404000 | K62: {=SUMPRODUCT(('Claims Data'!$I$10:$I$9996=$D62)*('Claims Data'!$K$10:$K$9996<=K$48)*('Claims Data'!$B$10:$B$9996="TPD")*'Claims Data'!$L$10:$L$9996*'Claims Data'!$H$10:$H$9996)} -> 1756000 | L62: {=SUMPRODUCT(('Claims Data'!$I$10:$I$9996=$D62)*('Claims Data'!$K$10:$K$9996<=L$48)*('Claims Data'!$B$10:$B$9996="TPD")*'Claims Data'!$L$10:$L$9996*'Claims Data'!$H$10:$H$9996)} -> 2035000 | ... AA62: {=SUMPRODUCT(('Claims Data'!$I$10:$I$9996=$D62)*('Claims Data'!$K$10:$K$9996<=AA$48)*('Claims Data'!$B$10:$B$9996="TPD")*'Claims Data'!$L$10:$L$9996*'Claims Data'!$H$10:$H$9996)} -> 4030000
